{"text_format":"1","workbook":"xlsx","n_sheets":6,"sheets":["Portada","Principal","Resultados","Pronósticos","T","Multiplicatoria inversa"],"not_rendered":{"charts":0,"images":2,"macros":1,"external_links":0,"defined_names":40,"comments":0,"pivot_tables":0},"unopened":[],"bounds":{"document_bytes":16777216,"sheet_cells":100000,"rows_first":2000,"rows_last":500,"rows_between":2000,"halvings":0,"cell_chars":16384,"cell_head_chars":4096},"cells_cut":0,"cells_raw":0,"read":"whole","date_system":"1900"}

{"sheet":"Portada","index":0,"n_rows":6,"n_cols":6,"rows_kept":6,"cut":false,"hidden":false,"merged":[]}
[]
[]
[]
[null,null,null,null,null,"Indicadores de sosteniblidad fiscal"]
[]
[null,null,null,null,null,"DIRECCIÓN GENERAL DE FINANZAS"]

{"sheet":"Principal","index":1,"n_rows":31,"n_cols":15,"rows_kept":31,"cut":false,"hidden":false,"merged":[]}
[]
[]
[null,null,null,null,null,1,"Elija el año inicial de deuda",null,null,2016]
[]
[null,null,null,null,null,2,"Nivel de deuda inicial",null,null,{"$f":"+J9","v":50.19},"%PIB"]
[]
[null,null,null,null,null,3,"Periodos en evaluación finita",null,null,25,"1 a 25"]
[]
[null,null,null,null,null,4,"Nivel de deuda final",null,null,50.19,"%PIB"]
[]
[null,null,null,null,null,5,"Agregue pronósticos"]
[]
[null,null,null,null,null,null,"Año",{"$f":"+J3+1","v":2017},{"$f":"+H13+1","v":2018},{"$f":"+I13+1","v":2019},2020,2021,2022,2023,"Largo plazo"]
[null,null,null,null,null,null,"Ingresos presupuestarios",21.2,21.1,21,20.9,21.2,21.5,21.5,{"$f":"+O15+O16+O17","v":21.200000000000003}]
[null,null,null,null,null,null,"                 Ingresos pretroleros",3.8,3.7,3.6,3.5,3.7,3.9,3.9,{"$f":"+AVERAGE(H15:N15)","v":3.7285714285714282}]
[null,null,null,null,null,null,"                 Ingresos tributarios no petroleroes (Ʈ)",13.4,13.5,13.5,13.6,13.7,13.7,13.7,{"$f":"+AVERAGE(H16:N16)","v":13.585714285714287}]
[null,null,null,null,null,null,"                 Otros ingresos públicos",3.9999999999999982,3.9000000000000021,3.8999999999999986,3.7999999999999989,3.8000000000000007,3.9000000000000021,3.9000000000000021,{"$f":"+AVERAGE(H17:N17)","v":3.8857142857142861}]
[null,null,null,null,null,null,"Gasto público neto sin costos financieros (g)",{"$f":"+H19-H20","v":20.9},{"$f":"+I19-I20","v":20.200000000000003},{"$f":"+J19-J20","v":19.899999999999999},19.799999999999997,20,20.100000000000001,20.100000000000001,{"$f":"+O19-O20","v":20.142857142857142}]
[null,null,null,null,null,null,"Gasto público neto",23.7,23.1,23,22.9,23.2,23.5,23.5,{"$f":"+AVERAGE(H19:N19)","v":23.271428571428569}]
[null,null,null,null,null,null,"                Costos financieros",2.8,2.9,3.1,3.1,3.2,3.4,3.4,3.1285714285714277]
[null,null,null,null,null,null,"Déficit primario",{"$f":"+H18-H15-H16-H17","v":-0.30000000000000071},{"$f":"+I18-I15-I16-I17","v":-0.89999999999999858},-1.1000000000000014,-1.1000000000000014,-1.1999999999999993,-1.3999999999999986,-1.3999999999999986,{"$f":"+O18-O15-O16-O17","v":-1.0571428571428587}]
[null,null,null,null,null,null,"Tasa de interés real ( r )",3.2399999999999998E-2,4.24E-2,4.9599999999999998E-2,5.1799999999999999E-2,5.3495934959349345E-2,6.0199999999999997E-2,6.0199999999999997E-2,{"$f":"+H25","v":6.1300452985096551E-2}]
[null,null,null,null,null,null,"Tasa de crecimiento real",2.5999999999999999E-2,0.03,3.5000000000000003E-2,3.5000000000000003E-2,4.4999999999999998E-2,4.4999999999999998E-2,4.4999999999999998E-2,{"$f":"+H26","v":3.0800000000000001E-2}]
[]
[null,null,null,null,null,null,"Tasa de interés de largo plazo",6.1300452985096551E-2]
[null,null,null,null,null,null,"Tasa de crecimiento de largo plazo",3.0800000000000001E-2]
[null,null,null,null,null,null,"Notas: "]
[null,null,null,null,null,null,"Los valores de largo plazo para las variables del sector público corresponden al valor promedio de los periodos anteriores."]
[null,null,null,null,null,null,"En el horizonte de evaluación infinita se utilizan los valores de largo plazo de tasa de interés y de crecimiento económico."]
[]
[null,null,null,null,null,6,"Simulación"]

{"sheet":"Resultados","index":2,"n_rows":70,"n_cols":17,"rows_kept":70,"cut":false,"hidden":false,"merged":[]}
[]
[null,null,null,null,null,"Valores de referencia",null,null,null,"Simulacion",{"$f":"+IF(ABS(T!AJ6)<0.01,\"Ok\",\"Algo salio mal en la simulación\")","v":"Ok"}]
[null,null,null,null,null,"Año inicial o deuda inicial al año",{"$f":"+Principal!J3","v":2016}]
[null,null,null,null,null,"Periodos de evaluar en el horizonte finito",{"$f":"+Principal!J7","v":25}]
[]
[null,null,null,null,null,null,{"$f":"+G3+1","v":2017}]
[null,null,null,null,null,"Déficit primario pronosticado",{"$f":"+T!B3","v":-0.30000000000000071}]
[null,null,null,null,null,"Ingresos tributarios pronosticado",{"$f":"+T!E3","v":13.4}]
[]
[null,null,null,null,null,"Ajuste inmediato"]
[null,null,null,null,null,null,"Infinito","Finito"]
[null,null,null,null,null,"Nivel sostenible"]
[null,null,null,null,null,"          Déficit primario",{"$f":"+T!AF2","v":-1.4850773528540899},{"$f":"+T!AB2","v":-1.183737099185673}]
[null,null,null,null,null,"          Ingresos tributarios",{"$f":"+T!AG2","v":13.90237991240879},{"$f":"+T!AC2","v":13.714183130377307}]
[]
[null,null,null,null,null,"Indicadores"]
[null,null,null,null,null,"          Ajuste al déficit primario",{"$f":"+G13-$G$7","v":-1.1850773528540892},{"$f":"+H13-$G$7","v":-0.88373709918567234}]
[null,null,null,null,null,"          Ajuste a los ingresos tributarios",{"$f":"+G14-$G$8","v":0.50237991240878976},{"$f":"+H14-$G$8","v":0.31418313037730705}]
[]
[]
[null,null,null,null,null,"Análisis de sensibilidad Déficit primario"]
[null,null,null,null,null,"Horizonte infinito (r,cy constantes)"]
[]
[null,null,null,null,null,"c_y/r",0,{"$f":"+G24+0.01","v":0.01},{"$f":"+H24+0.01","v":0.02},0.03,0.04,0.05,6.0000000000000005E-2,7.0000000000000007E-2,0.08,0.09,9.9999999999999992E-2]
[null,null,null,null,null,0,{"$f":"+T!AO21-$G$7","v":0.30000000000000071},{"$f":"+T!AP21-$G$7","v":-0.2018999999999993},{"$f":"+T!AQ21-$G$7","v":-0.70379999999999932},{"$f":"+T!AR21-$G$7","v":-1.2056999999999991},{"$f":"+T!AS21-$G$7","v":-1.7075999999999993},{"$f":"+T!AT21-$G$7","v":-2.2094999999999994},{"$f":"+T!AU21-$G$7","v":-2.7113999999999994},{"$f":"+T!AV21-$G$7","v":-3.2132999999999994},{"$f":"+T!AW21-$G$7","v":-3.7151999999999994},{"$f":"+T!AX21-$G$7","v":-4.2170999999999985},{"$f":"+T!AY21-$G$7","v":-4.7189999999999985}]
[null,null,null,null,null,{"$f":"+F25+0.01","v":0.01},{"$f":"+T!AO22","v":""},{"$f":"+T!AP22-$G$7","v":0.30000000000000071},{"$f":"+T!AQ22-$G$7","v":-0.19693069306930622},{"$f":"+T!AR22-$G$7","v":-0.69386138613861292},{"$f":"+T!AS22-$G$7","v":-1.1907920792079199},{"$f":"+T!AT22-$G$7","v":-1.687722772277227},{"$f":"+T!AU22-$G$7","v":-2.1846534653465342},{"$f":"+T!AV22-$G$7","v":-2.6815841584158409},{"$f":"+T!AW22-$G$7","v":-3.178514851485148},{"$f":"+T!AX22-$G$7","v":-3.6754455445544547},{"$f":"+T!AY22-$G$7","v":-4.1723762376237614}]
[null,null,null,null,null,{"$f":"+F26+0.01","v":0.02},{"$f":"+T!AO23","v":""},{"$f":"+T!AP23","v":""},{"$f":"+T!AQ23-$G$7","v":0.30000000000000071},{"$f":"+T!AR23-$G$7","v":-0.19205882352941095},{"$f":"+T!AS23-$G$7","v":-0.68411764705882272},{"$f":"+T!AT23-$G$7","v":-1.1761764705882347},{"$f":"+T!AU23-$G$7","v":-1.6682352941176466},{"$f":"+T!AV23-$G$7","v":-2.1602941176470578},{"$f":"+T!AW23-$G$7","v":-2.6523529411764697},{"$f":"+T!AX23-$G$7","v":-3.1444117647058811},{"$f":"+T!AY23-$G$7","v":-3.6364705882352926}]
[null,null,null,null,null,0.03,{"$f":"+T!AO24","v":""},{"$f":"+T!AP24","v":""},{"$f":"+T!AQ24","v":""},{"$f":"+T!AR24-$G$7","v":0.30000000000000071},{"$f":"+T!AS24-$G$7","v":-0.18728155339805758},{"$f":"+T!AT24-$G$7","v":-0.67456310679611586},{"$f":"+T!AU24-$G$7","v":-1.1618446601941741},{"$f":"+T!AV24-$G$7","v":-1.6491262135922324},{"$f":"+T!AW24-$G$7","v":-2.1364077669902906},{"$f":"+T!AX24-$G$7","v":-2.6236893203883485},{"$f":"+T!AY24-$G$7","v":-3.1109708737864068}]
[null,null,null,null,null,0.04,{"$f":"+T!AO25","v":""},{"$f":"+T!AP25","v":""},{"$f":"+T!AQ25","v":""},{"$f":"+T!AR25","v":""},{"$f":"+T!AS25-$G$7","v":0.30000000000000071},{"$f":"+T!AT25-$G$7","v":-0.18259615384615324},{"$f":"+T!AU25-$G$7","v":-0.66519230769230719},{"$f":"+T!AV25-$G$7","v":-1.147788461538461},{"$f":"+T!AW25-$G$7","v":-1.6303846153846147},{"$f":"+T!AX25-$G$7","v":-2.1129807692307683},{"$f":"+T!AY25-$G$7","v":-2.5955769230769219}]
[null,null,null,null,null,0.05,{"$f":"+T!AO26","v":""},{"$f":"+T!AP26","v":""},{"$f":"+T!AQ26","v":""},{"$f":"+T!AR26","v":""},{"$f":"+T!AS26","v":""},{"$f":"+T!AT26-$G$7","v":0.30000000000000071},{"$f":"+T!AU26-$G$7","v":-0.17799999999999933},{"$f":"+T!AV26-$G$7","v":-0.65599999999999936},{"$f":"+T!AW26-$G$7","v":-1.1339999999999992},{"$f":"+T!AX26-$G$7","v":-1.6119999999999988},{"$f":"+T!AY26-$G$7","v":-2.0899999999999985}]
[]
[null,null,null,null,null,"Análisis de sensibilidad ingreso tributario"]
[null,null,null,null,null,"Horizonte infinito (r,cy constantes)"]
[null,null,null,null,null,"c_y/r",0,{"$f":"+G34+0.01","v":0.01},{"$f":"+H34+0.01","v":0.02},0.03,0.04,0.05,6.0000000000000005E-2,7.0000000000000007E-2,0.08,0.09,9.9999999999999992E-2]
[null,null,null,null,null,0,{"$f":"+T!AO34-$G$8","v":-1.0999999999999996},{"$f":"+T!AP34-$G$8","v":-0.55845616964506384},{"$f":"+T!AQ34-$G$8","v":-1.6912339290128031E-2},{"$f":"+T!AR34-$G$8","v":0.524631491064806},{"$f":"+T!AS34-$G$8","v":1.0661753214197418},{"$f":"+T!AT34-$G$8","v":1.6077191517746776},{"$f":"+T!AU34-$G$8","v":2.1492629821296134},{"$f":"+T!AV34-$G$8","v":2.6908068124845475},{"$f":"+T!AW34-$G$8","v":3.2323506428394833},{"$f":"+T!AX34-$G$8","v":3.7738944731944191},{"$f":"+T!AY34-$G$8","v":4.3154383035493549}]
[null,null,null,null,null,{"$f":"+F35+0.01","v":0.01},{"$f":"+T!AO35","v":""},{"$f":"+T!AP35-$G$8","v":-1.0999999999999996},{"$f":"+T!AQ35-$G$8","v":-0.56381798974758901},{"$f":"+T!AR35-$G$8","v":-2.7635979495176599E-2},{"$f":"+T!AS35-$G$8","v":0.50854603075723404},{"$f":"+T!AT35-$G$8","v":1.0447280410096464},{"$f":"+T!AU35-$G$8","v":1.5809100512620571},{"$f":"+T!AV35-$G$8","v":2.1170920615144677},{"$f":"+T!AW35-$G$8","v":2.6532740717668784},{"$f":"+T!AX35-$G$8","v":3.189456082019289},{"$f":"+T!AY35-$G$8","v":3.7256380922716996}]
[null,null,null,null,null,{"$f":"+F36+0.01","v":0.02},{"$f":"+T!AO36","v":""},{"$f":"+T!AP36","v":""},{"$f":"+T!AQ36-$G$8","v":-1.0999999999999996},{"$f":"+T!AR36-$G$8","v":-0.56907467612261264},{"$f":"+T!AS36-$G$8","v":-3.8149352245223866E-2},{"$f":"+T!AT36-$G$8","v":0.49277597163216313},{"$f":"+T!AU36-$G$8","v":1.0237012955095519},{"$f":"+T!AV36-$G$8","v":1.5546266193869389},{"$f":"+T!AW36-$G$8","v":2.0855519432643259},{"$f":"+T!AX36-$G$8","v":2.6164772671417129},{"$f":"+T!AY36-$G$8","v":3.1474025910190999}]
[null,null,null,null,null,0.03,{"$f":"+T!AO37","v":""},{"$f":"+T!AP37","v":""},{"$f":"+T!AQ37","v":""},{"$f":"+T!AR37-$G$8","v":-1.0999999999999996},{"$f":"+T!AS37-$G$8","v":-0.57422929091753794},{"$f":"+T!AT37-$G$8","v":-4.8458581835076231E-2},{"$f":"+T!AU37-$G$8","v":0.47731212724738548},{"$f":"+T!AV37-$G$8","v":1.0030828363298472},{"$f":"+T!AW37-$G$8","v":1.5288535454123089},{"$f":"+T!AX37-$G$8","v":2.0546242544947688},{"$f":"+T!AY37-$G$8","v":2.5803949635772305}]
[null,null,null,null,null,0.04,{"$f":"+T!AO38","v":""},{"$f":"+T!AP38","v":""},{"$f":"+T!AQ38","v":""},{"$f":"+T!AR38","v":""},{"$f":"+T!AS38-$G$8","v":-1.0999999999999996},{"$f":"+T!AT38-$G$8","v":-0.57928477850486892},{"$f":"+T!AU38-$G$8","v":-5.8569557009738205E-2},{"$f":"+T!AV38-$G$8","v":0.46214566448539074},{"$f":"+T!AW38-$G$8","v":0.98286088598052146},{"$f":"+T!AX38-$G$8","v":1.5035761074756504},{"$f":"+T!AY38-$G$8","v":2.0242913289707811}]
[null,null,null,null,null,0.05,{"$f":"+T!AO39","v":""},{"$f":"+T!AP39","v":""},{"$f":"+T!AQ39","v":""},{"$f":"+T!AR39","v":""},{"$f":"+T!AS39","v":""},{"$f":"+T!AT39-$G$8","v":-1.0999999999999996},{"$f":"+T!AU39-$G$8","v":-0.58424397109053672},{"$f":"+T!AV39-$G$8","v":-6.8487942181075567E-2},{"$f":"+T!AW39-$G$8","v":0.44726808672838736},{"$f":"+T!AX39-$G$8","v":0.96302411563784851},{"$f":"+T!AY39-$G$8","v":1.4787801445473114}]
[]
[]
[]
[null,null,null,null,null,"Senda sostenible e indicadores"]
[]
[null,null,null,null,null,null,{"$f":"+Principal!J3+1","v":2017},{"$f":"+G46+1","v":2018},{"$f":"+H46+1","v":2019},2020,2021,2022,2023,2024,2025,2026,2027]
[null,null,null,null,null,"Valores de referencia"]
[null,null,null,null,null,"          Déficit primario pronosticado",{"$f":"+VLOOKUP(G$46,T!$A$2:$E$32,2,FALSE)","v":-0.89999999999999858},{"$f":"+VLOOKUP(H$46,T!$A$2:$E$32,2,FALSE)","v":-1.1000000000000014},{"$f":"+VLOOKUP(I$46,T!$A$2:$E$32,2,FALSE)","v":-1.1000000000000014},{"$f":"+VLOOKUP(J$46,T!$A$2:$E$32,2,FALSE)","v":-1.1999999999999993},{"$f":"+VLOOKUP(K$46,T!$A$2:$E$32,2,FALSE)","v":-1.3999999999999986},{"$f":"+VLOOKUP(L$46,T!$A$2:$E$32,2,FALSE)","v":-1.3999999999999986},{"$f":"+VLOOKUP(M$46,T!$A$2:$E$32,2,FALSE)","v":-1.0571428571428587},{"$f":"+VLOOKUP(N$46,T!$A$2:$E$32,2,FALSE)","v":-1.0571428571428587},{"$f":"+VLOOKUP(O$46,T!$A$2:$E$32,2,FALSE)","v":-1.0571428571428587},{"$f":"+VLOOKUP(P$46,T!$A$2:$E$32,2,FALSE)","v":-1.0571428571428587},{"$f":"+VLOOKUP(Q$46,T!$A$2:$E$32,2,FALSE)","v":-1.0571428571428587}]
[null,null,null,null,null,"          Ingresos tributarios pronosticado",{"$f":"+VLOOKUP(G$46,T!$A$2:$E$32,5,FALSE)","v":13.5},{"$f":"+VLOOKUP(H$46,T!$A$2:$E$32,5,FALSE)","v":13.5},{"$f":"+VLOOKUP(I$46,T!$A$2:$E$32,5,FALSE)","v":13.6},{"$f":"+VLOOKUP(J$46,T!$A$2:$E$32,5,FALSE)","v":13.7},{"$f":"+VLOOKUP(K$46,T!$A$2:$E$32,5,FALSE)","v":13.7},{"$f":"+VLOOKUP(L$46,T!$A$2:$E$32,5,FALSE)","v":13.7},{"$f":"+VLOOKUP(M$46,T!$A$2:$E$32,5,FALSE)","v":13.585714285714287},{"$f":"+VLOOKUP(N$46,T!$A$2:$E$32,5,FALSE)","v":13.585714285714287},{"$f":"+VLOOKUP(O$46,T!$A$2:$E$32,5,FALSE)","v":13.585714285714287},{"$f":"+VLOOKUP(P$46,T!$A$2:$E$32,5,FALSE)","v":13.585714285714287},{"$f":"+VLOOKUP(Q$46,T!$A$2:$E$32,5,FALSE)","v":13.585714285714287}]
[null,null,null,null,null,"          tasa de interés",{"$f":"+T!G3","v":3.2399999999999998E-2},{"$f":"+T!G4","v":4.24E-2},{"$f":"+T!G5","v":4.9599999999999998E-2},{"$f":"+T!G6","v":5.1799999999999999E-2},{"$f":"+T!G7","v":5.3495934959349345E-2},{"$f":"+T!G8","v":6.0199999999999997E-2},{"$f":"+T!G9","v":6.0199999999999997E-2},{"$f":"+T!G10","v":6.1300452985096551E-2},{"$f":"+T!G11","v":6.1300452985096551E-2},{"$f":"+T!G12","v":6.1300452985096551E-2},{"$f":"+T!G13","v":6.1300452985096551E-2}]
[null,null,null,null,null,"          tasa de crecimiento del PIB",{"$f":"+T!H3","v":2.5999999999999999E-2},{"$f":"+T!H4","v":0.03},{"$f":"+T!H5","v":3.5000000000000003E-2},{"$f":"+T!H6","v":3.5000000000000003E-2},{"$f":"+T!H7","v":4.4999999999999998E-2},{"$f":"+T!H8","v":4.4999999999999998E-2},{"$f":"+T!H9","v":4.4999999999999998E-2},{"$f":"+T!H10","v":3.0800000000000001E-2},{"$f":"+T!H11","v":3.0800000000000001E-2},{"$f":"+T!H12","v":3.0800000000000001E-2},{"$f":"+T!H13","v":3.0800000000000001E-2}]
[null,null,null,null,null,"          tasa de interés (largo plazo)",{"$f":"+Principal!H25","v":6.1300452985096551E-2}]
[null,null,null,null,null,"          tasa de crecimiento del PIB (largo plazo)",{"$f":"+Principal!H26","v":3.0800000000000001E-2}]
[]
[null,null,null,null,null,"Horizonte infinito"]
[null,null,null,null,null,"          Déficit primario sostenible",{"$f":"+VLOOKUP(G$46,T!$AQ$3:$AS$13,2,FALSE)","v":-1.4850773528540899},{"$f":"+VLOOKUP(H$46,T!$AQ$3:$AS$13,2,FALSE)","v":-1.4854642607282598},{"$f":"+VLOOKUP(I$46,T!$AQ$3:$AS$13,2,FALSE)","v":-1.4767173221889625},{"$f":"+VLOOKUP(J$46,T!$AQ$3:$AS$13,2,FALSE)","v":-1.4650002912124762},{"$f":"+VLOOKUP(K$46,T!$AQ$3:$AS$13,2,FALSE)","v":-1.4562319867948412},{"$f":"+VLOOKUP(L$46,T!$AQ$3:$AS$13,2,FALSE)","v":-1.4325643411063389},{"$f":"+VLOOKUP(M$46,T!$AQ$3:$AS$13,2,FALSE)","v":-1.4119768887903532},{"$f":"+VLOOKUP(N$46,T!$AQ$3:$AS$13,2,FALSE)","v":-1.3910899826224985},{"$f":"+VLOOKUP(O$46,T!$AQ$3:$AS$13,2,FALSE)","v":-1.4009711803332086},{"$f":"+VLOOKUP(P$46,T!$AQ$3:$AS$13,2,FALSE)","v":-1.4111447538745472},{"$f":"+VLOOKUP(Q$46,T!$AQ$3:$AS$13,2,FALSE)","v":-1.4216193543866735}]
[null,null,null,null,null,"          Brecha",{"$f":"+G56-G48","v":-0.58507735285409135},{"$f":"+H56-H48","v":-0.38546426072825835},{"$f":"+I56-I48","v":-0.37671732218896103},-0.26500029121247692,-5.6231986794842648E-2,-3.2564341106340322E-2,-0.3548340316474945,{"$f":"+N56-N48","v":-0.33394712547963978},{"$f":"+O56-O48","v":-0.34382832319034984},{"$f":"+P56-P48","v":-0.35400189673168847},{"$f":"+Q56-Q48","v":-0.36447649724381481}]
[null,null,null,null,null,"          Ingresos tributarios sostenible",{"$f":"+VLOOKUP(G$46,T!$AQ$3:$AS$13,3,FALSE)","v":13.90237991240879},{"$f":"+VLOOKUP(H$46,T!$AQ$3:$AS$13,3,FALSE)","v":13.882566411682507},{"$f":"+VLOOKUP(I$46,T!$AQ$3:$AS$13,3,FALSE)","v":13.867815906684539},{"$f":"+VLOOKUP(J$46,T!$AQ$3:$AS$13,3,FALSE)","v":13.855835490759379},{"$f":"+VLOOKUP(K$46,T!$AQ$3:$AS$13,3,FALSE)","v":13.843837097222762},{"$f":"+VLOOKUP(L$46,T!$AQ$3:$AS$13,3,FALSE)","v":13.816843786958048},{"$f":"+VLOOKUP(M$46,T!$AQ$3:$AS$13,3,FALSE)","v":13.798750088305052},{"$f":"+VLOOKUP(N$46,T!$AQ$3:$AS$13,3,FALSE)","v":13.780430723747758},{"$f":"+VLOOKUP(O$46,T!$AQ$3:$AS$13,3,FALSE)","v":13.786192209548751},{"$f":"+VLOOKUP(P$46,T!$AQ$3:$AS$13,3,FALSE)","v":13.792124172577916},{"$f":"+VLOOKUP(Q$46,T!$AQ$3:$AS$13,3,FALSE)","v":13.798231657104443}]
[null,null,null,null,null,"          Brecha",{"$f":"+G58-G49","v":0.40237991240879012},{"$f":"+H58-H49","v":0.38256641168250738},0.26781590668453958,0.15583549075937952,0.14383709722276272,0.11684378695804831,0.21303580259076504,0.1947164380334705,0.20047792383446428,0.2064098868636286,0.21251737139015603]
[]
[null,null,null,null,null,{"$f":"+\"Horizonte finito\"&\" \"&\"(T=\"&G4&\")\"","v":"Horizonte finito (T=25)"}]
[null,null,null,null,null,"          Déficit primario sostenible",{"$f":"IF(G$46>$G$46+$G$4-1,\"\",VLOOKUP(G$46,T!$AM$3:$AO$13,2,FALSE))","v":-1.183737099185673},{"$f":"IF(H$46>$G$46+$G$4-1,\"\",VLOOKUP(H$46,T!$AM$3:$AO$13,2,FALSE))","v":-1.2315378643942743},{"$f":"IF(I$46>$G$46+$G$4-1,\"\",VLOOKUP(I$46,T!$AM$3:$AO$13,2,FALSE))","v":-1.2502309577104829},{"$f":"IF(J$46>$G$46+$G$4-1,\"\",VLOOKUP(J$46,T!$AM$3:$AO$13,2,FALSE))","v":-1.2591160047150294},{"$f":"IF(K$46>$G$46+$G$4-1,\"\",VLOOKUP(K$46,T!$AM$3:$AO$13,2,FALSE))","v":-1.2689611524127087},{"$f":"IF(L$46>$G$46+$G$4-1,\"\",VLOOKUP(L$46,T!$AM$3:$AO$13,2,FALSE))","v":-1.2734096181747681},{"$f":"IF(M$46>$G$46+$G$4-1,\"\",VLOOKUP(M$46,T!$AM$3:$AO$13,2,FALSE))","v":-1.2647960294855365},{"$f":"IF(N$46>$G$46+$G$4-1,\"\",VLOOKUP(N$46,T!$AM$3:$AO$13,2,FALSE))","v":-1.2550047198392005},{"$f":"IF(O$46>$G$46+$G$4-1,\"\",VLOOKUP(O$46,T!$AM$3:$AO$13,2,FALSE))","v":-1.2698621799267968},{"$f":"IF(P$46>$G$46+$G$4-1,\"\",VLOOKUP(P$46,T!$AM$3:$AO$13,2,FALSE))","v":-1.2868115997937293},{"$f":"IF(Q$46>$G$46+$G$4-1,\"\",VLOOKUP(Q$46,T!$AM$3:$AO$13,2,FALSE))","v":-1.3059247364038853}]
[null,null,null,null,null,"          Brecha",{"$f":"IF(G62=\"\",\"\",G62-G48)","v":-0.28373709918567447},{"$f":"IF(H62=\"\",\"\",H62-H48)","v":-0.13153786439427284},-0.15023095771048145,-5.911600471503009E-2,0.1310388475872899,0.12659038182523052,-0.20765317234267777,-0.19786186269634176,-0.21271932278393813,-0.22966874265087056,-0.24878187926102657]
[null,null,null,null,null,"          Ingresos tributarios sostenible",{"$f":"IF(G$46>$G$46+$G$4-1,\"\",VLOOKUP(G$46,T!$AM$3:$AO$13,3,FALSE))","v":13.714183130377307},{"$f":"IF(H$46>$G$46+$G$4-1,\"\",VLOOKUP(H$46,T!$AM$3:$AO$13,3,FALSE))","v":13.731177934885221},{"$f":"IF(I$46>$G$46+$G$4-1,\"\",VLOOKUP(I$46,T!$AM$3:$AO$13,3,FALSE))","v":13.744313173423386},{"$f":"IF(J$46>$G$46+$G$4-1,\"\",VLOOKUP(J$46,T!$AM$3:$AO$13,3,FALSE))","v":13.758706781349938},{"$f":"IF(K$46>$G$46+$G$4-1,\"\",VLOOKUP(K$46,T!$AM$3:$AO$13,3,FALSE))","v":13.768463607944165},{"$f":"IF(L$46>$G$46+$G$4-1,\"\",VLOOKUP(L$46,T!$AM$3:$AO$13,3,FALSE))","v":13.77287134237112},{"$f":"IF(M$46>$G$46+$G$4-1,\"\",VLOOKUP(M$46,T!$AM$3:$AO$13,3,FALSE))","v":13.777869544297165},{"$f":"IF(N$46>$G$46+$G$4-1,\"\",VLOOKUP(N$46,T!$AM$3:$AO$13,3,FALSE))","v":13.783482507341619},{"$f":"IF(O$46>$G$46+$G$4-1,\"\",VLOOKUP(O$46,T!$AM$3:$AO$13,3,FALSE))","v":13.798450752515055},{"$f":"IF(P$46>$G$46+$G$4-1,\"\",VLOOKUP(P$46,T!$AM$3:$AO$13,3,FALSE))","v":13.815375896571208},{"$f":"IF(Q$46>$G$46+$G$4-1,\"\",VLOOKUP(Q$46,T!$AM$3:$AO$13,3,FALSE))","v":13.83453123757319}]
[null,null,null,null,null,"          Brecha",{"$f":"IF(G63=\"\",\"\",G64-G49)","v":0.21418313037730741},{"$f":"IF(H63=\"\",\"\",H64-H49)","v":0.23117793488522054},{"$f":"IF(I63=\"\",\"\",I64-I49)","v":0.14431317342338623},{"$f":"IF(J63=\"\",\"\",J64-J49)","v":5.8706781349938453E-2},{"$f":"IF(K63=\"\",\"\",K64-K49)","v":6.8463607944165616E-2},{"$f":"IF(L63=\"\",\"\",L64-L49)","v":7.2871342371120917E-2},{"$f":"IF(M63=\"\",\"\",M64-M49)","v":0.19215525858287741},{"$f":"IF(N63=\"\",\"\",N64-N49)","v":0.19776822162733154},{"$f":"IF(O63=\"\",\"\",O64-O49)","v":0.2127364668007683},{"$f":"IF(P63=\"\",\"\",P64-P49)","v":0.22966161085692072},{"$f":"IF(Q63=\"\",\"\",Q64-Q49)","v":0.24881695185890251}]
[]
[null,null,null,null,null,"Evolución de la deuda con ingreso tributario sostenible implementado desde 2016"]
[null,null,null,null,null,"          Pronosticada",{"$f":"+T!T3","v":50.203076023391816},{"$f":"+T!T4","v":49.907462569692839},{"$f":"+T!T5","v":49.511471220434402},{"$f":"+T!T6","v":49.215135680824069},{"$f":"+T!T7","v":48.415258735139716},{"$f":"+T!T8","v":47.719480680378119},{"$f":"+T!T9","v":47.01358221754726},{"$f":"+T!T10","v":47.347529343026899},{"$f":"+T!T11","v":47.69135766621725},{"$f":"+T!T12","v":48.045359562948939},{"$f":"+T!T13","v":48.40983606019276}]
[null,null,null,null,null,"          H. infinito",{"$f":"+T!X3","v":49.700696110983024},{"$f":"+T!X4","v":48.996654676026843},{"$f":"+T!X5","v":48.185435303009349},{"$f":"+T!X6","v":47.565195789721876},{"$f":"+T!X7","v":46.549524786172611},{"$f":"+T!X8","v":45.62422887065361},{"$f":"+T!X9","v":44.685474105454333},{"$f":"+T!X10","v":44.633868960839095},{"$f":"+T!X11","v":44.580736866003519},{"$f":"+T!X12","v":44.526032639851934},{"$f":"+T!X13","v":44.469709764420358}]
[null,null,null,null,null,{"$f":"+\"          H. finito T = \"&G4","v":"          H. finito T = 25"},{"$f":"+IF(G65=\"\",\"\",T!V3)","v":49.888892893014507},{"$f":"+IF(H65=\"\",\"\",T!V4)","v":49.37531391008708},{"$f":"+IF(I65=\"\",\"\",T!V5)","v":48.757632792354478},{"$f":"+IF(J65=\"\",\"\",T!V6)","v":48.334877904403804},{"$f":"+IF(K65=\"\",\"\",T!V7)","v":47.513661261054168},{"$f":"+IF(L65=\"\",\"\",T!V8)","v":46.790585930837651},{"$f":"+IF(M65=\"\",\"\",T!V9)","v":46.056993141272528},{"$f":"+IF(N65=\"\",\"\",T!V10)","v":46.234166804173967},{"$f":"+IF(O65=\"\",\"\",T!V11)","v":46.416582877800593},{"$f":"+IF(P65=\"\",\"\",T!V12)","v":46.604396480411864},{"$f":"+IF(Q65=\"\",\"\",T!V12)","v":46.604396480411864}]

{"sheet":"Pronósticos","index":3,"n_rows":31,"n_cols":11,"rows_kept":31,"cut":false,"hidden":true,"merged":[]}
["Año","dp_t","g_t","ip_t","tau_t","i_otros_t ","r_t","c_y_t","Gasto_neto total","I_presupuestarios","Costo_finan"]
[{"$f":"+Principal!J3+1","v":2017},{"$f":"+HLOOKUP($A2,Principal!$H$13:$O$23,9,FALSE)","v":-0.30000000000000071},{"$f":"+HLOOKUP($A2,Principal!$H$13:$O$23,6,FALSE)","v":20.9},{"$f":"+HLOOKUP($A2,Principal!$H$13:$O$23,3,FALSE)","v":3.8},{"$f":"+HLOOKUP($A2,Principal!$H$13:$O$23,4,FALSE)","v":13.4},{"$f":"+HLOOKUP($A2,Principal!$H$13:$O$23,5,FALSE)","v":3.9999999999999982},{"$f":"+HLOOKUP($A2,Principal!$H$13:$O$23,10,FALSE)","v":3.2399999999999998E-2},{"$f":"+HLOOKUP($A2,Principal!$H$13:$O$23,11,FALSE)","v":2.5999999999999999E-2},{"$f":"+HLOOKUP($A2,Principal!$H$13:$O$23,6,FALSE)","v":20.9},{"$f":"+HLOOKUP($A2,Principal!$H$13:$O$23,2,FALSE)","v":21.2},{"$f":"+HLOOKUP($A2,Principal!$H$13:$O$23,8,FALSE)","v":2.8}]
[{"$f":"+A2+1","v":2018},{"$f":"+HLOOKUP($A3,Principal!$H$13:$O$23,9,FALSE)","v":-0.89999999999999858},{"$f":"+HLOOKUP($A3,Principal!$H$13:$O$23,6,FALSE)","v":20.200000000000003},{"$f":"+HLOOKUP($A3,Principal!$H$13:$O$23,3,FALSE)","v":3.7},{"$f":"+HLOOKUP($A3,Principal!$H$13:$O$23,4,FALSE)","v":13.5},{"$f":"+HLOOKUP($A3,Principal!$H$13:$O$23,5,FALSE)","v":3.9000000000000021},{"$f":"+HLOOKUP($A3,Principal!$H$13:$O$23,10,FALSE)","v":4.24E-2},{"$f":"+HLOOKUP($A3,Principal!$H$13:$O$23,11,FALSE)","v":0.03},{"$f":"+HLOOKUP($A3,Principal!$H$13:$O$23,6,FALSE)","v":20.200000000000003},{"$f":"+HLOOKUP($A3,Principal!$H$13:$O$23,2,FALSE)","v":21.1},{"$f":"+HLOOKUP($A3,Principal!$H$13:$O$23,8,FALSE)","v":2.9}]
[{"$f":"+A3+1","v":2019},{"$f":"+HLOOKUP($A4,Principal!$H$13:$O$23,9,FALSE)","v":-1.1000000000000014},{"$f":"+HLOOKUP($A4,Principal!$H$13:$O$23,6,FALSE)","v":19.899999999999999},{"$f":"+HLOOKUP($A4,Principal!$H$13:$O$23,3,FALSE)","v":3.6},{"$f":"+HLOOKUP($A4,Principal!$H$13:$O$23,4,FALSE)","v":13.5},{"$f":"+HLOOKUP($A4,Principal!$H$13:$O$23,5,FALSE)","v":3.8999999999999986},{"$f":"+HLOOKUP($A4,Principal!$H$13:$O$23,10,FALSE)","v":4.9599999999999998E-2},{"$f":"+HLOOKUP($A4,Principal!$H$13:$O$23,11,FALSE)","v":3.5000000000000003E-2},{"$f":"+HLOOKUP($A4,Principal!$H$13:$O$23,6,FALSE)","v":19.899999999999999},{"$f":"+HLOOKUP($A4,Principal!$H$13:$O$23,2,FALSE)","v":21},{"$f":"+HLOOKUP($A4,Principal!$H$13:$O$23,8,FALSE)","v":3.1}]
[2020,{"$f":"+HLOOKUP($A5,Principal!$H$13:$O$23,9,FALSE)","v":-1.1000000000000014},{"$f":"+HLOOKUP($A5,Principal!$H$13:$O$23,6,FALSE)","v":19.799999999999997},{"$f":"+HLOOKUP($A5,Principal!$H$13:$O$23,3,FALSE)","v":3.5},{"$f":"+HLOOKUP($A5,Principal!$H$13:$O$23,4,FALSE)","v":13.6},{"$f":"+HLOOKUP($A5,Principal!$H$13:$O$23,5,FALSE)","v":3.7999999999999989},{"$f":"+HLOOKUP($A5,Principal!$H$13:$O$23,10,FALSE)","v":5.1799999999999999E-2},{"$f":"+HLOOKUP($A5,Principal!$H$13:$O$23,11,FALSE)","v":3.5000000000000003E-2},{"$f":"+HLOOKUP($A5,Principal!$H$13:$O$23,6,FALSE)","v":19.799999999999997},{"$f":"+HLOOKUP($A5,Principal!$H$13:$O$23,2,FALSE)","v":20.9},{"$f":"+HLOOKUP($A5,Principal!$H$13:$O$23,8,FALSE)","v":3.1}]
[2021,{"$f":"+HLOOKUP($A6,Principal!$H$13:$O$23,9,FALSE)","v":-1.1999999999999993},{"$f":"+HLOOKUP($A6,Principal!$H$13:$O$23,6,FALSE)","v":20},{"$f":"+HLOOKUP($A6,Principal!$H$13:$O$23,3,FALSE)","v":3.7},{"$f":"+HLOOKUP($A6,Principal!$H$13:$O$23,4,FALSE)","v":13.7},{"$f":"+HLOOKUP($A6,Principal!$H$13:$O$23,5,FALSE)","v":3.8000000000000007},{"$f":"+HLOOKUP($A6,Principal!$H$13:$O$23,10,FALSE)","v":5.3495934959349345E-2},{"$f":"+HLOOKUP($A6,Principal!$H$13:$O$23,11,FALSE)","v":4.4999999999999998E-2},{"$f":"+HLOOKUP($A6,Principal!$H$13:$O$23,6,FALSE)","v":20},{"$f":"+HLOOKUP($A6,Principal!$H$13:$O$23,2,FALSE)","v":21.2},{"$f":"+HLOOKUP($A6,Principal!$H$13:$O$23,8,FALSE)","v":3.2}]
[2022,{"$f":"+HLOOKUP($A7,Principal!$H$13:$O$23,9,FALSE)","v":-1.3999999999999986},{"$f":"+HLOOKUP($A7,Principal!$H$13:$O$23,6,FALSE)","v":20.100000000000001},{"$f":"+HLOOKUP($A7,Principal!$H$13:$O$23,3,FALSE)","v":3.9},{"$f":"+HLOOKUP($A7,Principal!$H$13:$O$23,4,FALSE)","v":13.7},{"$f":"+HLOOKUP($A7,Principal!$H$13:$O$23,5,FALSE)","v":3.9000000000000021},{"$f":"+HLOOKUP($A7,Principal!$H$13:$O$23,10,FALSE)","v":6.0199999999999997E-2},{"$f":"+HLOOKUP($A7,Principal!$H$13:$O$23,11,FALSE)","v":4.4999999999999998E-2},{"$f":"+HLOOKUP($A7,Principal!$H$13:$O$23,6,FALSE)","v":20.100000000000001},{"$f":"+HLOOKUP($A7,Principal!$H$13:$O$23,2,FALSE)","v":21.5},{"$f":"+HLOOKUP($A7,Principal!$H$13:$O$23,8,FALSE)","v":3.4}]
[2023,{"$f":"+HLOOKUP($A8,Principal!$H$13:$O$23,9,FALSE)","v":-1.3999999999999986},{"$f":"+HLOOKUP($A8,Principal!$H$13:$O$23,6,FALSE)","v":20.100000000000001},{"$f":"+HLOOKUP($A8,Principal!$H$13:$O$23,3,FALSE)","v":3.9},{"$f":"+HLOOKUP($A8,Principal!$H$13:$O$23,4,FALSE)","v":13.7},{"$f":"+HLOOKUP($A8,Principal!$H$13:$O$23,5,FALSE)","v":3.9000000000000021},{"$f":"+HLOOKUP($A8,Principal!$H$13:$O$23,10,FALSE)","v":6.0199999999999997E-2},{"$f":"+HLOOKUP($A8,Principal!$H$13:$O$23,11,FALSE)","v":4.4999999999999998E-2},{"$f":"+HLOOKUP($A8,Principal!$H$13:$O$23,6,FALSE)","v":20.100000000000001},{"$f":"+HLOOKUP($A8,Principal!$H$13:$O$23,2,FALSE)","v":21.5},{"$f":"+HLOOKUP($A8,Principal!$H$13:$O$23,8,FALSE)","v":3.4}]
[2024,{"$f":"+HLOOKUP(\"Largo plazo\",Principal!$H$13:$O$23,9,FALSE)","v":-1.0571428571428587},{"$f":"+HLOOKUP(\"Largo plazo\",Principal!$H$13:$O$23,6,FALSE)","v":20.142857142857142},{"$f":"+HLOOKUP(\"Largo plazo\",Principal!$H$13:$O$23,3,FALSE)","v":3.7285714285714282},{"$f":"+HLOOKUP(\"Largo plazo\",Principal!$H$13:$O$23,4,FALSE)","v":13.585714285714287},{"$f":"+HLOOKUP(\"Largo plazo\",Principal!$H$13:$O$23,5,FALSE)","v":3.8857142857142861},{"$f":"+HLOOKUP(\"Largo plazo\",Principal!$H$13:$O$23,10,FALSE)","v":6.1300452985096551E-2},{"$f":"+HLOOKUP(\"Largo plazo\",Principal!$H$13:$O$23,11,FALSE)","v":3.0800000000000001E-2},{"$f":"+HLOOKUP(\"Largo plazo\",Principal!$H$13:$O$23,6,FALSE)","v":20.142857142857142},{"$f":"+HLOOKUP(\"Largo plazo\",Principal!$H$13:$O$23,2,FALSE)","v":21.200000000000003},{"$f":"+HLOOKUP(\"Largo plazo\",Principal!$H$13:$O$23,8,FALSE)","v":3.1285714285714277}]
[2025,{"$f":"+B9","v":-1.0571428571428587},{"$f":"+C9","v":20.142857142857142},{"$f":"+D9","v":3.7285714285714282},{"$f":"+E9","v":13.585714285714287},{"$f":"+F9","v":3.8857142857142861},{"$f":"+G9","v":6.1300452985096551E-2},{"$f":"+H9","v":3.0800000000000001E-2},{"$f":"+I9","v":20.142857142857142},{"$f":"+J9","v":21.200000000000003},{"$f":"+K9","v":3.1285714285714277}]
[2026,-1.0571428571428587,20.142857142857142,3.7285714285714282,13.585714285714287,3.8857142857142861,6.1300452985096551E-2,3.0800000000000001E-2,20.142857142857142,21.200000000000003,3.1285714285714277]
[2027,-1.0571428571428587,20.142857142857142,3.7285714285714282,13.585714285714287,3.8857142857142861,6.1300452985096551E-2,3.0800000000000001E-2,20.142857142857142,21.200000000000003,3.1285714285714277]
[2028,-1.0571428571428587,20.142857142857142,3.7285714285714282,13.585714285714287,3.8857142857142861,6.1300452985096551E-2,3.0800000000000001E-2,20.142857142857142,21.200000000000003,3.1285714285714277]
[2029,-1.0571428571428587,20.142857142857142,3.7285714285714282,13.585714285714287,3.8857142857142861,6.1300452985096551E-2,3.0800000000000001E-2,20.142857142857142,21.200000000000003,3.1285714285714277]
[2030,-1.0571428571428587,20.142857142857142,3.7285714285714282,13.585714285714287,3.8857142857142861,6.1300452985096551E-2,3.0800000000000001E-2,20.142857142857142,21.200000000000003,3.1285714285714277]
[2031,-1.0571428571428587,20.142857142857142,3.7285714285714282,13.585714285714287,3.8857142857142861,6.1300452985096551E-2,3.0800000000000001E-2,20.142857142857142,21.200000000000003,3.1285714285714277]
[2032,-1.0571428571428587,20.142857142857142,3.7285714285714282,13.585714285714287,3.8857142857142861,6.1300452985096551E-2,3.0800000000000001E-2,20.142857142857142,21.200000000000003,3.1285714285714277]
[2033,-1.0571428571428587,20.142857142857142,3.7285714285714282,13.585714285714287,3.8857142857142861,6.1300452985096551E-2,3.0800000000000001E-2,20.142857142857142,21.200000000000003,3.1285714285714277]
[2034,-1.0571428571428587,20.142857142857142,3.7285714285714282,13.585714285714287,3.8857142857142861,6.1300452985096551E-2,3.0800000000000001E-2,20.142857142857142,21.200000000000003,3.1285714285714277]
[2035,-1.0571428571428587,20.142857142857142,3.7285714285714282,13.585714285714287,3.8857142857142861,6.1300452985096551E-2,3.0800000000000001E-2,20.142857142857142,21.200000000000003,3.1285714285714277]
[2036,-1.0571428571428587,20.142857142857142,3.7285714285714282,13.585714285714287,3.8857142857142861,6.1300452985096551E-2,3.0800000000000001E-2,20.142857142857142,21.200000000000003,3.1285714285714277]
[2037,-1.0571428571428587,20.142857142857142,3.7285714285714282,13.585714285714287,3.8857142857142861,6.1300452985096551E-2,3.0800000000000001E-2,20.142857142857142,21.200000000000003,3.1285714285714277]
[2038,-1.0571428571428587,20.142857142857142,3.7285714285714282,13.585714285714287,3.8857142857142861,6.1300452985096551E-2,3.0800000000000001E-2,20.142857142857142,21.200000000000003,3.1285714285714277]
[2039,-1.0571428571428587,20.142857142857142,3.7285714285714282,13.585714285714287,3.8857142857142861,6.1300452985096551E-2,3.0800000000000001E-2,20.142857142857142,21.200000000000003,3.1285714285714277]
[2040,-1.0571428571428587,20.142857142857142,3.7285714285714282,13.585714285714287,3.8857142857142861,6.1300452985096551E-2,3.0800000000000001E-2,20.142857142857142,21.200000000000003,3.1285714285714277]
[2041,-1.0571428571428587,20.142857142857142,3.7285714285714282,13.585714285714287,3.8857142857142861,6.1300452985096551E-2,3.0800000000000001E-2,20.142857142857142,21.200000000000003,3.1285714285714277]
[2042,-1.0571428571428587,20.142857142857142,3.7285714285714282,13.585714285714287,3.8857142857142861,6.1300452985096551E-2,3.0800000000000001E-2,20.142857142857142,21.200000000000003,3.1285714285714277]
[2043,-1.0571428571428587,20.142857142857142,3.7285714285714282,13.585714285714287,3.8857142857142861,6.1300452985096551E-2,3.0800000000000001E-2,20.142857142857142,21.200000000000003,3.1285714285714277]
[2044,-1.0571428571428587,20.142857142857142,3.7285714285714282,13.585714285714287,3.8857142857142861,6.1300452985096551E-2,3.0800000000000001E-2,20.142857142857142,21.200000000000003,3.1285714285714277]
[2045,-1.0571428571428587,20.142857142857142,3.7285714285714282,13.585714285714287,3.8857142857142861,6.1300452985096551E-2,3.0800000000000001E-2,20.142857142857142,21.200000000000003,3.1285714285714277]
[2046,-1.0571428571428587,20.142857142857142,3.7285714285714282,13.585714285714287,3.8857142857142861,6.1300452985096551E-2,3.0800000000000001E-2,20.142857142857142,21.200000000000003,3.1285714285714277]

{"sheet":"T","index":4,"n_rows":372,"n_cols":51,"rows_kept":372,"cut":false,"hidden":true,"merged":[]}
[" Fecha(Anual) ","dp_t","g_t","ip_t","tau_t","i_otros_t ","r_t","c_y_t","Gasto__neto","I_presupuestarios","Costo_finan","t","1+r_t / 1+c_y_t","Multiplicatoria simple","Multiplicatoria inversa","gt - ipt - iotros  - tau_s","(gt - ipt - iotros + tau_s)","(gt - ipt - iotros - omega)(1+r/1+c_y)^t","gt - ipt - iotros  - tau_s (inf)","b_t","b_t_star dc (finito)","b_t_star tau  (finito)","b_t_star dc (infinito)","b_t_star tau  (infinito)",null,1,"H Finito","pd_s","tau_s",null,"H infinito","pd_s","tau_s",null,null,null,null,null,null,"finito",null,null,null,"infinito"]
[2015,null,null,null,null,null,null,null,null,null,null,0,{"$f":"(1+G2)/(1+H2)","v":1},null,null,null,null,null,null,{"$f":"+Principal!J5","v":50.19},{"$f":"+T2","v":50.19},{"$f":"+T2","v":50.19},{"$f":"+T2","v":50.19},{"$f":"+T2","v":50.19},null,null,null,{"$f":"+AN3","v":-1.183737099185673},{"$f":"+AO3","v":13.714183130377307},null,null,{"$f":"+(AF3-AF4)/(1+AF4)*(-AB3)","v":-1.4850773528540899},{"$f":"+AF11","v":13.90237991240879},null,null,"Funcion general",null,null,"Set solución","pd_s","tau_s",null,"Set solución","pd_s","tau_s"]
[{"$f":"+A2+1","v":2016},{"$f":"+Pronósticos!B2","v":-0.30000000000000071},{"$f":"+Pronósticos!C2","v":20.9},{"$f":"+Pronósticos!D2","v":3.8},{"$f":"+Pronósticos!E2","v":13.4},{"$f":"+Pronósticos!F2","v":3.9999999999999982},{"$f":"+Pronósticos!G2","v":3.2399999999999998E-2},{"$f":"+Pronósticos!H2","v":2.5999999999999999E-2},{"$f":"+Pronósticos!I2","v":20.9},{"$f":"+Pronósticos!J2","v":21.2},{"$f":"+Pronósticos!K2","v":2.8},1,{"$f":"(1+G3)/(1+H3)","v":1.0062378167641326},{"$f":"+PRODUCT(M2:M3)","v":1.0062378167641326},{"$f":"+'Multiplicatoria inversa'!F3","v":0},{"$f":"+C3-D3-F3-AC2","v":-0.61418313037730776},{"$f":"+IF(L3=AB5,1,VLOOKUP(AB5,'Multiplicatoria inversa'!E3:AK32,L3+4,FALSE))*P3","v":-1.1235227170160251},{"$f":"IF(L3<25-Z1+1,(C3-D3-F3-AF8)*((1+AF4)/(1+AF3))^L3,0)","v":0.77700899653868238},{"$f":"+C3-D3-F3-AG2","v":-0.80237991240879047},{"$f":"+M3*T2+B3","v":50.203076023391816},{"$f":"+M3*U2+AB2","v":49.319338924206143},{"$f":"+M3*V2+P3","v":49.888892893014507},{"$f":"+M3*W2+AF2","v":49.017998670537722},{"$f":"+M3*X2+S3","v":49.700696110983024},null,null,"b_0",{"$f":"+U2","v":50.19},{"$f":"+AB3","v":50.19},null,"r",{"$f":"+Principal!H25","v":6.1300452985096551E-2},null,null,null,{"$f":"+(AB13+AB47+AB81+AB115+AB149+AB183+AB217+AB251+AB285+AB319+AB353)","v":1.6252860330389751E-2},null,null,{"$f":"+Principal!J3+1","v":2017},-1.183737099185673,13.714183130377307,null,{"$f":"+AM3","v":2017},{"$f":"+AF2","v":-1.4850773528540899},{"$f":"+AG2","v":13.90237991240879},2]
[{"$f":"+A3+1","v":2017},{"$f":"+Pronósticos!B3","v":-0.89999999999999858},{"$f":"+Pronósticos!C3","v":20.200000000000003},{"$f":"+Pronósticos!D3","v":3.7},{"$f":"+Pronósticos!E3","v":13.5},{"$f":"+Pronósticos!F3","v":3.9000000000000021},{"$f":"+Pronósticos!G3","v":4.24E-2},{"$f":"+Pronósticos!H3","v":0.03},{"$f":"+Pronósticos!I3","v":20.200000000000003},{"$f":"+Pronósticos!J3","v":21.1},{"$f":"+Pronósticos!K3","v":2.9},{"$f":"+L3+1","v":2},{"$f":"(1+G4)/(1+H4)","v":1.0120388349514562},{"$f":"+PRODUCT(M2:M4)","v":1.0183517477620696},{"$f":"+'Multiplicatoria inversa'!F4","v":1.0120388349514562},{"$f":"+C4-D4-F4-AC2","v":-1.114183130377306},{"$f":"+IF(L4=AB5,1,VLOOKUP(AB5,'Multiplicatoria inversa'!E3:AK32,L4+4,FALSE))*P4","v":-2.0139253800648493},{"$f":"IF(L4<25-Z1+1,(C4-D4-F4-AF8)*((1+AF4)/(1+AF3))^L4,0)","v":0.28300452220408739},{"$f":"+C4-D4-F4-AG2","v":-1.3023799124087887},49.907462569692839,{"$f":"+M4*U3+AB2","v":48.729349206243917},49.37531391008708,{"$f":"+M4*W3+AF2","v":48.123040913328936},48.996654676026843,null,null,"b_T",{"$f":"+Principal!J9","v":50.19},{"$f":"+AB4","v":50.19},null,"c_y",{"$f":"+Principal!H26","v":3.0800000000000001E-2},null,null,null,null,null,null,{"$f":"+AM3+1","v":2018},-1.2315378643942743,13.731177934885221,null,{"$f":"+AQ3+1","v":2018},{"$f":"+AF36","v":-1.4854642607282598},{"$f":"+AG36","v":13.882566411682507},36,{"$f":"+AT4-AT3","v":34}]
[{"$f":"+A4+1","v":2018},{"$f":"+Pronósticos!B4","v":-1.1000000000000014},{"$f":"+Pronósticos!C4","v":19.899999999999999},{"$f":"+Pronósticos!D4","v":3.6},{"$f":"+Pronósticos!E4","v":13.5},{"$f":"+Pronósticos!F4","v":3.8999999999999986},{"$f":"+Pronósticos!G4","v":4.9599999999999998E-2},{"$f":"+Pronósticos!H4","v":3.5000000000000003E-2},{"$f":"+Pronósticos!I4","v":19.899999999999999},{"$f":"+Pronósticos!J4","v":21},{"$f":"+Pronósticos!K4","v":3.1},{"$f":"+L4+1","v":3},1.0141062801932368,{"$f":"+PRODUCT(M2:M5)","v":1.0327169028512737},{"$f":"+'Multiplicatoria inversa'!F5","v":2.040421218516955},{"$f":"+C5-D5-F5-AC2","v":-1.3141831303773088},{"$f":"+IF(L5=AB5,1,VLOOKUP(AB5,'Multiplicatoria inversa'!E3:AK32,L5+4,FALSE))*P5","v":-2.3423900372804662},{"$f":"IF(L5<25-Z1+1,(C5-D5-F5-AF8)*((1+AF4)/(1+AF3))^L5,0)","v":9.1623774922375958E-2},{"$f":"+C5-D5-F5-AG2","v":-1.5023799124087915},49.511471220434402,{"$f":"+M5*U4+AB2","v":48.233001960595601},48.757632792354478,{"$f":"+M5*W4+AF2","v":47.316800659348857},48.185435303009349,null,null,"T",{"$f":"+Principal!J7","v":25},{"$f":"+AB5","v":25},null,"g ",{"$f":"+C8","v":20.100000000000001},null,null,null,"validar",null,null,{"$f":"+AM4+1","v":2019},-1.2502309577104829,13.744313173423386,null,{"$f":"+AQ4+1","v":2019},{"$f":"+AF70","v":-1.4767173221889625},{"$f":"+AG70","v":13.867815906684539},{"$f":"+AT4+$AU$4","v":70}]
[2019,{"$f":"+Pronósticos!B5","v":-1.1000000000000014},{"$f":"+Pronósticos!C5","v":19.799999999999997},{"$f":"+Pronósticos!D5","v":3.5},{"$f":"+Pronósticos!E5","v":13.6},{"$f":"+Pronósticos!F5","v":3.7999999999999989},{"$f":"+Pronósticos!G5","v":5.1799999999999999E-2},{"$f":"+Pronósticos!H5","v":3.5000000000000003E-2},{"$f":"+Pronósticos!I5","v":19.799999999999997},{"$f":"+Pronósticos!J5","v":20.9},{"$f":"+Pronósticos!K5","v":3.1},4,1.0162318840579712,{"$f":"+PRODUCT(M2:M6)","v":1.0494798438830626},{"$f":"+'Multiplicatoria inversa'!F6","v":3.0897729832233178},{"$f":"+C6-D6-F6-AC2","v":-1.2141831303773092},{"$f":"+IF(L6=AB5,1,VLOOKUP(AB5,'Multiplicatoria inversa'!E3:AK32,L6+4,FALSE))*P6","v":-2.1295836414936686},{"$f":"IF(L6<25-Z1+1,(C6-D6-F6-AF8)*((1+AF4)/(1+AF3))^L6,0)","v":0.1779812435288054},{"$f":"+C6-D6-F6-AG2","v":-1.4023799124087919},49.215135680824069,{"$f":"+M6*U5+AB2","v":47.832177357002216},48.334877904403804,{"$f":"+M6*W5+AF2","v":46.599764128791449},47.565195789721876,null,null,"Pi_t b_0",{"$f":"+VLOOKUP(AB5,L3:N32,3,FALSE)*AB3","v":92.385072765854758},{"$f":"+AB6","v":92.385072765854758},null,"ip",{"$f":"+D8","v":3.9},null,null,null,{"$f":"+SUM(AB11:AC11)+SUM(AB45:AC45)+SUM(AB79:AC79)+SUM(AB113:AC113)+SUM(AB147:AC147)+SUM(AB181:AC181)+SUM(AB215:AC215)+SUM(AB249:AC249)+SUM(AB283:AC283)+SUM(AB317:AC317)+SUM(AB351:AC351)","v":-1.9209084889404426E-4},null,null,2020,-1.2591160047150294,13.758706781349938,null,2020,{"$f":"+AF104","v":-1.4650002912124762},{"$f":"+AG104","v":13.855835490759379},{"$f":"+AT5+$AU$4","v":104}]
[2020,{"$f":"+Pronósticos!B6","v":-1.1999999999999993},{"$f":"+Pronósticos!C6","v":20},{"$f":"+Pronósticos!D6","v":3.7},{"$f":"+Pronósticos!E6","v":13.7},{"$f":"+Pronósticos!F6","v":3.8000000000000007},{"$f":"+Pronósticos!G6","v":5.3495934959349345E-2},{"$f":"+Pronósticos!H6","v":4.4999999999999998E-2},{"$f":"+Pronósticos!I6","v":20},{"$f":"+Pronósticos!J6","v":21.2},{"$f":"+Pronósticos!K6","v":3.2},5,1.0081300813008129,{"$f":"+PRODUCT(M2:M7)","v":1.0580122003373964},{"$f":"+'Multiplicatoria inversa'!F7","v":4.1230231700787918},{"$f":"+C7-D7-F7-AC2","v":-1.2141831303773074},{"$f":"+IF(L7=AB5,1,VLOOKUP(AB5,'Multiplicatoria inversa'!E3:AK32,L7+4,FALSE))*P7","v":-2.112409579868717},{"$f":"IF(L7<25-Z1+1,(C7-D7-F7-AF8)*((1+AF4)/(1+AF3))^L7,0)","v":0.17286628429628167},{"$f":"+C7-D7-F7-AG2","v":-1.4023799124087901},48.415258735139716,{"$f":"+M7*U6+AB2","v":47.037319748523878},47.513661261054168,{"$f":"+M7*W6+AF2","v":45.493546646903141},46.549524786172611,null,null,"sum dpt",{"$f":"+VLOOKUP(AB5,L3:O32,4,FALSE)","v":34.64584677226577},{"$f":"+SUM(Q3:Q31)","v":-42.195001381914182},null,"iotros",{"$f":"+F8","v":3.9000000000000021},null,null,null,null,null,null,2021,-1.2689611524127087,13.768463607944165,null,2021,{"$f":"+AF138","v":-1.4562319867948412},{"$f":"+AG138","v":13.843837097222762},138]
[2021,{"$f":"+Pronósticos!B7","v":-1.3999999999999986},{"$f":"+Pronósticos!C7","v":20.100000000000001},{"$f":"+Pronósticos!D7","v":3.9},{"$f":"+Pronósticos!E7","v":13.7},{"$f":"+Pronósticos!F7","v":3.9000000000000021},{"$f":"+Pronósticos!G7","v":6.0199999999999997E-2},{"$f":"+Pronósticos!H7","v":4.4999999999999998E-2},{"$f":"+Pronósticos!I7","v":20.100000000000001},{"$f":"+Pronósticos!J7","v":21.5},{"$f":"+Pronósticos!K7","v":3.4},6,1.0145454545454546,{"$f":"+PRODUCT(M2:M8)","v":1.0734014687059406},{"$f":"+'Multiplicatoria inversa'!F8","v":5.1975398707344835},{"$f":"+C8-D8-F8-AC2","v":-1.4141831303773067},{"$f":"+IF(L8=AB5,1,VLOOKUP(AB5,'Multiplicatoria inversa'!E3:AK32,L8+4,FALSE))*P8","v":-2.4250912053133638},{"$f":"IF(L8<25-Z1+1,(C8-D8-F8-AF8)*((1+AF4)/(1+AF3))^L8,0)","v":0},{"$f":"+C8-D8-F8-AG2","v":-1.6023799124087894},47.719480680378119,{"$f":"+M8*U7+AB2","v":46.537761845680379},46.790585930837651,{"$f":"+M8*W7+AF2","v":44.670193608913102},45.62422887065361,null,null,"f",{"$f":"+AB6+AB2*(AB7+1)","v":50.189761509635886},{"$f":"+AC6+AC7","v":50.190071383940577},null,"omega",{"$f":"+AF5-AF6-AF7","v":12.3},null,null,null,null,null,null,2022,-1.2734096181747681,13.77287134237112,null,2022,{"$f":"+AF172","v":-1.4325643411063389},{"$f":"+AG172","v":13.816843786958048},172]
[2022,{"$f":"+Pronósticos!B8","v":-1.3999999999999986},{"$f":"+Pronósticos!C8","v":20.100000000000001},{"$f":"+Pronósticos!D8","v":3.9},{"$f":"+Pronósticos!E8","v":13.7},{"$f":"+Pronósticos!F8","v":3.9000000000000021},{"$f":"+Pronósticos!G8","v":6.0199999999999997E-2},{"$f":"+Pronósticos!H8","v":4.4999999999999998E-2},{"$f":"+Pronósticos!I8","v":20.100000000000001},{"$f":"+Pronósticos!J8","v":21.5},{"$f":"+Pronósticos!K8","v":3.4},7,1.0145454545454546,{"$f":"+PRODUCT(M2:M9)","v":1.0890145809780272},{"$f":"+'Multiplicatoria inversa'!F9","v":6.2876859052178959},{"$f":"+C9-D9-F9-AC2","v":-1.4141831303773067},{"$f":"+IF(L9=AB5,1,VLOOKUP(AB5,'Multiplicatoria inversa'!E3:AK32,L9+4,FALSE))*P9","v":-2.3903228726206986},{"$f":"IF(L9<25-Z1+1,(C9-D9-F9-AF8)*((1+AF4)/(1+AF3))^L9,0)","v":0},{"$f":"+C9-D9-F9-AG2","v":-1.6023799124087894},47.01358221754726,{"$f":"+M9*U8+AB2","v":46.030937646068246},46.056993141272528,{"$f":"+M9*W8+AF2","v":43.834864526734115},44.685474105454333,null,null,"dif",{"$f":"+AB4-AB8","v":2.3849036411149882E-4},{"$f":"+AC4-AC8","v":-7.1383940579039518E-5},null,"25 se vuelve constante",null,null,null,null,null,null,null,2023,-1.2647960294855365,13.777869544297165,null,2023,{"$f":"+AF206","v":-1.4119768887903532},{"$f":"+AG206","v":13.798750088305052},206]
[2023,{"$f":"+Pronósticos!B9","v":-1.0571428571428587},{"$f":"+Pronósticos!C9","v":20.142857142857142},{"$f":"+Pronósticos!D9","v":3.7285714285714282},{"$f":"+Pronósticos!E9","v":13.585714285714287},{"$f":"+Pronósticos!F9","v":3.8857142857142861},{"$f":"+Pronósticos!G9","v":6.1300452985096551E-2},{"$f":"+Pronósticos!H9","v":3.0800000000000001E-2},{"$f":"+Pronósticos!I9","v":20.142857142857142},{"$f":"+Pronósticos!J9","v":21.200000000000003},{"$f":"+Pronósticos!K9","v":3.1285714285714277},8,1.0295891084449909,{"$f":"+PRODUCT(M2:M10)","v":1.1212375515127624},{"$f":"+'Multiplicatoria inversa'!F10","v":7.5033220337804192},{"$f":"+C10-D10-F10-AC2","v":-1.1856117018058789},{"$f":"+IF(L10=AB5,1,VLOOKUP(AB5,'Multiplicatoria inversa'!E3:AK32,L10+4,FALSE))*P10","v":-1.9463881518041499},{"$f":"IF(L10<25-Z1+1,(C10-D10-F10-AF8)*((1+AF4)/(1+AF3))^L10,0)","v":0.18101327456034635},{"$f":"+C10-D10-F10-AG2","v":-1.3738084838373616},47.347529343026899,{"$f":"+M10*U9+AB2","v":46.2092149527167},46.234166804173967,{"$f":"+M10*W9+AF2","v":43.64682173403304},44.633868960839095,null,null,"Validar",{"$f":"+VLOOKUP(AB5,L3:U32,10,FALSE)","v":50.189761509635957},{"$f":"+VLOOKUP(AC5,L3:V32,11,FALSE)","v":50.190071383940577},null,"sum 1 a 24",{"$f":"+SUM(R3:R26)","v":3.964383035493543},null,null,null,null,null,null,2024,-1.2550047198392005,13.783482507341619,null,2024,{"$f":"+AF240","v":-1.3910899826224985},{"$f":"+AG240","v":13.780430723747758},240]
[2024,{"$f":"+Pronósticos!B10","v":-1.0571428571428587},{"$f":"+Pronósticos!C10","v":20.142857142857142},{"$f":"+Pronósticos!D10","v":3.7285714285714282},{"$f":"+Pronósticos!E10","v":13.585714285714287},{"$f":"+Pronósticos!F10","v":3.8857142857142861},{"$f":"+Pronósticos!G10","v":6.1300452985096551E-2},{"$f":"+Pronósticos!H10","v":3.0800000000000001E-2},{"$f":"+Pronósticos!I10","v":20.142857142857142},{"$f":"+Pronósticos!J10","v":21.200000000000003},{"$f":"+Pronósticos!K10","v":3.1285714285714277},9,1.0295891084449909,{"$f":"+PRODUCT(M2:M11)","v":1.1544139710170696},{"$f":"+'Multiplicatoria inversa'!F11","v":8.7549277515806274},{"$f":"+C11-D11-F11-AC2","v":-1.1856117018058789},{"$f":"+IF(L11=AB5,1,VLOOKUP(AB5,'Multiplicatoria inversa'!E3:AK32,L11+4,FALSE))*P11","v":-1.8904513808851564},{"$f":"IF(L11<25-Z1+1,(C11-D11-F11-AF8)*((1+AF4)/(1+AF3))^L11,0)","v":0.17581117853289488},{"$f":"+C11-D11-F11-AG2","v":-1.3738084838373616},47.69135766621725,{"$f":"+M11*U10+AB2","v":46.392767325924858},46.416582877800593,{"$f":"+M11*W10+AF2","v":43.453214922746433},44.580736866003519,null,null,null,{"$f":"+IFERROR(ABS(AB10/AB4)-1,0)","v":-4.7517506284178168E-6},{"$f":"+IFERROR(ABS(AC10/AC4)-1,0)","v":1.4222741697711427E-6},null,"f",{"$f":"+(AF10+$AB$3)*(AF3-AF4)/(1+AF4)+AF8","v":13.90237991240879},null,null,null,null,null,null,2025,-1.2698621799267968,13.798450752515055,null,2025,{"$f":"+AF274","v":-1.4009711803332086},{"$f":"+AG274","v":13.786192209548751},274]
[2025,{"$f":"+Pronósticos!B11","v":-1.0571428571428587},{"$f":"+Pronósticos!C11","v":20.142857142857142},{"$f":"+Pronósticos!D11","v":3.7285714285714282},{"$f":"+Pronósticos!E11","v":13.585714285714287},{"$f":"+Pronósticos!F11","v":3.8857142857142861},{"$f":"+Pronósticos!G11","v":6.1300452985096551E-2},{"$f":"+Pronósticos!H11","v":3.0800000000000001E-2},{"$f":"+Pronósticos!I11","v":20.142857142857142},{"$f":"+Pronósticos!J11","v":21.200000000000003},{"$f":"+Pronósticos!K11","v":3.1285714285714277},10,1.0295891084449909,{"$f":"+PRODUCT(M2:M12)","v":1.1885720511959061},{"$f":"+'Multiplicatoria inversa'!F12","v":10.043567366695198},{"$f":"+C12-D12-F12-AC2","v":-1.1856117018058789},{"$f":"+IF(L12=AB5,1,VLOOKUP(AB5,'Multiplicatoria inversa'!E3:AK32,L12+4,FALSE))*P12","v":-1.8361221630834295},{"$f":"IF(L12<25-Z1+1,(C12-D12-F12-AF8)*((1+AF4)/(1+AF3))^L12,0)","v":0.17075858426515994},{"$f":"+C12-D12-F12-AG2","v":-1.3738084838373616},48.045359562948939,{"$f":"+M12*U11+AB2","v":46.581750850209204},46.604396480411864,{"$f":"+M12*W11+AF2","v":43.253879458524978},44.526032639851934,null,null,null,null,null,null,null,null,null,null,null,null,null,null,2026,-1.2868115997937293,13.815375896571208,null,2026,{"$f":"+AF308","v":-1.4111447538745472},{"$f":"+AG308","v":13.792124172577916},308]
[2026,{"$f":"+Pronósticos!B12","v":-1.0571428571428587},{"$f":"+Pronósticos!C12","v":20.142857142857142},{"$f":"+Pronósticos!D12","v":3.7285714285714282},{"$f":"+Pronósticos!E12","v":13.585714285714287},{"$f":"+Pronósticos!F12","v":3.8857142857142861},{"$f":"+Pronósticos!G12","v":6.1300452985096551E-2},{"$f":"+Pronósticos!H12","v":3.0800000000000001E-2},{"$f":"+Pronósticos!I12","v":20.142857142857142},{"$f":"+Pronósticos!J12","v":21.200000000000003},{"$f":"+Pronósticos!K12","v":3.1285714285714277},11,1.0295891084449909,{"$f":"+PRODUCT(M2:M13)","v":1.223740838513427},{"$f":"+'Multiplicatoria inversa'!F13","v":11.370336679127904},{"$f":"+C13-D13-F13-AC2","v":-1.1856117018058789},{"$f":"+IF(L13=AB5,1,VLOOKUP(AB5,'Multiplicatoria inversa'!E3:AK32,L13+4,FALSE))*P13","v":-1.7833542993248652},{"$f":"IF(L13<25-Z1+1,(C13-D13-F13-AF8)*((1+AF4)/(1+AF3))^L13,0)","v":0.16585119526279768},{"$f":"+C13-D13-F13-AG2","v":-1.3738084838373616},48.40983606019276,{"$f":"+M13*U12+AB2","v":46.776326228487918},46.797767320078236,{"$f":"+M13*W12+AF2","v":43.048645835635746},44.469709764420358,null,null,"g",{"$f":"IFERROR(ABS(AB9)+ABS(AC9),0)","v":3.0987430469053834E-4},null,null,null,null,null,null,null,null,null,null,2027,-1.3059247364038853,13.83453123757319,null,2027,{"$f":"+AF342","v":-1.4216193543866735},{"$f":"+AG342","v":13.798231657104443},342]
[2027,{"$f":"+Pronósticos!B13","v":-1.0571428571428587},{"$f":"+Pronósticos!C13","v":20.142857142857142},{"$f":"+Pronósticos!D13","v":3.7285714285714282},{"$f":"+Pronósticos!E13","v":13.585714285714287},{"$f":"+Pronósticos!F13","v":3.8857142857142861},{"$f":"+Pronósticos!G13","v":6.1300452985096551E-2},{"$f":"+Pronósticos!H13","v":3.0800000000000001E-2},{"$f":"+Pronósticos!I13","v":20.142857142857142},{"$f":"+Pronósticos!J13","v":21.200000000000003},{"$f":"+Pronósticos!K13","v":3.1285714285714277},12,1.0295891084449909,{"$f":"+PRODUCT(M2:M14)","v":1.2599502388927648},{"$f":"+'Multiplicatoria inversa'!F14","v":12.736363912627668},{"$f":"+C14-D14-F14-AC2","v":-1.1856117018058789},{"$f":"+IF(L14=AB5,1,VLOOKUP(AB5,'Multiplicatoria inversa'!E3:AK32,L14+4,FALSE))*P14","v":-1.7321029182392005},{"$f":"IF(L14<25-Z1+1,(C14-D14-F14-AF8)*((1+AF4)/(1+AF3))^L14,0)","v":0.16108483850735961},{"$f":"+C14-D14-F14-AG2","v":-1.3738084838373616},48.785097092039173,{"$f":"+M14*U13+AB2","v":46.976658918735247},46.996859830489598,{"$f":"+M14*W13+AF2","v":42.837339532822284},44.411720345319694,null,null,null,"Pronosticada"]
[2028,{"$f":"+Pronósticos!B14","v":-1.0571428571428587},{"$f":"+Pronósticos!C14","v":20.142857142857142},{"$f":"+Pronósticos!D14","v":3.7285714285714282},{"$f":"+Pronósticos!E14","v":13.585714285714287},{"$f":"+Pronósticos!F14","v":3.8857142857142861},{"$f":"+Pronósticos!G14","v":6.1300452985096551E-2},{"$f":"+Pronósticos!H14","v":3.0800000000000001E-2},{"$f":"+Pronósticos!I14","v":20.142857142857142},{"$f":"+Pronósticos!J14","v":21.200000000000003},{"$f":"+Pronósticos!K14","v":3.1285714285714277},13,1.0295891084449909,{"$f":"+PRODUCT(M2:M15)","v":1.2972310431466549},{"$f":"+'Multiplicatoria inversa'!F15","v":14.142810674078266},{"$f":"+C15-D15-F15-AC2","v":-1.1856117018058789},{"$f":"+IF(L15=AB5,1,VLOOKUP(AB5,'Multiplicatoria inversa'!E3:AK32,L15+4,FALSE))*P15","v":-1.6823244380034579},{"$f":"IF(L15<25-Z1+1,(C15-D15-F15-AF8)*((1+AF4)/(1+AF3))^L15,0)","v":0.15645546090774917},{"$f":"+C15-D15-F15-AG2","v":-1.3738084838373616},49.171461763252069,{"$f":"+M15*U14+AB2","v":47.182919274679378},47.20184331078211,{"$f":"+M15*W14+AF2","v":42.619780864899766},44.352015071008609,null,null,"b_t_star dc (finito)","Ajuste al déficit primario"]
[2029,{"$f":"+Pronósticos!B15","v":-1.0571428571428587},{"$f":"+Pronósticos!C15","v":20.142857142857142},{"$f":"+Pronósticos!D15","v":3.7285714285714282},{"$f":"+Pronósticos!E15","v":13.585714285714287},{"$f":"+Pronósticos!F15","v":3.8857142857142861},{"$f":"+Pronósticos!G15","v":6.1300452985096551E-2},{"$f":"+Pronósticos!H15","v":3.0800000000000001E-2},{"$f":"+Pronósticos!I15","v":20.142857142857142},{"$f":"+Pronósticos!J15","v":21.200000000000003},{"$f":"+Pronósticos!K15","v":3.1285714285714277},14,1.0295891084449909,{"$f":"+PRODUCT(M2:M16)","v":1.3356149531605299},{"$f":"+'Multiplicatoria inversa'!F16","v":15.590872941275531},{"$f":"+C16-D16-F16-AC2","v":-1.1856117018058789},{"$f":"+IF(L16=AB5,1,VLOOKUP(AB5,'Multiplicatoria inversa'!E3:AK32,L16+4,FALSE))*P16","v":-1.6339765292819639},{"$f":"IF(L16<25-Z1+1,(C16-D16-F16-AF8)*((1+AF4)/(1+AF3))^L16,0)","v":0.15195912585365925},{"$f":"+C16-D16-F16-AG2","v":-1.3738084838373616},49.569258620620801,{"$f":"+M16*U15+AB2","v":47.395282690663443},47.412892069502433,{"$f":"+M16*W15+AF2","v":42.395784829958941},44.290543170861184,null,null,"b_t_star tau  (finito)","Ajuste al ingreso tributario"]
[2030,{"$f":"+Pronósticos!B16","v":-1.0571428571428587},{"$f":"+Pronósticos!C16","v":20.142857142857142},{"$f":"+Pronósticos!D16","v":3.7285714285714282},{"$f":"+Pronósticos!E16","v":13.585714285714287},{"$f":"+Pronósticos!F16","v":3.8857142857142861},{"$f":"+Pronósticos!G16","v":6.1300452985096551E-2},{"$f":"+Pronósticos!H16","v":3.0800000000000001E-2},{"$f":"+Pronósticos!I16","v":20.142857142857142},{"$f":"+Pronósticos!J16","v":21.200000000000003},{"$f":"+Pronósticos!K16","v":3.1285714285714277},15,1.0295891084449909,{"$f":"+PRODUCT(M2:M17)","v":1.3751346088503482},{"$f":"+'Multiplicatoria inversa'!F17","v":17.081782079931997},{"$f":"+C17-D17-F17-AC2","v":-1.1856117018058789},{"$f":"+IF(L17=AB5,1,VLOOKUP(AB5,'Multiplicatoria inversa'!E3:AK32,L17+4,FALSE))*P17","v":-1.5870180792314241},{"$f":"IF(L17<25-Z1+1,(C17-D17-F17-AF8)*((1+AF4)/(1+AF3))^L17,0)","v":0.14759200986805909},{"$f":"+C17-D17-F17-AG2","v":-1.3738084838373616},49.978825932341287,{"$f":"+M17*U16+AB2","v":47.613929750792813},47.630185572831707,{"$f":"+M17*W16+AF2","v":42.165160952049007},44.227252371993984,null,null,"b_t_star dc (infinito)","Ajuste al déficit primario",null,null,null,null,null,null,null,null,null,null,"Análisis de sensiblidad"]
[2031,{"$f":"+Pronósticos!B17","v":-1.0571428571428587},{"$f":"+Pronósticos!C17","v":20.142857142857142},{"$f":"+Pronósticos!D17","v":3.7285714285714282},{"$f":"+Pronósticos!E17","v":13.585714285714287},{"$f":"+Pronósticos!F17","v":3.8857142857142861},{"$f":"+Pronósticos!G17","v":6.1300452985096551E-2},{"$f":"+Pronósticos!H17","v":3.0800000000000001E-2},{"$f":"+Pronósticos!I17","v":20.142857142857142},{"$f":"+Pronósticos!J17","v":21.200000000000003},{"$f":"+Pronósticos!K17","v":3.1285714285714277},16,1.0295891084449909,{"$f":"+PRODUCT(M2:M18)","v":1.4158236159180813},{"$f":"+'Multiplicatoria inversa'!F18","v":18.616805890773797},{"$f":"+C18-D18-F18-AC2","v":-1.1856117018058789},{"$f":"+IF(L18=AB5,1,VLOOKUP(AB5,'Multiplicatoria inversa'!E3:AK32,L18+4,FALSE))*P18","v":-1.5414091565404471},{"$f":"IF(L18<25-Z1+1,(C18-D18-F18-AF8)*((1+AF4)/(1+AF3))^L18,0)","v":0.14335039935588509},{"$f":"+C18-D18-F18-AG2","v":-1.3738084838373616},50.400511975663797,{"$f":"+M18*U17+AB2","v":47.839046382495525},47.853908597195385,{"$f":"+M18*W17+AF2","v":41.927713119205585},44.162088854815536,null,null,"b_t_star tau  (infinito)","Ajuste al ingreso tributario",null,null,null,null,null,null,null,null,null,"H infinito","pd_s"]
[2032,{"$f":"+Pronósticos!B18","v":-1.0571428571428587},{"$f":"+Pronósticos!C18","v":20.142857142857142},{"$f":"+Pronósticos!D18","v":3.7285714285714282},{"$f":"+Pronósticos!E18","v":13.585714285714287},{"$f":"+Pronósticos!F18","v":3.8857142857142861},{"$f":"+Pronósticos!G18","v":6.1300452985096551E-2},{"$f":"+Pronósticos!H18","v":3.0800000000000001E-2},{"$f":"+Pronósticos!I18","v":20.142857142857142},{"$f":"+Pronósticos!J18","v":21.200000000000003},{"$f":"+Pronósticos!K18","v":3.1285714285714277},17,1.0295891084449909,{"$f":"+PRODUCT(M2:M19)","v":1.4577165744284604},{"$f":"+'Multiplicatoria inversa'!F19","v":20.197249687620239},{"$f":"+C19-D19-F19-AC2","v":-1.1856117018058789},{"$f":"+IF(L19=AB5,1,VLOOKUP(AB5,'Multiplicatoria inversa'!E3:AK32,L19+4,FALSE))*P19","v":-1.4971109774737887},{"$f":"IF(L19<25-Z1+1,(C19-D19-F19-AF8)*((1+AF4)/(1+AF3))^L19,0)","v":0.13923068744616973},{"$f":"+C19-D19-F19-AG2","v":-1.3738084838373616},50.834675333051919,{"$f":"+M19*U18+AB2","v":48.07082401462646},48.084251386388601,{"$f":"+M19*W18+AF2","v":41.683239416686135},44.094997207260633,null,null,null,null,null,null,null,null,null,null,null,null,null,null,{"$f":"+(AM20-AM21)/(1+AM21)*(-$AB$3)","v":-1.4850773528540899}]
[2033,{"$f":"+Pronósticos!B19","v":-1.0571428571428587},{"$f":"+Pronósticos!C19","v":20.142857142857142},{"$f":"+Pronósticos!D19","v":3.7285714285714282},{"$f":"+Pronósticos!E19","v":13.585714285714287},{"$f":"+Pronósticos!F19","v":3.8857142857142861},{"$f":"+Pronósticos!G19","v":6.1300452985096551E-2},{"$f":"+Pronósticos!H19","v":3.0800000000000001E-2},{"$f":"+Pronósticos!I19","v":20.142857142857142},{"$f":"+Pronósticos!J19","v":21.200000000000003},{"$f":"+Pronósticos!K19","v":3.1285714285714277},18,1.0295891084449909,{"$f":"+PRODUCT(M2:M20)","v":1.5008491082312847},{"$f":"+'Multiplicatoria inversa'!F20","v":21.824457407362782},{"$f":"+C20-D20-F20-AC2","v":-1.1856117018058789},{"$f":"+IF(L20=AB5,1,VLOOKUP(AB5,'Multiplicatoria inversa'!E3:AK32,L20+4,FALSE))*P20","v":-1.4540858728924451},{"$f":"IF(L20<25-Z1+1,(C20-D20-F20-AF8)*((1+AF4)/(1+AF3))^L20,0)","v":0.13522937092492426},{"$f":"+C20-D20-F20-AG2","v":-1.3738084838373616},51.281685197104636,{"$f":"+M20*U19+AB2","v":48.309459740249643},48.321409813350783,{"$f":"+M20*W19+AF2","v":41.431531955270884},44.025920377670474,null,null,null,null,null,null,null,null,null,null,null,null,null,"r",{"$f":"+AF3","v":6.1300452985096551E-2},"c_y/r",0,0.01,0.02,0.03,0.04,0.05,6.0000000000000005E-2,7.0000000000000007E-2,0.08,0.09,9.9999999999999992E-2]
[2034,{"$f":"+Pronósticos!B20","v":-1.0571428571428587},{"$f":"+Pronósticos!C20","v":20.142857142857142},{"$f":"+Pronósticos!D20","v":3.7285714285714282},{"$f":"+Pronósticos!E20","v":13.585714285714287},{"$f":"+Pronósticos!F20","v":3.8857142857142861},{"$f":"+Pronósticos!G20","v":6.1300452985096551E-2},{"$f":"+Pronósticos!H20","v":3.0800000000000001E-2},{"$f":"+Pronósticos!I20","v":20.142857142857142},{"$f":"+Pronósticos!J20","v":21.200000000000003},{"$f":"+Pronósticos!K20","v":3.1285714285714277},19,1.0295891084449909,{"$f":"+PRODUCT(M2:M21)","v":1.5452578952543079},{"$f":"+'Multiplicatoria inversa'!F21","v":23.499812752787317},{"$f":"+C21-D21-F21-AC2","v":-1.1856117018058789},{"$f":"+IF(L21=AB5,1,VLOOKUP(AB5,'Multiplicatoria inversa'!E3:AK32,L21+4,FALSE))*P21","v":-1.4122972562215426},{"$f":"IF(L21<25-Z1+1,(C21-D21-F21-AF8)*((1+AF4)/(1+AF3))^L21,0)","v":0.13134304725616605},{"$f":"+C21-D21-F21-AG2","v":-1.3738084838373616},51.741921684500788,{"$f":"+M21*U20+AB2","v":48.555156484237138},48.565585546726979,{"$f":"+M21*W20+AF2","v":41.172376694483404},43.954799626278543,null,null,null,null,null,null,null,null,null,null,null,null,null,"c_y",{"$f":"+AF4","v":3.0800000000000001E-2},0,{"$f":"+IF(AO$20<$AN21,\"\",(AO$20-$AN21)/(1+$AN21)*(-$AB$3))","v":0},{"$f":"+IF(AP$20<$AN21,\"\",(AP$20-$AN21)/(1+$AN21)*(-$AB$3))","v":-0.50190000000000001},{"$f":"+IF(AQ$20<$AN21,\"\",(AQ$20-$AN21)/(1+$AN21)*(-$AB$3))","v":-1.0038},-1.5056999999999998,-2.0076000000000001,-2.5095000000000001,-3.0114000000000001,-3.5133000000000001,-4.0152000000000001,-4.5170999999999992,-5.0189999999999992]
[2035,{"$f":"+Pronósticos!B21","v":-1.0571428571428587},{"$f":"+Pronósticos!C21","v":20.142857142857142},{"$f":"+Pronósticos!D21","v":3.7285714285714282},{"$f":"+Pronósticos!E21","v":13.585714285714287},{"$f":"+Pronósticos!F21","v":3.8857142857142861},{"$f":"+Pronósticos!G21","v":6.1300452985096551E-2},{"$f":"+Pronósticos!H21","v":3.0800000000000001E-2},{"$f":"+Pronósticos!I21","v":20.142857142857142},{"$f":"+Pronósticos!J21","v":21.200000000000003},{"$f":"+Pronósticos!K21","v":3.1285714285714277},20,1.0295891084449909,{"$f":"+PRODUCT(M2:M22)","v":1.5909806986924659},{"$f":"+'Multiplicatoria inversa'!F22","v":25.22474036921151},{"$f":"+C22-D22-F22-AC2","v":-1.1856117018058789},{"$f":"+IF(L22=AB5,1,VLOOKUP(AB5,'Multiplicatoria inversa'!E3:AK32,L22+4,FALSE))*P22","v":-1.3717095923387959},{"$f":"IF(L22<25-Z1+1,(C22-D22-F22-AF8)*((1+AF4)/(1+AF3))^L22,0)","v":0.12756841168855806},{"$f":"+C22-D22-F22-AG2","v":-1.3738084838373616},52.215776159232846,{"$f":"+M22*U21+AB2","v":48.808123175827063},48.816986222357684,{"$f":"+M22*W21+AF2","v":40.905553260580398},43.881574475260976,null,null,null,null,null,null,null,null,null,null,null,null,null,"g ",20.100000000000001,0.01,{"$f":"+IF(AO$20<$AN22,\"\",(AO$20-$AN22)/(1+$AN22)*(-$AB$3))","v":""},0,-0.49693069306930693,-0.99386138613861363,-1.4907920792079206,-1.9877227722772277,-2.4846534653465349,-2.9815841584158416,-3.4785148514851487,-3.9754455445544554,-4.4723762376237621]
[2036,{"$f":"+Pronósticos!B22","v":-1.0571428571428587},{"$f":"+Pronósticos!C22","v":20.142857142857142},{"$f":"+Pronósticos!D22","v":3.7285714285714282},{"$f":"+Pronósticos!E22","v":13.585714285714287},{"$f":"+Pronósticos!F22","v":3.8857142857142861},{"$f":"+Pronósticos!G22","v":6.1300452985096551E-2},{"$f":"+Pronósticos!H22","v":3.0800000000000001E-2},{"$f":"+Pronósticos!I22","v":20.142857142857142},{"$f":"+Pronósticos!J22","v":21.200000000000003},{"$f":"+Pronósticos!K22","v":3.1285714285714277},21,1.0295891084449909,{"$f":"+PRODUCT(M2:M23)","v":1.6380563991199646},{"$f":"+'Multiplicatoria inversa'!F23","v":27.000707055937838},{"$f":"+C23-D23-F23-AC2","v":-1.1856117018058789},{"$f":"+IF(L23=AB5,1,VLOOKUP(AB5,'Multiplicatoria inversa'!E3:AK32,L23+4,FALSE))*P23","v":-1.3322883673570678},{"$f":"IF(L23<25-Z1+1,(C23-D23-F23-AF8)*((1+AF4)/(1+AF3))^L23,0)","v":0.12390225444520017},{"$f":"+C23-D23-F23-AG2","v":-1.3738084838373616},52.703651565404897,{"$f":"+M23*U22+AB2","v":49.068574926287411},49.075825619842774,{"$f":"+M23*W22+AF2","v":40.630834759155967},43.806182657309051,null,null,null,null,null,null,null,null,null,null,null,null,null,"ip",3.9,0.02,{"$f":"+IF(AO$20<$AN23,\"\",(AO$20-$AN23)/(1+$AN23)*(-$AB$3))","v":""},"",0,-0.49205882352941166,-0.98411764705882343,-1.4761764705882354,-1.9682352941176473,-2.4602941176470585,-2.9523529411764704,-3.4444117647058818,-3.9364705882352933]
[2037,{"$f":"+Pronósticos!B23","v":-1.0571428571428587},{"$f":"+Pronósticos!C23","v":20.142857142857142},{"$f":"+Pronósticos!D23","v":3.7285714285714282},{"$f":"+Pronósticos!E23","v":13.585714285714287},{"$f":"+Pronósticos!F23","v":3.8857142857142861},{"$f":"+Pronósticos!G23","v":6.1300452985096551E-2},{"$f":"+Pronósticos!H23","v":3.0800000000000001E-2},{"$f":"+Pronósticos!I23","v":20.142857142857142},{"$f":"+Pronósticos!J23","v":21.200000000000003},{"$f":"+Pronósticos!K23","v":3.1285714285714277},22,1.0295891084449909,{"$f":"+PRODUCT(M2:M24)","v":1.6865250275525365},{"$f":"+'Multiplicatoria inversa'!F24","v":28.829223013552408},{"$f":"+C24-D24-F24-AC2","v":-1.1856117018058789},{"$f":"+IF(L24=AB5,1,VLOOKUP(AB5,'Multiplicatoria inversa'!E3:AK32,L24+4,FALSE))*P24","v":-1.2940000592753451},{"$f":"IF(L24<25-Z1+1,(C24-D24-F24-AF8)*((1+AF4)/(1+AF3))^L24,0)","v":0.12034145799418203},{"$f":"+C24-D24-F24-AG2","v":-1.3738084838373616},53.205962769877814,{"$f":"+M24*U23+AB2","v":49.336733211836815},49.342323844329883,{"$f":"+M24*W23+AF2","v":40.347987582201043},43.72856006267989,null,null,null,null,null,null,null,null,null,null,null,null,null,"iotros",3.9000000000000021,0.03,"","","",{"$f":"+IF(AR$20<$AN24,\"\",(AR$20-$AN24)/(1+$AN24)*(-$AB$3))","v":0},-0.48728155339805829,-0.97456310679611657,-1.4618446601941748,-1.9491262135922331,-2.4364077669902913,-2.9236893203883492,-3.4109708737864075]
[2038,{"$f":"+Pronósticos!B24","v":-1.0571428571428587},{"$f":"+Pronósticos!C24","v":20.142857142857142},{"$f":"+Pronósticos!D24","v":3.7285714285714282},{"$f":"+Pronósticos!E24","v":13.585714285714287},{"$f":"+Pronósticos!F24","v":3.8857142857142861},{"$f":"+Pronósticos!G24","v":6.1300452985096551E-2},{"$f":"+Pronósticos!H24","v":3.0800000000000001E-2},{"$f":"+Pronósticos!I24","v":20.142857142857142},{"$f":"+Pronósticos!J24","v":21.200000000000003},{"$f":"+Pronósticos!K24","v":3.1285714285714277},23,1.0295891084449909,{"$f":"+PRODUCT(M2:M25)","v":1.7364277994879798},{"$f":"+'Multiplicatoria inversa'!F25","v":30.711843128130226},{"$f":"+C25-D25-F25-AC2","v":-1.1856117018058789},{"$f":"+IF(L25=AB5,1,VLOOKUP(AB5,'Multiplicatoria inversa'!E3:AK32,L25+4,FALSE))*P25","v":-1.2568121094731659},{"$f":"IF(L25<25-Z1+1,(C25-D25-F25-AF8)*((1+AF4)/(1+AF3))^L25,0)","v":0.11688299439757686},{"$f":"+C25-D25-F25-AG2","v":-1.3738084838373616},53.723136915053018,{"$f":"+M25*U24+AB2","v":49.612826061977763},49.616707513681732,{"$f":"+M25*W24+AF2","v":40.056771209453842},43.648640684680458,null,null,null,null,null,null,null,null,null,null,null,null,null,"omega",12.3,0.04,"","","","",0,-0.48259615384615395,-0.9651923076923079,-1.4477884615384617,-1.9303846153846154,-2.412980769230769,-2.8955769230769226]
[2039,{"$f":"+Pronósticos!B25","v":-1.0571428571428587},{"$f":"+Pronósticos!C25","v":20.142857142857142},{"$f":"+Pronósticos!D25","v":3.7285714285714282},{"$f":"+Pronósticos!E25","v":13.585714285714287},{"$f":"+Pronósticos!F25","v":3.8857142857142861},{"$f":"+Pronósticos!G25","v":6.1300452985096551E-2},{"$f":"+Pronósticos!H25","v":3.0800000000000001E-2},{"$f":"+Pronósticos!I25","v":20.142857142857142},{"$f":"+Pronósticos!J25","v":21.200000000000003},{"$f":"+Pronósticos!K25","v":3.1285714285714277},24,1.0295891084449909,{"$f":"+PRODUCT(M2:M26)","v":1.7878071499539265},{"$f":"+'Multiplicatoria inversa'!F26","v":32.650168293439009},{"$f":"+C26-D26-F26-AC2","v":-1.1856117018058789},{"$f":"+IF(L26=AB5,1,VLOOKUP(AB5,'Multiplicatoria inversa'!E3:AK32,L26+4,FALSE))*P26","v":-1.2206928950242633},{"$f":"IF(L26<25-Z1+1,(C26-D26-F26-AF8)*((1+AF4)/(1+AF3))^L26,0)","v":0.11352392273662219},{"$f":"+C26-D26-F26-AG2","v":-1.3738084838373616},54.255613782094755,{"$f":"+M26*U25+AB2","v":49.897088253402423},49.899209951181575,{"$f":"+M26*W25+AF2","v":39.75693800387247},43.566356563538548,null,null,null,null,null,null,null,null,null,null,null,null,null,"25 se vuelve constante",0,0.05,"","","","","",0,-0.47800000000000004,-0.95600000000000007,-1.4339999999999999,-1.9119999999999995,-2.3899999999999992]
[2040,{"$f":"+Pronósticos!B26","v":-1.0571428571428587},{"$f":"+Pronósticos!C26","v":20.142857142857142},{"$f":"+Pronósticos!D26","v":3.7285714285714282},{"$f":"+Pronósticos!E26","v":13.585714285714287},{"$f":"+Pronósticos!F26","v":3.8857142857142861},{"$f":"+Pronósticos!G26","v":6.1300452985096551E-2},{"$f":"+Pronósticos!H26","v":3.0800000000000001E-2},{"$f":"+Pronósticos!I26","v":20.142857142857142},{"$f":"+Pronósticos!J26","v":21.200000000000003},{"$f":"+Pronósticos!K26","v":3.1285714285714277},25,1.0295891084449909,{"$f":"+PRODUCT(M2:M27)","v":1.8407067695926433},{"$f":"+'Multiplicatoria inversa'!F27","v":34.64584677226577},{"$f":"+C27-D27-F27-AC2","v":-1.1856117018058789},{"$f":"+IF(L27=AB5,1,VLOOKUP(AB5,'Multiplicatoria inversa'!E3:AK32,L27+4,FALSE))*P27","v":-1.1856117018058789},{"$f":"IF(L27<25-Z1+1,(C27-D27-F27-AF8)*((1+AF4)/(1+AF3))^L27,0)","v":0},{"$f":"+C27-D27-F27-AG2","v":-1.3738084838373616},54.803846164899838,{"$f":"+M27*U26+AB2","v":50.189761509635957},50.190071383940577,{"$f":"+M27*W26+AF2","v":39.44823300105574},43.481637728612867,null,null,null,null,null,null,null,null,null,null,null,null,null,"sum 1 a 24",3.964383035493543]
[2041,{"$f":"+Pronósticos!B27","v":-1.0571428571428587},{"$f":"+Pronósticos!C27","v":20.142857142857142},{"$f":"+Pronósticos!D27","v":3.7285714285714282},{"$f":"+Pronósticos!E27","v":13.585714285714287},{"$f":"+Pronósticos!F27","v":3.8857142857142861},{"$f":"+Pronósticos!G27","v":6.1300452985096551E-2},{"$f":"+Pronósticos!H27","v":3.0800000000000001E-2},{"$f":"+Pronósticos!I27","v":20.142857142857142},{"$f":"+Pronósticos!J27","v":21.200000000000003},{"$f":"+Pronósticos!K27","v":3.1285714285714277},26,1.0295891084449909,{"$f":"+PRODUCT(M2:M28)","v":1.8951716418135489},{"$f":"+'Multiplicatoria inversa'!F28","v":36.700575598023867},{"$f":"+C28-D28-F28-AC2","v":-1.1856117018058789},{"$f":"+IF(L28=AB5,1,VLOOKUP(AB5,'Multiplicatoria inversa'!E3:AK32,L28+4,FALSE))*P28","v":0},{"$f":"IF(L28<25-Z1+1,(C28-D28-F28-AF8)*((1+AF4)/(1+AF3))^L28,0)","v":0},{"$f":"+C28-D28-F28-AG2","v":-1.3738084838373616},55.368300255132802,{"$f":"+M28*U27+AB2","v":50.491094706587134},50.489539147175947,{"$f":"+M28*W27+AF2","v":39.130393692433152},43.39441213889323,null,null,null,null,null,null,null,null,null,null,null,null,null,"f",13.90237991240879]
[2042,{"$f":"+Pronósticos!B28","v":-1.0571428571428587},{"$f":"+Pronósticos!C28","v":20.142857142857142},{"$f":"+Pronósticos!D28","v":3.7285714285714282},{"$f":"+Pronósticos!E28","v":13.585714285714287},{"$f":"+Pronósticos!F28","v":3.8857142857142861},{"$f":"+Pronósticos!G28","v":6.1300452985096551E-2},{"$f":"+Pronósticos!H28","v":3.0800000000000001E-2},{"$f":"+Pronósticos!I28","v":20.142857142857142},{"$f":"+Pronósticos!J28","v":21.200000000000003},{"$f":"+Pronósticos!K28","v":3.1285714285714277},27,1.0295891084449909,{"$f":"+PRODUCT(M2:M29)","v":1.9512480810450414},{"$f":"+'Multiplicatoria inversa'!F29","v":38.816102017832364},{"$f":"+C29-D29-F29-AC2","v":-1.1856117018058789},{"$f":"+IF(L29=AB5,1,VLOOKUP(AB5,'Multiplicatoria inversa'!E3:AK32,L29+4,FALSE))*P29","v":0},{"$f":"IF(L29<25-Z1+1,(C29-D29-F29-AF8)*((1+AF4)/(1+AF3))^L29,0)","v":0},{"$f":"+C29-D29-F29-AG2","v":-1.3738084838373616},55.949456038653885,{"$f":"+M29*U28+AB2","v":50.801344084180975},50.797867894533468,{"$f":"+M29*W28+AF2","v":38.803149802039648},43.304605621740208]
[2043,{"$f":"+Pronósticos!B29","v":-1.0571428571428587},{"$f":"+Pronósticos!C29","v":20.142857142857142},{"$f":"+Pronósticos!D29","v":3.7285714285714282},{"$f":"+Pronósticos!E29","v":13.585714285714287},{"$f":"+Pronósticos!F29","v":3.8857142857142861},{"$f":"+Pronósticos!G29","v":6.1300452985096551E-2},{"$f":"+Pronósticos!H29","v":3.0800000000000001E-2},{"$f":"+Pronósticos!I29","v":20.142857142857142},{"$f":"+Pronósticos!J29","v":21.200000000000003},{"$f":"+Pronósticos!K29","v":3.1285714285714277},28,1.0295891084449909,{"$f":"+PRODUCT(M2:M30)","v":2.0089837721181634},{"$f":"+'Multiplicatoria inversa'!F30","v":40.994224978294831},{"$f":"+C30-D30-F30-AC2","v":-1.1856117018058789},{"$f":"+IF(L30=AB5,1,VLOOKUP(AB5,'Multiplicatoria inversa'!E3:AK32,L30+4,FALSE))*P30","v":0},{"$f":"IF(L30<25-Z1+1,(C30-D30-F30-AF8)*((1+AF4)/(1+AF3))^L30,0)","v":0},{"$f":"+C30-D30-F30-AG2","v":-1.3738084838373616},56.547807703677009,{"$f":"+M30*U29+AB2","v":51.120773464253432},51.115319814633253,{"$f":"+M30*W29+AF2","v":38.466223056685337},43.212141809812081,null,null,null,null,null,null,null,null,null,null,null,null,null,null,"Análisis de sensiblidad"]
[2044,{"$f":"+Pronósticos!B30","v":-1.0571428571428587},{"$f":"+Pronósticos!C30","v":20.142857142857142},{"$f":"+Pronósticos!D30","v":3.7285714285714282},{"$f":"+Pronósticos!E30","v":13.585714285714287},{"$f":"+Pronósticos!F30","v":3.8857142857142861},{"$f":"+Pronósticos!G30","v":6.1300452985096551E-2},{"$f":"+Pronósticos!H30","v":3.0800000000000001E-2},{"$f":"+Pronósticos!I30","v":20.142857142857142},{"$f":"+Pronósticos!J30","v":21.200000000000003},{"$f":"+Pronósticos!K30","v":3.1285714285714277},29,1.0295891084449909,{"$f":"+PRODUCT(M2:M31)","v":2.0684278108155945},{"$f":"+'Multiplicatoria inversa'!F31","v":43.236796655240937},{"$f":"+C31-D31-F31-AC2","v":-1.1856117018058789},{"$f":"+IF(L31=AB5,1,VLOOKUP(AB5,'Multiplicatoria inversa'!E3:AK32,L31+4,FALSE))*P31","v":0},{"$f":"IF(L31<25-Z1+1,(C31-D31-F31-AF8)*((1+AF4)/(1+AF3))^L31,0)","v":0},{"$f":"+C31-D31-F31-AG2","v":-1.3738084838373616},57.163864061004737,{"$f":"+M31*U30+AB2","v":51.449654474893364},51.442164854022948,{"$f":"+M31*W30+AF2","v":38.119326949324716},43.116942076125568,null,null,null,null,null,null,null,null,null,null,null,null,null,"H infinito","tau_s"]
[2045,{"$f":"+Pronósticos!B31","v":-1.0571428571428587},{"$f":"+Pronósticos!C31","v":20.142857142857142},{"$f":"+Pronósticos!D31","v":3.7285714285714282},{"$f":"+Pronósticos!E31","v":13.585714285714287},{"$f":"+Pronósticos!F31","v":3.8857142857142861},{"$f":"+Pronósticos!G31","v":6.1300452985096551E-2},{"$f":"+Pronósticos!H31","v":3.0800000000000001E-2},{"$f":"+Pronósticos!I31","v":20.142857142857142},{"$f":"+Pronósticos!J31","v":21.200000000000003},{"$f":"+Pronósticos!K31","v":3.1285714285714277},30,1.0295891084449909,{"$f":"+PRODUCT(M2:M32)","v":2.1296307456204522},{"$f":"+'Multiplicatoria inversa'!F32","v":45.545724028731861},{"$f":"+C32-D32-F32-AC2","v":-1.1856117018058789},null,{"$f":"IF(L32<25-Z1+1,(C32-D32-F32-AF8)*((1+AF4)/(1+AF3))^L32,0)","v":0},{"$f":"+C32-D32-F32-AG2","v":-1.3738084838373616},57.798148976697668,{"$f":"+M32*U31+AB2","v":51.788266781422621},51.778680946727846,{"$f":"+M32*W31+AF2","v":37.762166495424253},43.018925467195075,null,null,null,null,null,null,null,null,null,null,null,null,null,null,{"$f":"+(AM33-AM34)/(1+AM34)*(-$AB$3)","v":-1.4850773528540899}]
[null,null,null,null,null,null,null,null,null,null,null,null,null,null,null,null,null,null,null,null,null,null,null,null,null,null,null,null,null,null,null,null,null,null,null,null,null,"r",{"$f":"+AM20","v":6.1300452985096551E-2},"c_y/r",0,0.01,0.02,0.03,0.04,0.05,6.0000000000000005E-2,7.0000000000000007E-2,0.08,0.09,9.9999999999999992E-2]
[null,null,null,null,null,null,null,null,null,null,null,null,null,null,null,null,null,null,null,null,null,null,null,null,null,null,null,null,null,null,null,null,null,null,null,null,null,"c_y",{"$f":"+AM21","v":3.0800000000000001E-2},0,{"$f":"+IF(AO$20<$AN34,\"\",($AM$40+$AB$3)*(AO$33-$AN34)/(1+$AN34)+$AM$38)","v":12.3},{"$f":"+IF(AP$20<$AN34,\"\",($AM$40+$AB$3)*(AP$33-$AN34)/(1+$AN34)+$AM$38)","v":12.841543830354937},13.383087660709872,13.924631491064806,14.466175321419742,15.007719151774678,15.549262982129614,16.090806812484548,16.632350642839484,17.173894473194419,17.715438303549355]
[" Fecha(Anual) ","dp_t","g_t","ip_t","tau_t","i_otros_t ","r_t","c_y_t","Gasto__neto","I_presupuestarios","Costo_finan","t","1+r_t / 1+c_y_t","Multiplicatoria simple","Multiplicatoria inversa","gt - ipt - iotros  - tau_s","(gt - ipt - iotros + tau_s)","(gt - ipt - iotros - omega)(1+r/1+c_y)^t","gt - ipt - iotros  - tau_s (inf)","b_t","b_t_star dc (finito)","b_t_star tau  (finito)","b_t_star dc (infinito)","b_t_star tau  (infinito)",null,2,"H Finito","pd_s","tau_s",null,"H infinito","pd_s","tau_s",null,null,null,null,"g ",20.100000000000001,0.01,{"$f":"+IF(AO$20<$AN35,\"\",($AM$40+$AB$3)*(AO$33-$AN35)/(1+$AN35)+$AM$38)","v":""},12.3,12.836182010252411,13.372364020504824,13.908546030757234,14.444728041009647,14.980910051262057,15.517092061514468,16.053274071766879,16.589456082019289,17.1256380922717]
[{"$f":"+A3","v":2016},null,null,null,null,null,null,null,null,null,null,0,{"$f":"(1+G36)/(1+H36)","v":1},null,null,null,null,null,null,{"$f":"+T3","v":50.203076023391816},{"$f":"+T36","v":50.203076023391816},{"$f":"+T36","v":50.203076023391816},{"$f":"+T36","v":50.203076023391816},{"$f":"+T36","v":50.203076023391816},null,null,null,{"$f":"+AN4","v":-1.2315378643942743},{"$f":"+AO4","v":13.731177934885221},null,null,{"$f":"+(AF37-AF38)/(1+AF38)*(-AB37)","v":-1.4854642607282598},{"$f":"+AF45","v":13.882566411682507},null,null,null,null,"ip",3.9,0.02,"","",12.3,12.830925323877388,13.361850647754776,13.892775971632163,14.423701295509552,14.954626619386939,15.485551943264326,16.016477267141713,16.5474025910191]
[{"$f":"+A36+1","v":2017},{"$f":"+B4","v":-0.89999999999999858},{"$f":"+C4","v":20.200000000000003},3.7,13.5,3.9000000000000021,4.24E-2,0.03,20.200000000000003,21.1,2.9,1,{"$f":"(1+G37)/(1+H37)","v":1.0120388349514562},{"$f":"+PRODUCT(M36:M37)","v":1.0120388349514562},{"$f":"+'Multiplicatoria inversa'!F37","v":0},{"$f":"+C37-D37-F37-AC36","v":-1.1311779348852191},{"$f":"+IF(L37=AB39,1,VLOOKUP(AB39,'Multiplicatoria inversa'!E37:AK66,L37+4,FALSE))*P37","v":-2.0446440897585925},{"$f":"IF(L37<25-Z35+1,(C37-D37-F37-AF42)*((1+AF38)/(1+AF37))^L37,0)","v":0.29137837370200698},{"$f":"+C37-D37-F37-AG36","v":-1.282566411682506},{"$f":"+M37*T36+B37","v":49.907462569692839},{"$f":"+M37*U36+AB36","v":49.575924705298561},{"$f":"+M37*V36+P37","v":49.676284634807615},{"$f":"+M37*W36+AF36","v":49.321998308964581},{"$f":"+M37*X36+S37","v":49.524896158010336},null,null,"b_0",{"$f":"+U36","v":50.203076023391816},{"$f":"+AB37","v":50.203076023391816},null,"r",{"$f":"+AF3","v":6.1300452985096551E-2},null,null,null,null,null,"iotros",3.9000000000000021,0.03,"","","",12.3,12.825770709082462,13.351541418164924,13.877312127247386,14.403082836329848,14.928853545412309,15.454624254494769,15.980394963577231]
[{"$f":"+A37+1","v":2018},{"$f":"+B5","v":-1.1000000000000014},19.899999999999999,3.6,13.5,3.8999999999999986,4.9599999999999998E-2,3.5000000000000003E-2,19.899999999999999,21,3.1,{"$f":"+L37+1","v":2},{"$f":"(1+G38)/(1+H38)","v":1.0141062801932368},{"$f":"+PRODUCT(M36:M38)","v":1.0263149383237185},{"$f":"+'Multiplicatoria inversa'!F38","v":1.0141062801932368},{"$f":"+C38-D38-F38-AC36","v":-1.331177934885222},{"$f":"+IF(L38=AB39,1,VLOOKUP(AB39,'Multiplicatoria inversa'!E37:AK66,L38+4,FALSE))*P38","v":-2.3726814478492777},{"$f":"IF(L38<25-Z35+1,(C38-D38-F38-AF42)*((1+AF38)/(1+AF37))^L38,0)","v":9.4334840734693573E-2},{"$f":"+C38-D38-F38-AG36","v":-1.4825664116825088},49.511471220434402,{"$f":"+M38*U37+AB36","v":49.043718725636033},49.045854289939967,{"$f":"+M38*W37+AF36","v":48.532283976072932},48.740941808073671,null,null,"b_T",{"$f":"+AB4","v":50.19},{"$f":"+AC4","v":50.19},null,"c_y",{"$f":"+AF4","v":3.0800000000000001E-2},null,null,null,null,null,"omega",12.3,0.04,"","","","",12.3,12.820715221495131,13.341430442990262,13.862145664485391,14.382860885980522,14.903576107475651,15.424291328970781]
[2019,{"$f":"+B6","v":-1.1000000000000014},19.799999999999997,3.5,13.6,3.7999999999999989,5.1799999999999999E-2,3.5000000000000003E-2,19.799999999999997,20.9,3.1,{"$f":"+L38+1","v":3},1.0162318840579712,{"$f":"+PRODUCT(M36:M39)","v":1.042973963409553},{"$f":"+'Multiplicatoria inversa'!F39","v":2.0467990198137649},{"$f":"+C39-D39-F39-AC36","v":-1.2311779348852223},{"$f":"+IF(L39=AB39,1,VLOOKUP(AB39,'Multiplicatoria inversa'!E37:AK66,L39+4,FALSE))*P39","v":-2.1593912189216207},{"$f":"IF(L39<25-Z35+1,(C39-D39-F39-AF42)*((1+AF38)/(1+AF37))^L39,0)","v":0.18324754984475355},{"$f":"+C39-D39-F39-AG36","v":-1.3825664116825092},49.215135680824069,{"$f":"+M39*U38+AB36","v":48.608252817368033},48.610782975413194,{"$f":"+M39*W38+AF36","v":47.834590121912825},48.149532712696129,null,null,"T",{"$f":"+AB5-1","v":24},{"$f":"+AB39","v":24},null,"g ",{"$f":"+AF5","v":20.100000000000001},null,null,null,null,null,"25 se vuelve constante",0,0.05,"","","","","",12.3,12.815756028909464,13.331512057818925,13.847268086728388,14.363024115637849,14.878780144547312]
[2020,{"$f":"+B7","v":-1.1999999999999993},20,3.7,13.7,3.8000000000000007,5.3495934959349345E-2,4.4999999999999998E-2,20,21.2,3.2,4,1.0081300813008129,{"$f":"+PRODUCT(M36:M40)","v":1.0514534265267037},{"$f":"+'Multiplicatoria inversa'!F40","v":3.0715697435520877},{"$f":"+C40-D40-F40-AC36","v":-1.2311779348852205},{"$f":"+IF(L40=AB39,1,VLOOKUP(AB39,'Multiplicatoria inversa'!E37:AK66,L40+4,FALSE))*P40","v":-2.141976773607734},{"$f":"IF(L40<25-Z35+1,(C40-D40-F40-AF42)*((1+AF38)/(1+AF37))^L40,0)","v":0.17798124352880698},{"$f":"+C40-D40-F40-AG36","v":-1.3825664116825074},48.415258735139716,{"$f":"+M40*U39+AB36","v":47.77190400026943},47.774814658214254,{"$f":"+M40*W39+AF36","v":46.738024967866785},47.158425916563999,null,null,"Pi_t b_0",{"$f":"+VLOOKUP(AB39,L37:N66,3,FALSE)*AB37","v":91.836283978872387},{"$f":"+AB40","v":91.836283978872387},null,"ip",{"$f":"+AF6","v":3.9},null,null,null,null,null,"sum 1 a 24",{"$f":"+AM27","v":3.964383035493543}]
[2021,{"$f":"+B8","v":-1.3999999999999986},20.100000000000001,3.9,13.7,3.9000000000000021,6.0199999999999997E-2,4.4999999999999998E-2,20.100000000000001,21.5,3.4,5,1.0145454545454546,{"$f":"+PRODUCT(M36:M41)","v":1.0667472945489105},{"$f":"+'Multiplicatoria inversa'!F41","v":4.1307925761855735},{"$f":"+C41-D41-F41-AC36","v":-1.4311779348852198},{"$f":"+IF(L41=AB39,1,VLOOKUP(AB39,'Multiplicatoria inversa'!E37:AK66,L41+4,FALSE))*P41","v":-2.454234496633183},{"$f":"IF(L41<25-Z35+1,(C41-D41-F41-AF42)*((1+AF38)/(1+AF37))^L41,0)","v":0},{"$f":"+C41-D41-F41-AG36","v":-1.5825664116825067},47.719480680378119,{"$f":"+M41*U40+AB36","v":47.235230194060897},47.038543118357609,{"$f":"+M41*W40+AF36","v":45.932386524852959},46.261800245486064,null,null,"sum dpt",{"$f":"+VLOOKUP(AB39,L37:O66,4,FALSE)","v":32.81655081565782},{"$f":"+SUM(Q37:Q65)","v":-41.646184335142188},null,"iotros",3.9000000000000021,null,null,null,null,null,"f",{"$f":"+(AM40+$AB$3)*(AM33-AM34)/(1+AM34)+AM38","v":13.90237991240879}]
[2022,{"$f":"+B9","v":-1.3999999999999986},20.100000000000001,3.9,13.7,3.9000000000000021,6.0199999999999997E-2,4.4999999999999998E-2,20.100000000000001,21.5,3.4,6,1.0145454545454546,{"$f":"+PRODUCT(M36:M42)","v":1.0822636188332584},{"$f":"+'Multiplicatoria inversa'!F42","v":5.2054222863846364},{"$f":"+C42-D42-F42-AC36","v":-1.4311779348852198},{"$f":"+IF(L42=AB39,1,VLOOKUP(AB39,'Multiplicatoria inversa'!E37:AK66,L42+4,FALSE))*P42","v":-2.4190483389753594},{"$f":"IF(L42<25-Z35+1,(C42-D42-F42-AF42)*((1+AF38)/(1+AF37))^L42,0)","v":0},{"$f":"+C42-D42-F42-AG36","v":-1.5825664116825067},47.01358221754726,{"$f":"+M42*U41+AB36","v":46.690750223398418},46.29156217428487,{"$f":"+M42*W41+AF36","v":45.115029704486204},45.35213274646518,null,null,"f",{"$f":"+AB40+AB36*(AB41+1)","v":50.189921206176706},{"$f":"+AC40+AC41","v":50.1900996437302},null,"omega",12.3]
[2023,{"$f":"+B10","v":-1.0571428571428587},20.142857142857142,3.7285714285714282,13.585714285714287,3.8857142857142861,6.1300452985096551E-2,3.0800000000000001E-2,20.142857142857142,21.200000000000003,3.1285714285714277,7,1.0295891084449909,{"$f":"+PRODUCT(M36:M43)","v":1.1142868344169838},{"$f":"+'Multiplicatoria inversa'!F43","v":6.3890351993634358},{"$f":"+C43-D43-F43-AC36","v":-1.2026065063137921},{"$f":"+IF(L43=AB39,1,VLOOKUP(AB39,'Multiplicatoria inversa'!E37:AK66,L43+4,FALSE))*P43","v":-1.9742880840383257},{"$f":"IF(L43<25-Z35+1,(C43-D43-F43-AF42)*((1+AF38)/(1+AF37))^L43,0)","v":0.18636929597129531},{"$f":"+C43-D43-F43-AG36","v":-1.3539949831110789},47.347529343026899,{"$f":"+M43*U42+AB36","v":46.840750030742257},46.458681721234029,{"$f":"+M43*W42+AF36","v":44.964478950182972},45.340066937400877,null,null,"dif",{"$f":"+AB38-AB42","v":7.8793823291789522E-5},{"$f":"+AC38-AC42","v":-9.9643730202103598E-5},null,"25 se vuelve constante"]
[2024,{"$f":"+B11","v":-1.0571428571428587},20.142857142857142,3.7285714285714282,13.585714285714287,3.8857142857142861,6.1300452985096551E-2,3.0800000000000001E-2,20.142857142857142,21.200000000000003,3.1285714285714277,8,1.0295891084449909,{"$f":"+PRODUCT(M36:M44)","v":1.1472575883993736},{"$f":"+'Multiplicatoria inversa'!F44","v":7.607670163181254},{"$f":"+C44-D44-F44-AC36","v":-1.2026065063137921},{"$f":"+IF(L44=AB39,1,VLOOKUP(AB39,'Multiplicatoria inversa'!E37:AK66,L44+4,FALSE))*P44","v":-1.9175495038211241},{"$f":"IF(L44<25-Z35+1,(C44-D44-F44-AF42)*((1+AF38)/(1+AF37))^L44,0)","v":0.18101327456034635},{"$f":"+C44-D44-F44-AG36","v":-1.3539949831110789},47.69135766621725,{"$f":"+M44*U43+AB36","v":46.995188198652322},46.630746186581142,{"$f":"+M44*W43+AF36","v":44.809473533284191},45.3276441118037,null,null,"Validar",{"$f":"+VLOOKUP(AB39,L37:U66,10,FALSE)","v":50.189921206176614},{"$f":"+VLOOKUP(AC39,L37:V66,11,FALSE)","v":50.190099643730186},null,"sum 1 a 24",{"$f":"+SUM(R37:R60)","v":3.2816855950482444}]
[2025,{"$f":"+B12","v":-1.0571428571428587},20.142857142857142,3.7285714285714282,13.585714285714287,3.8857142857142861,6.1300452985096551E-2,3.0800000000000001E-2,20.142857142857142,21.200000000000003,3.1285714285714277,9,1.0295891084449909,{"$f":"+PRODUCT(M36:M45)","v":1.1812039175968614},{"$f":"+'Multiplicatoria inversa'!F45","v":8.8623634490983374},{"$f":"+C45-D45-F45-AC36","v":-1.2026065063137921},{"$f":"+IF(L45=AB39,1,VLOOKUP(AB39,'Multiplicatoria inversa'!E37:AK66,L45+4,FALSE))*P45","v":-1.8624415197216273},{"$f":"IF(L45<25-Z35+1,(C45-D45-F45-AF42)*((1+AF38)/(1+AF37))^L45,0)","v":0.17581117853289488},{"$f":"+C45-D45-F45-AG36","v":-1.3539949831110789},48.045359562948939,{"$f":"+M45*U44+AB36","v":47.154196054260723},46.807901886052946,{"$f":"+M45*W44+AF36","v":44.649881644295228},45.314853705872729,null,null,null,{"$f":"+IFERROR(ABS(AB44/AB38)-1,0)","v":-1.5699108065758693E-6},{"$f":"+IFERROR(ABS(AC44/AC38)-1,0)","v":1.9853303483419182E-6},null,"f",{"$f":"+(AF44+AB37)*(AF37-AF38)/(1+AF38)+AF42","v":13.882566411682507}]
[2026,{"$f":"+B13","v":-1.0571428571428587},20.142857142857142,3.7285714285714282,13.585714285714287,3.8857142857142861,6.1300452985096551E-2,3.0800000000000001E-2,20.142857142857142,21.200000000000003,3.1285714285714277,10,1.0295891084449909,{"$f":"+PRODUCT(M36:M46)","v":1.216154688410283},{"$f":"+'Multiplicatoria inversa'!F46","v":10.154181990717621},{"$f":"+C46-D46-F46-AC36","v":-1.2026065063137921},{"$f":"+IF(L46=AB39,1,VLOOKUP(AB39,'Multiplicatoria inversa'!E37:AK66,L46+4,FALSE))*P46","v":-1.8089172704386025},{"$f":"IF(L46<25-Z35+1,(C46-D46-F46-AF42)*((1+AF38)/(1+AF37))^L46,0)","v":0.17075858426515994},{"$f":"+C46-D46-F46-AG36","v":-1.3539949831110789},48.40983606019276,{"$f":"+M46*U45+AB36","v":47.317908810552325},46.990299464728068,{"$f":"+M46*W45+AF36","v":44.485567573596029},45.301684843233616]
[2027,{"$f":"+B14","v":-1.0571428571428587},20.142857142857142,3.7285714285714282,13.585714285714287,3.8857142857142861,6.1300452985096551E-2,3.0800000000000001E-2,20.142857142857142,21.200000000000003,3.1285714285714277,11,1.0295891084449909,{"$f":"+PRODUCT(M36:M47)","v":1.2521396213715388},{"$f":"+'Multiplicatoria inversa'!F47","v":11.48422429125613},{"$f":"+C47-D47-F47-AC36","v":-1.2026065063137921},{"$f":"+IF(L47=AB39,1,VLOOKUP(AB39,'Multiplicatoria inversa'!E37:AK66,L47+4,FALSE))*P47","v":-1.7569312414062408},{"$f":"IF(L47<25-Z35+1,(C47-D47-F47-AF42)*((1+AF38)/(1+AF37))^L47,0)","v":0.16585119526279768},{"$f":"+C47-D47-F47-AG36","v":-1.3539949831110789},48.785097092039173,{"$f":"+M47*U46+AB36","v":47.486465681343667},47.178094025138712,{"$f":"+M47*W46+AF36","v":44.316391596039871},45.288126325689774,null,null,"g",{"$f":"IFERROR(ABS(AB43)+ABS(AC43),0)","v":1.7843755349389312E-4}]
[2028,{"$f":"+B15","v":-1.0571428571428587},20.142857142857142,3.7285714285714282,13.585714285714287,3.8857142857142861,6.1300452985096551E-2,3.0800000000000001E-2,20.142857142857142,21.200000000000003,3.1285714285714277,12,1.0295891084449909,{"$f":"+PRODUCT(M36:M48)","v":1.2891893164165711},{"$f":"+'Multiplicatoria inversa'!F48","v":12.853621357661696},{"$f":"+C48-D48-F48-AC36","v":-1.2026065063137921},{"$f":"+IF(L48=AB39,1,VLOOKUP(AB39,'Multiplicatoria inversa'!E37:AK66,L48+4,FALSE))*P48","v":-1.706439226090658},{"$f":"IF(L48<25-Z35+1,(C48-D48-F48-AF42)*((1+AF38)/(1+AF37))^L48,0)","v":0.16108483850735961},{"$f":"+C48-D48-F48-AG36","v":-1.3539949831110789},49.171461763252069,{"$f":"+M48*U47+AB36","v":47.660009999664005},47.371445259162726,{"$f":"+M48*W47+AF36","v":44.142209852137519},45.274166623699976,null,null,null,"Pronosticada"]
[2029,{"$f":"+B16","v":-1.0571428571428587},20.142857142857142,3.7285714285714282,13.585714285714287,3.8857142857142861,6.1300452985096551E-2,3.0800000000000001E-2,20.142857142857142,21.200000000000003,3.1285714285714277,13,1.0295891084449909,{"$f":"+PRODUCT(M36:M49)","v":1.3273352789061446},{"$f":"+'Multiplicatoria inversa'!F49","v":14.263537662369387},{"$f":"+C49-D49-F49-AC36","v":-1.2026065063137921},{"$f":"+IF(L49=AB39,1,VLOOKUP(AB39,'Multiplicatoria inversa'!E37:AK66,L49+4,FALSE))*P49","v":-1.6573982883986869},{"$f":"IF(L49<25-Z35+1,(C49-D49-F49-AF42)*((1+AF38)/(1+AF37))^L49,0)","v":0.15645546090774917},{"$f":"+C49-D49-F49-AG36","v":-1.3539949831110789},49.569258620620801,{"$f":"+M49*U48+AB36","v":47.838689339639139},47.570517583818251,{"$f":"+M49*W48+AF36","v":43.962874225725706},45.259793866574142,null,null,"b_t_star dc (finito)","Ajuste al déficit primario"]
[2030,{"$f":"+B17","v":-1.0571428571428587},20.142857142857142,3.7285714285714282,13.585714285714287,3.8857142857142861,6.1300452985096551E-2,3.0800000000000001E-2,20.142857142857142,21.200000000000003,3.1285714285714277,14,1.0295891084449909,{"$f":"+PRODUCT(M36:M50)","v":1.3666099464165606},{"$f":"+'Multiplicatoria inversa'!F50","v":15.715172133515438},{"$f":"+C50-D50-F50-AC36","v":-1.2026065063137921},{"$f":"+IF(L50=AB39,1,VLOOKUP(AB39,'Multiplicatoria inversa'!E37:AK66,L50+4,FALSE))*P50","v":-1.6097667261669937},{"$f":"IF(L50<25-Z35+1,(C50-D50-F50-AF42)*((1+AF38)/(1+AF37))^L50,0)","v":0.15195912585365925},{"$f":"+C50-D50-F50-AG36","v":-1.3539949831110789},49.978825932341287,{"$f":"+M50*U49+AB36","v":48.022655641981672},47.775480281076405,{"$f":"+M50*W49+AF36","v":43.778232218015937},45.244995832379061,null,null,"b_t_star tau  (finito)","Ajuste al ingreso tributario"]
[2031,{"$f":"+B18","v":-1.0571428571428587},20.142857142857142,3.7285714285714282,13.585714285714287,3.8857142857142861,6.1300452985096551E-2,3.0800000000000001E-2,20.142857142857142,21.200000000000003,3.1285714285714277,15,1.0295891084449909,{"$f":"+PRODUCT(M36:M51)","v":1.4070467163230833},{"$f":"+'Multiplicatoria inversa'!F51","v":17.209759174450713},{"$f":"+C51-D51-F51-AC36","v":-1.2026065063137921},{"$f":"+IF(L51=AB39,1,VLOOKUP(AB39,'Multiplicatoria inversa'!E37:AK66,L51+4,FALSE))*P51","v":-1.5635040357004717},{"$f":"IF(L51<25-Z35+1,(C51-D51-F51-AF42)*((1+AF38)/(1+AF37))^L51,0)","v":0.14759200986805909},{"$f":"+C51-D51-F51-AG36","v":-1.3539949831110789},50.400511975663797,{"$f":"+M51*U50+AB36","v":48.212065343194446},47.986507641810903,{"$f":"+M51*W50+AF36","v":43.588126817916546},45.229759937545403,null,null,"b_t_star dc (infinito)","Ajuste al déficit primario"]
[2032,{"$f":"+B19","v":-1.0571428571428587},20.142857142857142,3.7285714285714282,13.585714285714287,3.8857142857142861,6.1300452985096551E-2,3.0800000000000001E-2,20.142857142857142,21.200000000000003,3.1285714285714277,16,1.0295891084449909,{"$f":"+PRODUCT(M36:M52)","v":1.4486799741995353},{"$f":"+'Multiplicatoria inversa'!F52","v":18.748569713420704},{"$f":"+C52-D52-F52-AC36","v":-1.2026065063137921},{"$f":"+IF(L52=AB39,1,VLOOKUP(AB39,'Multiplicatoria inversa'!E37:AK66,L52+4,FALSE))*P52","v":-1.5185708773297566},{"$f":"IF(L52<25-Z35+1,(C52-D52-F52-AF42)*((1+AF38)/(1+AF37))^L52,0)","v":0.14335039935588509},{"$f":"+C52-D52-F52-AG36","v":-1.3539949831110789},50.834675333051919,{"$f":"+M52*U51+AB36","v":48.407079508596937},48.203779114007034,{"$f":"+M52*W51+AF36","v":43.392396368517637},45.214073226167258,null,null,"b_t_star tau  (infinito)","Ajuste al ingreso tributario"]
[2033,{"$f":"+B20","v":-1.0571428571428587},20.142857142857142,3.7285714285714282,13.585714285714287,3.8857142857142861,6.1300452985096551E-2,3.0800000000000001E-2,20.142857142857142,21.200000000000003,3.1285714285714277,17,1.0295891084449909,{"$f":"+PRODUCT(M36:M53)","v":1.491545123058212},{"$f":"+'Multiplicatoria inversa'!F53","v":20.33291228430457},{"$f":"+C53-D53-F53-AC36","v":-1.2026065063137921},{"$f":"+IF(L53=AB39,1,VLOOKUP(AB39,'Multiplicatoria inversa'!E37:AK66,L53+4,FALSE))*P53","v":-1.4749290419585777},{"$f":"IF(L53<25-Z35+1,(C53-D53-F53-AF42)*((1+AF38)/(1+AF37))^L53,0)","v":0.13923068744616973},{"$f":"+C53-D53-F53-AG36","v":-1.3539949831110789},51.281685197104636,{"$f":"+M53*U52+AB36","v":48.607863969287827},48.427479455355979,{"$f":"+M53*W52+AF36","v":43.190874429625474},45.197922358984997]
[2034,{"$f":"+B21","v":-1.0571428571428587},20.142857142857142,3.7285714285714282,13.585714285714287,3.8857142857142861,6.1300452985096551E-2,3.0800000000000001E-2,20.142857142857142,21.200000000000003,3.1285714285714277,18,1.0295891084449909,{"$f":"+PRODUCT(M36:M54)","v":1.5356786134549787},{"$f":"+'Multiplicatoria inversa'!F54","v":21.964134139332337},{"$f":"+C54-D54-F54-AC36","v":-1.2026065063137921},{"$f":"+IF(L54=AB39,1,VLOOKUP(AB39,'Multiplicatoria inversa'!E37:AK66,L54+4,FALSE))*P54","v":-1.4325414185724952},{"$f":"IF(L54<25-Z35+1,(C54-D54-F54-AF42)*((1+AF38)/(1+AF37))^L54,0)","v":0.13522937092492426},{"$f":"+C54-D54-F54-AG36","v":-1.3539949831110789},51.741921684500788,{"$f":"+M54*U53+AB36","v":48.814589463160175},48.657798890364283,{"$f":"+M54*W53+AF36","v":42.98338963622939},45.181293602042203]
[2035,{"$f":"+B22","v":-1.0571428571428587},20.142857142857142,3.7285714285714282,13.585714285714287,3.8857142857142861,6.1300452985096551E-2,3.0800000000000001E-2,20.142857142857142,21.200000000000003,3.1285714285714277,19,1.0295891084449909,{"$f":"+PRODUCT(M36:M55)","v":1.5811179744851513},{"$f":"+'Multiplicatoria inversa'!F55","v":23.643622394726361},{"$f":"+C55-D55-F55-AC36","v":-1.2026065063137921},{"$f":"+IF(L55=AB39,1,VLOOKUP(AB39,'Multiplicatoria inversa'!E37:AK66,L55+4,FALSE))*P55","v":-1.3913719626813956},{"$f":"IF(L55<25-Z35+1,(C55-D55-F55-AF42)*((1+AF38)/(1+AF37))^L55,0)","v":0.13134304725616605},{"$f":"+C55-D55-F55-AG36","v":-1.3539949831110789},52.215776159232846,{"$f":"+M55*U54+AB36","v":49.027431780089053},48.894933272112034,{"$f":"+M55*W54+AF36","v":42.769765552780818},45.164172815006921]
[2036,{"$f":"+B23","v":-1.0571428571428587},20.142857142857142,3.7285714285714282,13.585714285714287,3.8857142857142861,6.1300452985096551E-2,3.0800000000000001E-2,20.142857142857142,21.200000000000003,3.1285714285714277,20,1.0295891084449909,{"$f":"+PRODUCT(M36:M56)","v":1.6279018456965169},{"$f":"+'Multiplicatoria inversa'!F56","v":25.372805210241321},{"$f":"+C56-D56-F56-AC36","v":-1.2026065063137921},{"$f":"+IF(L56=AB39,1,VLOOKUP(AB39,'Multiplicatoria inversa'!E37:AK66,L56+4,FALSE))*P56","v":-1.3513856656689121},{"$f":"IF(L56<25-Z35+1,(C56-D56-F56-AF42)*((1+AF38)/(1+AF37))^L56,0)","v":0.12756841168855806},{"$f":"+C56-D56-F56-AG36","v":-1.3539949831110789},52.703651565404897,{"$f":"+M56*U55+AB36","v":49.246571911415224},49.13908424879736,{"$f":"+M56*W55+AF36","v":42.549820523160626},45.146545439147388]
[2037,{"$f":"+B24","v":-1.0571428571428587},20.142857142857142,3.7285714285714282,13.585714285714287,3.8857142857142861,6.1300452985096551E-2,3.0800000000000001E-2,20.142857142857142,21.200000000000003,3.1285714285714277,21,1.0295891084449909,{"$f":"+PRODUCT(M36:M57)","v":1.6760700099466319},{"$f":"+'Multiplicatoria inversa'!F57","v":27.153153003605773},{"$f":"+C57-D57-F57-AC36","v":-1.2026065063137921},{"$f":"+IF(L57=AB39,1,VLOOKUP(AB39,'Multiplicatoria inversa'!E37:AK66,L57+4,FALSE))*P57","v":-1.3125485250227025},{"$f":"IF(L57<25-Z35+1,(C57-D57-F57-AF42)*((1+AF38)/(1+AF37))^L57,0)","v":0.12390225444520017},{"$f":"+C57-D57-F57-AG36","v":-1.3539949831110789},53.205962769877814,{"$f":"+M57*U56+AB36","v":49.472196203851851},49.390459435208776,{"$f":"+M57*W56+AF36","v":42.323367516207064},45.128396484951949]
[2038,{"$f":"+B25","v":-1.0571428571428587},20.142857142857142,3.7285714285714282,13.585714285714287,3.8857142857142861,6.1300452985096551E-2,3.0800000000000001E-2,20.142857142857142,21.200000000000003,3.1285714285714277,22,1.0295891084449909,{"$f":"+PRODUCT(M36:M58)","v":1.7256634272323397},{"$f":"+'Multiplicatoria inversa'!F58","v":28.986179700897885},{"$f":"+C58-D58-F58-AC36","v":-1.2026065063137921},{"$f":"+IF(L58=AB39,1,VLOOKUP(AB39,'Multiplicatoria inversa'!E37:AK66,L58+4,FALSE))*P58","v":-1.2748275154202737},{"$f":"IF(L58<25-Z35+1,(C58-D58-F58-AF42)*((1+AF38)/(1+AF37))^L58,0)","v":0.12034145799418203},{"$f":"+C58-D58-F58-AG36","v":-1.3539949831110789},53.723136915053018,{"$f":"+M58*U57+AB36","v":49.704496517945209},49.649272589271298,{"$f":"+M58*W57+AF36","v":42.090213966673062},45.109710519382659]
[2039,{"$f":"+B26","v":-1.0571428571428587},20.142857142857142,3.7285714285714282,13.585714285714287,3.8857142857142861,6.1300452985096551E-2,3.0800000000000001E-2,20.142857142857142,21.200000000000003,3.1285714285714277,23,1.0295891084449909,{"$f":"+PRODUCT(M36:M59)","v":1.7767242695202718},{"$f":"+'Multiplicatoria inversa'!F59","v":30.873444023918744},{"$f":"+C59-D59-F59-AC36","v":-1.2026065063137921},{"$f":"+IF(L59=AB39,1,VLOOKUP(AB39,'Multiplicatoria inversa'!E37:AK66,L59+4,FALSE))*P59","v":-1.2381905606457624},{"$f":"IF(L59<25-Z35+1,(C59-D59-F59-AF42)*((1+AF38)/(1+AF37))^L59,0)","v":0.11688299439757686},{"$f":"+C59-D59-F59-AG36","v":-1.3539949831110789},54.255613782094755,{"$f":"+M59*U58+AB36","v":49.943670391224082},49.915743793816368,{"$f":"+M59*W58+AF36","v":41.85016161147756},45.090471652751738]
[2040,{"$f":"+B27","v":-1.0571428571428587},20.142857142857142,3.7285714285714282,13.585714285714287,3.8857142857142861,6.1300452985096551E-2,3.0800000000000001E-2,20.142857142857142,21.200000000000003,3.1285714285714277,24,1.0295891084449909,{"$f":"+PRODUCT(M36:M60)","v":1.8292959566079543},{"$f":"+'Multiplicatoria inversa'!F60","v":32.81655081565782},{"$f":"+C60-D60-F60-AC36","v":-1.2026065063137921},{"$f":"+IF(L60=AB39,1,VLOOKUP(AB39,'Multiplicatoria inversa'!E37:AK66,L60+4,FALSE))*P60","v":-1.2026065063137921},{"$f":"IF(L60<25-Z35+1,(C60-D60-F60-AF42)*((1+AF38)/(1+AF37))^L60,0)","v":0},{"$f":"+C60-D60-F60-AG36","v":-1.3539949831110789},54.803846164899838,{"$f":"+M60*U59+AB36","v":50.189921206176614},50.190099643730186,{"$f":"+M60*W59+AF36","v":41.603006321111707},45.070663525209717]
[2041,{"$f":"+B28","v":-1.0571428571428587},20.142857142857142,3.7285714285714282,13.585714285714287,3.8857142857142861,6.1300452985096551E-2,3.0800000000000001E-2,20.142857142857142,21.200000000000003,3.1285714285714277,25,1.0295891084449909,{"$f":"+PRODUCT(M36:M61)","v":1.8834231930460104},{"$f":"+'Multiplicatoria inversa'!F61","v":34.817152404977861},{"$f":"+C61-D61-F61-AC36","v":-1.2026065063137921},{"$f":"+IF(L61=AB39,1,VLOOKUP(AB39,'Multiplicatoria inversa'!E37:AK66,L61+4,FALSE))*P61","v":0},{"$f":"IF(L61<25-Z35+1,(C61-D61-F61-AF42)*((1+AF38)/(1+AF37))^L61,0)","v":0},{"$f":"+C61-D61-F61-AG36","v":-1.3539949831110789},55.368300255132802,{"$f":"+M61*U60+AB36","v":50.443458363197443},50.472573438639621,{"$f":"+M61*W60+AF36","v":41.348537926056466},45.050269292833761]
[2042,{"$f":"+B29","v":-1.0571428571428587},20.142857142857142,3.7285714285714282,13.585714285714287,3.8857142857142861,6.1300452985096551E-2,3.0800000000000001E-2,20.142857142857142,21.200000000000003,3.1285714285714277,26,1.0295891084449909,{"$f":"+PRODUCT(M36:M62)","v":1.9391520061528598},{"$f":"+'Multiplicatoria inversa'!F62","v":36.876950011679511},{"$f":"+C62-D62-F62-AC36","v":-1.2026065063137921},{"$f":"+IF(L62=AB39,1,VLOOKUP(AB39,'Multiplicatoria inversa'!E37:AK66,L62+4,FALSE))*P62","v":0},{"$f":"IF(L62<25-Z35+1,(C62-D62-F62-AF42)*((1+AF38)/(1+AF37))^L62,0)","v":0},{"$f":"+C62-D62-F62-AG36","v":-1.3539949831110789},55.949456038653885,{"$f":"+M62*U61+AB36","v":50.704497458652199},50.763405381299499,{"$f":"+M62*W61+AF36","v":41.086540038064108},45.029271613304381]
[2043,{"$f":"+B30","v":-1.0571428571428587},20.142857142857142,3.7285714285714282,13.585714285714287,3.8857142857142861,6.1300452985096551E-2,3.0800000000000001E-2,20.142857142857142,21.200000000000003,3.1285714285714277,27,1.0295891084449909,{"$f":"+PRODUCT(M36:M63)","v":1.9965297851542383},{"$f":"+'Multiplicatoria inversa'!F63","v":38.997695193140594},{"$f":"+C63-D63-F63-AC36","v":-1.2026065063137921},{"$f":"+IF(L63=AB39,1,VLOOKUP(AB39,'Multiplicatoria inversa'!E37:AK66,L63+4,FALSE))*P63","v":0},{"$f":"IF(L63<25-Z35+1,(C63-D63-F63-AF42)*((1+AF38)/(1+AF37))^L63,0)","v":0},{"$f":"+C63-D63-F63-AG36","v":-1.3539949831110789},56.547807703677009,{"$f":"+M63*U62+AB36","v":50.973260468210746},51.062842781850009,{"$f":"+M63*W62+AF36","v":40.816789866151588},45.007652631158315]
[2044,{"$f":"+B31","v":-1.0571428571428587},20.142857142857142,3.7285714285714282,13.585714285714287,3.8857142857142861,6.1300452985096551E-2,3.0800000000000001E-2,20.142857142857142,21.200000000000003,3.1285714285714277,28,1.0295891084449909,{"$f":"+PRODUCT(M36:M64)","v":2.0556053214808214},{"$f":"+'Multiplicatoria inversa'!F64","v":41.181191333760118},{"$f":"+C64-D64-F64-AC36","v":-1.2026065063137921},{"$f":"+IF(L64=AB39,1,VLOOKUP(AB39,'Multiplicatoria inversa'!E37:AK66,L64+4,FALSE))*P64","v":0},{"$f":"IF(L64<25-Z35+1,(C64-D64-F64-AF42)*((1+AF38)/(1+AF37))^L64,0)","v":0},{"$f":"+C64-D64-F64-AG36","v":-1.3539949831110789},57.163864061004737,{"$f":"+M64*U63+AB36","v":51.249975935605121},51.371140268117898,{"$f":"+M64*W63+AF36","v":40.539058027149295},44.985393962605059]
[2045,{"$f":"+B32","v":-1.0571428571428587},20.142857142857142,3.7285714285714282,13.585714285714287,3.8857142857142861,6.1300452985096551E-2,3.0800000000000001E-2,20.142857142857142,21.200000000000003,3.1285714285714277,29,1.0295891084449909,{"$f":"+PRODUCT(M36:M65)","v":2.1164288502582176},{"$f":"+'Multiplicatoria inversa'!F65","v":43.429295178473652},{"$f":"+C65-D65-F65-AC36","v":-1.2026065063137921},{"$f":"+IF(L65=AB39,1,VLOOKUP(AB39,'Multiplicatoria inversa'!E37:AK66,L65+4,FALSE))*P65","v":0},{"$f":"IF(L65<25-Z35+1,(C65-D65-F65-AF42)*((1+AF38)/(1+AF37))^L65,0)","v":0},{"$f":"+C65-D65-F65-AG36","v":-1.3539949831110789},57.798148976697668,{"$f":"+M65*U64+AB36","v":51.534879166972637},51.688560002140285,{"$f":"+M65*W64+AF36","v":40.253108350644133},44.962476679894138]
[2046,{"$f":"+B33","v":0},0,0,0,0,0,0,0,0,0,30,1,{"$f":"+PRODUCT(M36:M66)","v":2.1164288502582176},{"$f":"+'Multiplicatoria inversa'!F66","v":44.429295178473652},{"$f":"+C66-D66-F66-AC36","v":-13.731177934885221},null,{"$f":"IF(L66<25-Z35+1,(C66-D66-F66-AF42)*((1+AF38)/(1+AF37))^L66,0)","v":0},{"$f":"+C66-D66-F66-AG36","v":-13.882566411682507},57.798148976697668,{"$f":"+M66*U65+AB36","v":50.30334130257836},37.957382067255068,{"$f":"+M66*W65+AF36","v":38.767644089915876},31.079910268211631]
[]
[]
[" Fecha(Anual) ","dp_t","g_t","ip_t","tau_t","i_otros_t ","r_t","c_y_t","Gasto__neto","I_presupuestarios","Costo_finan","t","1+r_t / 1+c_y_t","Multiplicatoria simple","Multiplicatoria inversa","gt - ipt - iotros  - tau_s","(gt - ipt - iotros + tau_s)","(gt - ipt - iotros - omega)(1+r/1+c_y)^t","gt - ipt - iotros  - tau_s (inf)","b_t","b_t_star dc (finito)","b_t_star tau  (finito)","b_t_star dc (infinito)","b_t_star tau  (infinito)",null,3,"H Finito","pd_s","tau_s",null,"H infinito","pd_s","tau_s"]
[{"$f":"+A37","v":2017},null,null,null,null,null,null,null,null,null,null,0,{"$f":"(1+G70)/(1+H70)","v":1},null,null,null,null,null,null,{"$f":"+T37","v":49.907462569692839},{"$f":"+T70","v":49.907462569692839},{"$f":"+T70","v":49.907462569692839},{"$f":"+T70","v":49.907462569692839},{"$f":"+T70","v":49.907462569692839},null,null,null,{"$f":"+AN5","v":-1.2502309577104829},{"$f":"+AO5","v":13.744313173423386},null,null,{"$f":"+(AF71-AF72)/(1+AF72)*(-AB71)","v":-1.4767173221889625},{"$f":"+AF79","v":13.867815906684539}]
[{"$f":"+A70+1","v":2018},{"$f":"+B38","v":-1.1000000000000014},{"$f":"+C38","v":19.899999999999999},3.6,13.5,3.8999999999999986,4.9599999999999998E-2,3.5000000000000003E-2,19.899999999999999,21,3.1,1,{"$f":"(1+G71)/(1+H71)","v":1.0141062801932368},{"$f":"+PRODUCT(M70:M71)","v":1.0141062801932368},{"$f":"+'Multiplicatoria inversa'!F71","v":0},{"$f":"+C71-D71-F71-AC70","v":-1.3443131734233873},{"$f":"+IF(L71=AB73,1,VLOOKUP(AB73,'Multiplicatoria inversa'!E71:AK100,L71+4,FALSE))*P71","v":-2.3960935973267006},{"$f":"IF(L71<25-Z69+1,(C71-D71-F71-AF76)*((1+AF72)/(1+AF71))^L71,0)","v":9.7126124567333355E-2},{"$f":"+C71-D71-F71-AG70","v":-1.4678159066845406},{"$f":"+M71*T70+B71","v":49.511471220434402},{"$f":"+M71*U70+AB70","v":49.361240262723918},{"$f":"+M71*V70+P71","v":49.267158047011016},{"$f":"+M71*W70+AF70","v":49.134753898245442},{"$f":"+M71*X70+S71","v":49.143655313749861},null,null,"b_0",{"$f":"+U70","v":49.907462569692839},{"$f":"+AB71","v":49.907462569692839},null,"r",{"$f":"+AF37","v":6.1300452985096551E-2}]
[{"$f":"+A71+1","v":2019},{"$f":"+B39","v":-1.1000000000000014},19.799999999999997,3.5,13.6,3.7999999999999989,5.1799999999999999E-2,3.5000000000000003E-2,19.799999999999997,20.9,3.1,{"$f":"+L71+1","v":2},{"$f":"(1+G72)/(1+H72)","v":1.0162318840579712},{"$f":"+PRODUCT(M70:M72)","v":1.0305671357557937},{"$f":"+'Multiplicatoria inversa'!F72","v":1.0162318840579712},{"$f":"+C72-D72-F72-AC70","v":-1.2443131734233877},{"$f":"+IF(L72=AB73,1,VLOOKUP(AB73,'Multiplicatoria inversa'!E71:AK100,L72+4,FALSE))*P72","v":-2.1824294150702541},{"$f":"IF(L72<25-Z69+1,(C72-D72-F72-AF76)*((1+AF72)/(1+AF71))^L72,0)","v":0.18866968146938881},{"$f":"+C72-D72-F72-AG70","v":-1.367815906684541},49.215135680824069,{"$f":"+M72*U71+AB70","v":48.912235233915624},48.822543670872456,{"$f":"+M72*W71+AF70","v":48.455586204549746},48.573533522303002,null,null,"b_T",{"$f":"+AB38","v":50.19},{"$f":"+AC38","v":50.19},null,"c_y",{"$f":"+AF38","v":3.0800000000000001E-2}]
[2020,{"$f":"+B40","v":-1.1999999999999993},20,3.7,13.7,3.8000000000000007,5.3495934959349345E-2,4.4999999999999998E-2,20,21.2,3.2,{"$f":"+L72+1","v":3},1.0081300813008129,{"$f":"+PRODUCT(M70:M73)","v":1.0389457303554344},{"$f":"+'Multiplicatoria inversa'!F73","v":2.0326240131966538},{"$f":"+C73-D73-F73-AC70","v":-1.2443131734233859},{"$f":"+IF(L73=AB73,1,VLOOKUP(AB73,'Multiplicatoria inversa'!E71:AK100,L73+4,FALSE))*P73","v":-2.1648291778519426},{"$f":"IF(L73<25-Z69+1,(C73-D73-F73-AF76)*((1+AF72)/(1+AF71))^L73,0)","v":0.18324754984475516},{"$f":"+C73-D73-F73-AG70","v":-1.3678159066845392},48.415258735139716,{"$f":"+M73*U72+AB70","v":48.059664725261356},47.975161746805753,{"$f":"+M73*W72+AF70","v":47.372816737682328},47.600624392222549,null,null,"T",{"$f":"+AB39-1","v":23},{"$f":"+AB73","v":23},null,"g ",{"$f":"+AF39","v":20.100000000000001}]
[2021,{"$f":"+B41","v":-1.3999999999999986},20.100000000000001,3.9,13.7,3.9000000000000021,6.0199999999999997E-2,4.4999999999999998E-2,20.100000000000001,21.5,3.4,4,1.0145454545454546,{"$f":"+PRODUCT(M70:M74)","v":1.0540576682515135},{"$f":"+'Multiplicatoria inversa'!F74","v":3.0767349079340596},{"$f":"+C74-D74-F74-AC70","v":-1.4443131734233852},{"$f":"+IF(L74=AB73,1,VLOOKUP(AB73,'Multiplicatoria inversa'!E71:AK100,L74+4,FALSE))*P74","v":-2.4767592678416328},{"$f":"IF(L74<25-Z69+1,(C74-D74-F74-AF76)*((1+AF72)/(1+AF71))^L74,0)","v":0},{"$f":"+C74-D74-F74-AG70","v":-1.5678159066845385},47.719480680378119,{"$f":"+M74*U73+AB70","v":47.508483436281949},47.228669107881359,{"$f":"+M74*W73+AF70","v":46.585158568041479},46.725181203970344,null,null,"Pi_t b_0",{"$f":"+VLOOKUP(AB73,L71:N100,3,FALSE)*AB71","v":90.209502175557361},{"$f":"+AB74","v":90.209502175557361},null,"ip",{"$f":"+AF40","v":3.9}]
[2022,{"$f":"+B42","v":-1.3999999999999986},20.100000000000001,3.9,13.7,3.9000000000000021,6.0199999999999997E-2,4.4999999999999998E-2,20.100000000000001,21.5,3.4,5,1.0145454545454546,{"$f":"+PRODUCT(M70:M75)","v":1.0693894161533537},{"$f":"+'Multiplicatoria inversa'!F75","v":4.1360328702312827},{"$f":"+C75-D75-F75-AC70","v":-1.4443131734233852},{"$f":"+IF(L75=AB73,1,VLOOKUP(AB73,'Multiplicatoria inversa'!E71:AK100,L75+4,FALSE))*P75","v":-2.4412501743958739},{"$f":"IF(L75<25-Z69+1,(C75-D75-F75-AF76)*((1+AF72)/(1+AF71))^L75,0)","v":0},{"$f":"+C75-D75-F75-AG70","v":-1.5678159066845385},47.01358221754726,{"$f":"+M75*U74+AB70","v":46.949284964917389},46.471318394208978,{"$f":"+M75*W74+AF70","v":45.786043552296761},45.837004296616286,null,null,"sum dpt",{"$f":"+VLOOKUP(AB73,L71:O100,4,FALSE)","v":31.009015478641132},{"$f":"+SUM(Q71:Q99)","v":-40.021986299067365},null,"iotros",3.9000000000000021]
[2023,{"$f":"+B43","v":-1.0571428571428587},20.142857142857142,3.7285714285714282,13.585714285714287,3.8857142857142861,6.1300452985096551E-2,3.0800000000000001E-2,20.142857142857142,21.200000000000003,3.1285714285714277,6,1.0295891084449909,{"$f":"+PRODUCT(M70:M76)","v":1.1010316955578408},{"$f":"+'Multiplicatoria inversa'!F76","v":5.2880035038055944},{"$f":"+C76-D76-F76-AC70","v":-1.2157417448519574},{"$f":"+IF(L76=AB73,1,VLOOKUP(AB73,'Multiplicatoria inversa'!E71:AK100,L76+4,FALSE))*P76","v":-1.9958518663650897},{"$f":"IF(L76<25-Z69+1,(C76-D76-F76-AF76)*((1+AF72)/(1+AF71))^L76,0)","v":0.19188379728060656},{"$f":"+C76-D76-F76-AG70","v":-1.3392444781131108},47.347529343026899,{"$f":"+M76*U75+AB70","v":47.08824149144862},46.630621528904967,{"$f":"+M76*W75+AF70","v":45.664094438043783},45.854035909429271,null,null,"f",{"$f":"+AB74+AB70*(AB75+1)","v":50.190840098326191},{"$f":"+AC74+AC75","v":50.187515876489996},null,"omega",12.3]
[2024,{"$f":"+B44","v":-1.0571428571428587},20.142857142857142,3.7285714285714282,13.585714285714287,3.8857142857142861,6.1300452985096551E-2,3.0800000000000001E-2,20.142857142857142,21.200000000000003,3.1285714285714277,7,1.0295891084449909,{"$f":"+PRODUCT(M70:M77)","v":1.1336102417990739},{"$f":"+'Multiplicatoria inversa'!F77","v":6.4740599213821799},{"$f":"+C77-D77-F77-AC70","v":-1.2157417448519574},{"$f":"+IF(L77=AB73,1,VLOOKUP(AB73,'Multiplicatoria inversa'!E71:AK100,L77+4,FALSE))*P77","v":-1.9384935699052459},{"$f":"IF(L77<25-Z69+1,(C77-D77-F77-AF76)*((1+AF72)/(1+AF71))^L77,0)","v":0.18636929597129531},{"$f":"+C77-D77-F77-AG70","v":-1.3392444781131108},47.69135766621725,{"$f":"+M77*U76+AB70","v":47.231309617712526},46.794638301329101,{"$f":"+M77*W76+AF70","v":45.538536958224405},45.871571472480767,null,null,"dif",{"$f":"+AB72-AB76","v":-8.4009832619358349E-4},{"$f":"+AC72-AC76","v":2.4841235100012682E-3},null,"25 se vuelve constante"]
[2025,{"$f":"+B45","v":-1.0571428571428587},20.142857142857142,3.7285714285714282,13.585714285714287,3.8857142857142861,6.1300452985096551E-2,3.0800000000000001E-2,20.142857142857142,21.200000000000003,3.1285714285714277,8,1.0295891084449909,{"$f":"+PRODUCT(M70:M78)","v":1.167152758178019},{"$f":"+'Multiplicatoria inversa'!F78","v":7.6952106909203177},{"$f":"+C78-D78-F78-AC70","v":-1.2157417448519574},{"$f":"+IF(L78=AB73,1,VLOOKUP(AB73,'Multiplicatoria inversa'!E71:AK100,L78+4,FALSE))*P78","v":-1.8827836794359567},{"$f":"IF(L78<25-Z69+1,(C78-D78-F78-AF76)*((1+AF72)/(1+AF71))^L78,0)","v":0.18101327456034635},{"$f":"+C78-D78-F78-AG70","v":-1.3392444781131108},48.045359562948939,{"$f":"+M78*U77+AB70","v":47.378611002279477},46.963508183819286,{"$f":"+M78*W77+AF70","v":45.409264344518569},45.889625897209037,null,null,"Validar",{"$f":"+VLOOKUP(AB73,L71:U100,10,FALSE)","v":50.190840098326099},{"$f":"+VLOOKUP(AC73,L71:V100,11,FALSE)","v":50.187515876489996},null,"sum 1 a 24",{"$f":"+SUM(R71:R94)","v":3.0787877460024906}]
[2026,{"$f":"+B46","v":-1.0571428571428587},20.142857142857142,3.7285714285714282,13.585714285714287,3.8857142857142861,6.1300452985096551E-2,3.0800000000000001E-2,20.142857142857142,21.200000000000003,3.1285714285714277,9,1.0295891084449909,{"$f":"+PRODUCT(M70:M79)","v":1.2016877677116187},{"$f":"+'Multiplicatoria inversa'!F79","v":8.9524942230060027},{"$f":"+C79-D79-F79-AC70","v":-1.2157417448519574},{"$f":"+IF(L79=AB73,1,VLOOKUP(AB73,'Multiplicatoria inversa'!E71:AK100,L79+4,FALSE))*P79","v":-1.8286748218224282},{"$f":"IF(L79<25-Z69+1,(C79-D79-F79-AF76)*((1+AF72)/(1+AF71))^L79,0)","v":0.17581117853289488},{"$f":"+C79-D79-F79-AG70","v":-1.3392444781131108},48.40983606019276,{"$f":"+M79*U78+AB70","v":47.530270903488478},47.137374775575566,{"$f":"+M79*W78+AF70","v":45.276166669426821},45.90821453626851,null,null,null,{"$f":"+IFERROR(ABS(AB78/AB72)-1,0)","v":1.6738360751222814E-5},{"$f":"+IFERROR(ABS(AC78/AC72)-1,0)","v":-4.9494391512250324E-5},null,"f",{"$f":"+(AF78+AB71)*(AF71-AF72)/(1+AF72)+AF76","v":13.867815906684539}]
[2027,{"$f":"+B47","v":-1.0571428571428587},20.142857142857142,3.7285714285714282,13.585714285714287,3.8857142857142861,6.1300452985096551E-2,3.0800000000000001E-2,20.142857142857142,21.200000000000003,3.1285714285714277,10,1.0295891084449909,{"$f":"+PRODUCT(M70:M80)","v":1.2372446373874568},{"$f":"+'Multiplicatoria inversa'!F80","v":10.246979653868673},{"$f":"+C80-D80-F80-AC70","v":-1.2157417448519574},{"$f":"+IF(L80=AB73,1,VLOOKUP(AB73,'Multiplicatoria inversa'!E71:AK100,L80+4,FALSE))*P80","v":-1.7761209853747508},{"$f":"IF(L80<25-Z69+1,(C80-D80-F80-AF76)*((1+AF72)/(1+AF71))^L80,0)","v":0.17075858426515994},{"$f":"+C80-D80-F80-AG70","v":-1.3392444781131108},48.785097092039173,{"$f":"+M80*U79+AB70","v":47.686418285961111},47.316385924770287,{"$f":"+M80*W79+AF70","v":45.139130752793008},45.927353196584953]
[2028,{"$f":"+B48","v":-1.0571428571428587},20.142857142857142,3.7285714285714282,13.585714285714287,3.8857142857142861,6.1300452985096551E-2,3.0800000000000001E-2,20.142857142857142,21.200000000000003,3.1285714285714277,11,1.0295891084449909,{"$f":"+PRODUCT(M70:M81)","v":1.2738536031360976},{"$f":"+'Multiplicatoria inversa'!F81","v":11.579767754525598},{"$f":"+C81-D81-F81-AC70","v":-1.2157417448519574},{"$f":"+IF(L81=AB73,1,VLOOKUP(AB73,'Multiplicatoria inversa'!E71:AK100,L81+4,FALSE))*P81","v":-1.7250774807216658},{"$f":"IF(L81<25-Z69+1,(C81-D81-F81-AF76)*((1+AF72)/(1+AF71))^L81,0)","v":0.16585119526279768},{"$f":"+C81-D81-F81-AG70","v":-1.3392444781131108},49.171461763252069,{"$f":"+M81*U80+AB70","v":47.847185930267123},47.500693854271404,{"$f":"+M81*W80+AF70","v":44.998040065561064},45.947058152796991,null,null,"g",{"$f":"IFERROR(ABS(AB77)+ABS(AC77),0)","v":3.3242218361948517E-3}]
[2029,{"$f":"+B49","v":-1.0571428571428587},20.142857142857142,3.7285714285714282,13.585714285714287,3.8857142857142861,6.1300452985096551E-2,3.0800000000000001E-2,20.142857142857142,21.200000000000003,3.1285714285714277,12,1.0295891084449909,{"$f":"+PRODUCT(M70:M82)","v":1.311545795542334},{"$f":"+'Multiplicatoria inversa'!F82","v":12.951991866827054},{"$f":"+C82-D82-F82-AC70","v":-1.2157417448519574},{"$f":"+IF(L82=AB73,1,VLOOKUP(AB73,'Multiplicatoria inversa'!E71:AK100,L82+4,FALSE))*P82","v":-1.6755009028087766},{"$f":"IF(L82<25-Z69+1,(C82-D82-F82-AF76)*((1+AF72)/(1+AF71))^L82,0)","v":0.16108483850735961},{"$f":"+C82-D82-F82-AG70","v":-1.3392444781131108},49.569258620620801,{"$f":"+M82*U81+AB70","v":48.012710545834949},47.690455291085797,{"$f":"+M82*W81+AF70","v":44.852774630684031},45.967346161095293,null,null,null,"Pronosticada"]
[2030,{"$f":"+B50","v":-1.0571428571428587},20.142857142857142,3.7285714285714282,13.585714285714287,3.8857142857142861,6.1300452985096551E-2,3.0800000000000001E-2,20.142857142857142,21.200000000000003,3.1285714285714277,13,1.0295891084449909,{"$f":"+PRODUCT(M70:M83)","v":1.350353266317208},{"$f":"+'Multiplicatoria inversa'!F83","v":14.364818867198229},{"$f":"+C83-D83-F83-AC70","v":-1.2157417448519574},{"$f":"+IF(L83=AB73,1,VLOOKUP(AB73,'Multiplicatoria inversa'!E71:AK100,L83+4,FALSE))*P83","v":-1.6273490939888819},{"$f":"IF(L83<25-Z69+1,(C83-D83-F83-AF76)*((1+AF72)/(1+AF71))^L83,0)","v":0.15645546090774917},{"$f":"+C83-D83-F83-AG70","v":-1.3392444781131108},49.978825932341287,{"$f":"+M83*U82+AB70","v":48.183132887203129},47.885831599632766,{"$f":"+M83*W82+AF70","v":44.703210921101117},45.988234473471266,null,null,"b_t_star dc (finito)","Ajuste al déficit primario"]
[2031,{"$f":"+B51","v":-1.0571428571428587},20.142857142857142,3.7285714285714282,13.585714285714287,3.8857142857142861,6.1300452985096551E-2,3.0800000000000001E-2,20.142857142857142,21.200000000000003,3.1285714285714277,14,1.0295891084449909,{"$f":"+PRODUCT(M70:M84)","v":1.3903090155533155},{"$f":"+'Multiplicatoria inversa'!F84","v":15.8194501588974},{"$f":"+C84-D84-F84-AC70","v":-1.2157417448519574},{"$f":"+IF(L84=AB73,1,VLOOKUP(AB73,'Multiplicatoria inversa'!E71:AK100,L84+4,FALSE))*P84","v":-1.5805811081730459},{"$f":"IF(L84<25-Z69+1,(C84-D84-F84-AF76)*((1+AF72)/(1+AF71))^L84,0)","v":0.15195912585365925},{"$f":"+C84-D84-F84-AG70","v":-1.3392444781131108},50.400511975663797,{"$f":"+M84*U83+AB70","v":48.358597873711503},48.086988918960913,{"$f":"+M84*W83+AF70","v":44.549221754695914},46.009740852387367,null,null,"b_t_star tau  (finito)","Ajuste al ingreso tributario"]
[2032,{"$f":"+B52","v":-1.0571428571428587},20.142857142857142,3.7285714285714282,13.585714285714287,3.8857142857142861,6.1300452985096551E-2,3.0800000000000001E-2,20.142857142857142,21.200000000000003,3.1285714285714277,15,1.0295891084449909,{"$f":"+PRODUCT(M70:M85)","v":1.431447019786571},{"$f":"+'Multiplicatoria inversa'!F85","v":17.317122693634129},{"$f":"+C85-D85-F85-AC70","v":-1.2157417448519574},{"$f":"+IF(L85=AB73,1,VLOOKUP(AB73,'Multiplicatoria inversa'!E71:AK100,L85+4,FALSE))*P85","v":-1.5351571760119231},{"$f":"IF(L85<25-Z69+1,(C85-D85-F85-AF76)*((1+AF72)/(1+AF71))^L85,0)","v":0.14759200986805909},{"$f":"+C85-D85-F85-AG70","v":-1.3392444781131108},50.834675333051919,{"$f":"+M85*U84+AB70","v":48.539254712733971},48.294098304025169,{"$f":"+M85*W84+AF70","v":44.390676186146599},46.031883585881474,null,null,"b_t_star dc (infinito)","Ajuste al déficit primario"]
[2033,{"$f":"+B53","v":-1.0571428571428587},20.142857142857142,3.7285714285714282,13.585714285714287,3.8857142857142861,6.1300452985096551E-2,3.0800000000000001E-2,20.142857142857142,21.200000000000003,3.1285714285714277,16,1.0295891084449909,{"$f":"+PRODUCT(M70:M86)","v":1.4738022608882948},{"$f":"+'Multiplicatoria inversa'!F86","v":18.859110023416275},{"$f":"+C86-D86-F86-AC70","v":-1.2157417448519574},{"$f":"+IF(L86=AB73,1,VLOOKUP(AB73,'Multiplicatoria inversa'!E71:AK100,L86+4,FALSE))*P86","v":-1.491038671077729},{"$f":"IF(L86<25-Z69+1,(C86-D86-F86-AF76)*((1+AF72)/(1+AF71))^L86,0)","v":0.14335039935588509},{"$f":"+C86-D86-F86-AG70","v":-1.3392444781131108},51.281685197104636,{"$f":"+M86*U85+AB70","v":48.725257026557607},48.507335871144065,{"$f":"+M86*W85+AF70","v":44.227439395576006},46.054681503118204,null,null,"b_t_star tau  (infinito)","Ajuste al ingreso tributario"]
[2034,{"$f":"+B54","v":-1.0571428571428587},20.142857142857142,3.7285714285714282,13.585714285714287,3.8857142857142861,6.1300452985096551E-2,3.0800000000000001E-2,20.142857142857142,21.200000000000003,3.1285714285714277,17,1.0295891084449909,{"$f":"+PRODUCT(M70:M87)","v":1.5174107558121912},{"$f":"+'Multiplicatoria inversa'!F87","v":20.446723383520144},{"$f":"+C87-D87-F87-AC70","v":-1.2157417448519574},{"$f":"+IF(L87=AB73,1,VLOOKUP(AB73,'Multiplicatoria inversa'!E71:AK100,L87+4,FALSE))*P87","v":-1.4481880770180977},{"$f":"IF(L87<25-Z69+1,(C87-D87-F87-AF76)*((1+AF72)/(1+AF71))^L87,0)","v":0.13923068744616973},{"$f":"+C87-D87-F87-AG70","v":-1.3392444781131108},51.741921684500788,{"$f":"+M87*U86+AB70","v":48.916762983015985},48.726882947760984,{"$f":"+M87*W86+AF70","v":44.059372573907005},46.078153990400374]
[2035,{"$f":"+B55","v":-1.0571428571428587},20.142857142857142,3.7285714285714282,13.585714285714287,3.8857142857142861,6.1300452985096551E-2,3.0800000000000001E-2,20.142857142857142,21.200000000000003,3.1285714285714277,18,1.0295891084449909,{"$f":"+PRODUCT(M70:M88)","v":1.5623095872215136},{"$f":"+'Multiplicatoria inversa'!F88","v":22.081312807504844},{"$f":"+C88-D88-F88-AC70","v":-1.2157417448519574},{"$f":"+IF(L88=AB73,1,VLOOKUP(AB73,'Multiplicatoria inversa'!E71:AK100,L88+4,FALSE))*P88","v":-1.4065689556538972},{"$f":"IF(L88<25-Z69+1,(C88-D88-F88-AF76)*((1+AF72)/(1+AF71))^L88,0)","v":0.13522937092492426},{"$f":"+C88-D88-F88-AG70","v":-1.3392444781131108},52.215776159232846,{"$f":"+M88*U87+AB70","v":49.113935429987876},48.952926226636706,{"$f":"+M88*W87+AF70","v":43.886332804825635},46.102321007654211]
[2036,{"$f":"+B56","v":-1.0571428571428587},20.142857142857142,3.7285714285714282,13.585714285714287,3.8857142857142861,6.1300452985096551E-2,3.0800000000000001E-2,20.142857142857142,21.200000000000003,3.1285714285714277,19,1.0295891084449909,{"$f":"+PRODUCT(M70:M89)","v":1.6085369350224599},{"$f":"+'Multiplicatoria inversa'!F89","v":23.764268275218864},{"$f":"+C89-D89-F89-AC70","v":-1.2157417448519574},{"$f":"+IF(L89=AB73,1,VLOOKUP(AB73,'Multiplicatoria inversa'!E71:AK100,L89+4,FALSE))*P89","v":-1.3661459159938731},{"$f":"IF(L89<25-Z69+1,(C89-D89-F89-AF76)*((1+AF72)/(1+AF71))^L89,0)","v":0.13134304725616605},{"$f":"+C89-D89-F89-AG70","v":-1.3392444781131108},52.703651565404897,{"$f":"+M89*U88+AB70","v":49.316942033875577},49.185657924604342,{"$f":"+M89*W88+AF70","v":43.708172943251618},46.127203105402366]
[2037,{"$f":"+B57","v":-1.0571428571428587},20.142857142857142,3.7285714285714282,13.585714285714287,3.8857142857142861,6.1300452985096551E-2,3.0800000000000001E-2,20.142857142857142,21.200000000000003,3.1285714285714277,20,1.0295891084449909,{"$f":"+PRODUCT(M70:M90)","v":1.6561321088306127},{"$f":"+'Multiplicatoria inversa'!F90","v":25.497020894775162},{"$f":"+C90-D90-F90-AC70","v":-1.2157417448519574},{"$f":"+IF(L90=AB73,1,VLOOKUP(AB73,'Multiplicatoria inversa'!E71:AK100,L90+4,FALSE))*P90","v":-1.3268845841397747},{"$f":"IF(L90<25-Z69+1,(C90-D90-F90-AF76)*((1+AF72)/(1+AF71))^L90,0)","v":0.12756841168855806},{"$f":"+C90-D90-F90-AG70","v":-1.3392444781131108},53.205962769877814,{"$f":"+M90*U89+AB70","v":49.525955422180765},49.425275946021728,{"$f":"+M90*W89+AF70","v":43.524741490212946},46.152821442239123]
[2038,{"$f":"+B58","v":-1.0571428571428587},20.142857142857142,3.7285714285714282,13.585714285714287,3.8857142857142861,6.1300452985096551E-2,3.0800000000000001E-2,20.142857142857142,21.200000000000003,3.1285714285714277,21,1.0295891084449909,{"$f":"+PRODUCT(M70:M91)","v":1.7051355813980331},{"$f":"+'Multiplicatoria inversa'!F91","v":27.281044119499853},{"$f":"+C91-D91-F91-AC70","v":-1.2157417448519574},{"$f":"+IF(L91=AB73,1,VLOOKUP(AB73,'Multiplicatoria inversa'!E71:AK100,L91+4,FALSE))*P91","v":-1.2887515740563682},{"$f":"IF(L91<25-Z69+1,(C91-D91-F91-AF76)*((1+AF72)/(1+AF71))^L91,0)","v":0.12390225444520017},{"$f":"+C91-D91-F91-AG70","v":-1.3392444781131108},53.723136915053018,{"$f":"+M91*U90+AB70","v":49.741153330298971},49.671984051060207,{"$f":"+M91*W90+AF70","v":43.335882464018091},46.179197802822728]
[2039,{"$f":"+B59","v":-1.0571428571428587},20.142857142857142,3.7285714285714282,13.585714285714287,3.8857142857142861,6.1300452985096551E-2,3.0800000000000001E-2,20.142857142857142,21.200000000000003,3.1285714285714277,22,1.0295891084449909,{"$f":"+PRODUCT(M70:M92)","v":1.755589023029432},{"$f":"+'Multiplicatoria inversa'!F92","v":29.117855000889307},{"$f":"+C92-D92-F92-AC70","v":-1.2157417448519574},{"$f":"+IF(L92=AB73,1,VLOOKUP(AB73,'Multiplicatoria inversa'!E71:AK100,L92+4,FALSE))*P92","v":-1.2517144591814844},{"$f":"IF(L92<25-Z69+1,(C92-D92-F92-AF76)*((1+AF72)/(1+AF71))^L92,0)","v":0.12034145799418203},{"$f":"+C92-D92-F92-AG70","v":-1.3392444781131108},54.255613782094755,{"$f":"+M92*U91+AB70","v":49.962718752657622},49.925992028972928,{"$f":"+M92*W91+AF70","v":43.141435267616338},46.206354616400027]
[2040,{"$f":"+B60","v":-1.0571428571428587},20.142857142857142,3.7285714285714282,13.585714285714287,3.8857142857142861,6.1300452985096551E-2,3.0800000000000001E-2,20.142857142857142,21.200000000000003,3.1285714285714277,23,1.0295891084449909,{"$f":"+PRODUCT(M70:M93)","v":1.8075353370166853},{"$f":"+'Multiplicatoria inversa'!F93","v":31.009015478641132},{"$f":"+C93-D93-F93-AC70","v":-1.2157417448519574},{"$f":"+IF(L93=AB73,1,VLOOKUP(AB73,'Multiplicatoria inversa'!E71:AK100,L93+4,FALSE))*P93","v":-1.2157417448519574},{"$f":"IF(L93<25-Z69+1,(C93-D93-F93-AF76)*((1+AF72)/(1+AF71))^L93,0)","v":0},{"$f":"+C93-D93-F93-AG70","v":-1.3392444781131108},54.803846164899838,{"$f":"+M93*U92+AB70","v":50.190840098326099},50.187515876489996,{"$f":"+M93*W92+AF70","v":42.941234552033428},46.234314975879279]
[2041,{"$f":"+B61","v":-1.0571428571428587},20.142857142857142,3.7285714285714282,13.585714285714287,3.8857142857142861,6.1300452985096551E-2,3.0800000000000001E-2,20.142857142857142,21.200000000000003,3.1285714285714277,24,1.0295891084449909,{"$f":"+PRODUCT(M70:M94)","v":1.8610186961218251},{"$f":"+'Multiplicatoria inversa'!F94","v":32.956133708856036},{"$f":"+C94-D94-F94-AC70","v":-1.2157417448519574},{"$f":"+IF(L94=AB73,1,VLOOKUP(AB73,'Multiplicatoria inversa'!E71:AK100,L94+4,FALSE))*P94","v":0},{"$f":"IF(L94<25-Z69+1,(C94-D94-F94-AF76)*((1+AF72)/(1+AF71))^L94,0)","v":0},{"$f":"+C94-D94-F94-AG70","v":-1.3392444781131108},55.368300255132802,{"$f":"+M94*U93+AB70","v":50.425711351230177},50.456777981492195,{"$f":"+M94*W93+AF70","v":42.735110075766372},46.263102657467329]
[2042,{"$f":"+B62","v":-1.0571428571428587},20.142857142857142,3.7285714285714282,13.585714285714287,3.8857142857142861,6.1300452985096551E-2,3.0800000000000001E-2,20.142857142857142,21.200000000000003,3.1285714285714277,25,1.0295891084449909,{"$f":"+PRODUCT(M70:M95)","v":1.9160845801395292},{"$f":"+'Multiplicatoria inversa'!F95","v":34.960865431539986},{"$f":"+C95-D95-F95-AC70","v":-1.2157417448519574},{"$f":"+IF(L95=AB73,1,VLOOKUP(AB73,'Multiplicatoria inversa'!E71:AK100,L95+4,FALSE))*P95","v":0},{"$f":"IF(L95<25-Z69+1,(C95-D95-F95-AF76)*((1+AF72)/(1+AF71))^L95,0)","v":0},{"$f":"+C95-D95-F95-AG70","v":-1.3392444781131108},55.949456038653885,{"$f":"+M95*U94+AB70","v":50.667532235107046},50.734007312119431,{"$f":"+M95*W94+AF70","v":42.522886560017881},46.292742140887768]
[2043,{"$f":"+B63","v":-1.0571428571428587},20.142857142857142,3.7285714285714282,13.585714285714287,3.8857142857142861,6.1300452985096551E-2,3.0800000000000001E-2,20.142857142857142,21.200000000000003,3.1285714285714277,26,1.0295891084449909,{"$f":"+PRODUCT(M70:M96)","v":1.9727798145710524},{"$f":"+'Multiplicatoria inversa'!F96","v":37.024915378569538},{"$f":"+C96-D96-F96-AC70","v":-1.2157417448519574},{"$f":"+IF(L96=AB73,1,VLOOKUP(AB73,'Multiplicatoria inversa'!E71:AK100,L96+4,FALSE))*P96","v":0},{"$f":"IF(L96<25-Z69+1,(C96-D96-F96-AF76)*((1+AF72)/(1+AF71))^L96,0)","v":0},{"$f":"+C96-D96-F96-AG70","v":-1.3392444781131108},56.547807703677009,{"$f":"+M96*U95+AB70","v":50.91650838334121},51.019439611474738,{"$f":"+M96*W95+AF70","v":42.304383539647333},46.323258630197387]
[2044,{"$f":"+B64","v":-1.0571428571428587},20.142857142857142,3.7285714285714282,13.585714285714287,3.8857142857142861,6.1300452985096551E-2,3.0800000000000001E-2,20.142857142857142,21.200000000000003,3.1285714285714277,27,1.0295891084449909,{"$f":"+PRODUCT(M70:M97)","v":2.0311526104424842},{"$f":"+'Multiplicatoria inversa'!F97","v":39.150038723317635},{"$f":"+C97-D97-F97-AC70","v":-1.2157417448519574},{"$f":"+IF(L97=AB73,1,VLOOKUP(AB73,'Multiplicatoria inversa'!E71:AK100,L97+4,FALSE))*P97","v":0},{"$f":"IF(L97<25-Z69+1,(C97-D97-F97-AF76)*((1+AF72)/(1+AF71))^L97,0)","v":0},{"$f":"+C97-D97-F97-AG70","v":-1.3392444781131108},57.163864061004737,{"$f":"+M97*U96+AB70","v":51.172851513825691},51.31331759808937,{"$f":"+M97*W96+AF70","v":42.079415209711485},46.354678075218544]
[2045,{"$f":"+B65","v":-1.0571428571428587},20.142857142857142,3.7285714285714282,13.585714285714287,3.8857142857142861,6.1300452985096551E-2,3.0800000000000001E-2,20.142857142857142,21.200000000000003,3.1285714285714277,28,1.0295891084449909,{"$f":"+PRODUCT(M70:M98)","v":2.0912526053011931},{"$f":"+'Multiplicatoria inversa'!F98","v":41.338042573172459},{"$f":"+C98-D98-F98-AC70","v":-1.2157417448519574},{"$f":"+IF(L98=AB73,1,VLOOKUP(AB73,'Multiplicatoria inversa'!E71:AK100,L98+4,FALSE))*P98","v":0},{"$f":"IF(L98<25-Z69+1,(C98-D98-F98-AF76)*((1+AF72)/(1+AF71))^L98,0)","v":0},{"$f":"+C98-D98-F98-AG70","v":-1.3392444781131108},57.798148976697668,{"$f":"+M98*U97+AB70","v":51.436779608997206},51.615891172319536,{"$f":"+M98*W97+AF70","v":41.847790267464475},46.387027193605718]
[2046,{"$f":"+B66","v":0},0,0,0,0,0,0,0,0,0,29,1,{"$f":"+PRODUCT(M70:M99)","v":2.0912526053011931},{"$f":"+'Multiplicatoria inversa'!F99","v":42.338042573172459},{"$f":"+C99-D99-F99-AC70","v":-13.744313173423386},{"$f":"+IF(L99=AB73,1,VLOOKUP(AB73,'Multiplicatoria inversa'!E71:AK100,L99+4,FALSE))*P99","v":0},{"$f":"IF(L99<25-Z69+1,(C99-D99-F99-AF76)*((1+AF72)/(1+AF71))^L99,0)","v":0},{"$f":"+C99-D99-F99-AG70","v":-13.867815906684539},57.798148976697668,{"$f":"+M99*U98+AB70","v":50.186548651286721},37.87157799889615,{"$f":"+M99*W98+AF70","v":40.371072945275515},32.519211286921177]
[2047,{"$f":"+B67","v":0},0,0,0,0,0,0,0,0,0,30,1,{"$f":"+PRODUCT(M70:M100)","v":2.0912526053011931},{"$f":"+'Multiplicatoria inversa'!F100","v":43.338042573172459},{"$f":"+C100-D100-F100-AC70","v":-13.744313173423386},null,{"$f":"IF(L100<25-Z69+1,(C100-D100-F100-AF76)*((1+AF72)/(1+AF71))^L100,0)","v":0},{"$f":"+C100-D100-F100-AG70","v":-13.867815906684539},57.798148976697668,{"$f":"+M100*U99+AB70","v":48.936317693576235},24.127264825472764,{"$f":"+M100*W99+AF70","v":38.894355623086554},18.651395380236636]
[]
[]
[" Fecha(Anual) ","dp_t","g_t","ip_t","tau_t","i_otros_t ","r_t","c_y_t","Gasto__neto","I_presupuestarios","Costo_finan","t","1+r_t / 1+c_y_t","Multiplicatoria simple","Multiplicatoria inversa","gt - ipt - iotros  - tau_s","(gt - ipt - iotros + tau_s)","(gt - ipt - iotros - omega)(1+r/1+c_y)^t","gt - ipt - iotros  - tau_s (inf)","b_t","b_t_star dc (finito)","b_t_star tau  (finito)","b_t_star dc (infinito)","b_t_star tau  (infinito)",null,4,"H Finito","pd_s","tau_s",null,"H infinito","pd_s","tau_s"]
[{"$f":"+A71","v":2018},null,null,null,null,null,null,null,null,null,null,0,{"$f":"(1+G104)/(1+H104)","v":1},null,null,null,null,null,null,{"$f":"+T71","v":49.511471220434402},{"$f":"+T104","v":49.511471220434402},{"$f":"+T104","v":49.511471220434402},{"$f":"+T104","v":49.511471220434402},{"$f":"+T104","v":49.511471220434402},null,null,null,{"$f":"+AN6","v":-1.2591160047150294},{"$f":"+AO6","v":13.758706781349938},null,null,{"$f":"+(AF105-AF106)/(1+AF106)*(-AB105)","v":-1.4650002912124762},{"$f":"+AF113","v":13.855835490759379}]
[{"$f":"+A104+1","v":2019},{"$f":"+B72","v":-1.1000000000000014},{"$f":"+C72","v":19.799999999999997},3.5,13.6,3.7999999999999989,5.1799999999999999E-2,3.5000000000000003E-2,19.799999999999997,20.9,3.1,1,{"$f":"(1+G105)/(1+H105)","v":1.0162318840579712},{"$f":"+PRODUCT(M104:M105)","v":1.0162318840579712},{"$f":"+'Multiplicatoria inversa'!F105","v":0},{"$f":"+C105-D105-F105-AC104","v":-1.2587067813499395},{"$f":"+IF(L105=AB107,1,VLOOKUP(AB107,'Multiplicatoria inversa'!E105:AK134,L105+4,FALSE))*P105","v":-2.2076746941517817},{"$f":"IF(L105<25-Z103+1,(C105-D105-F105-AF110)*((1+AF106)/(1+AF105))^L105,0)","v":0.19425224913466843},{"$f":"+C105-D105-F105-AG104","v":-1.3558354907593806},{"$f":"+M105*T104+B105","v":49.215135680824069},{"$f":"+M105*U104+AB104","v":49.056019676109038},{"$f":"+M105*V104+P105","v":49.056428899474128},{"$f":"+M105*W104+AF104","v":48.850135389611594},{"$f":"+M105*X104+S105","v":48.959300190064688},null,null,"b_0",{"$f":"+U104","v":49.511471220434402},{"$f":"+AB105","v":49.511471220434402},null,"r",{"$f":"+AF71","v":6.1300452985096551E-2}]
[{"$f":"+A105+1","v":2020},{"$f":"+B73","v":-1.1999999999999993},20,3.7,13.7,3.8000000000000007,5.3495934959349345E-2,4.4999999999999998E-2,20,21.2,3.2,{"$f":"+L105+1","v":2},{"$f":"(1+G106)/(1+H106)","v":1.0081300813008129},{"$f":"+PRODUCT(M104:M106)","v":1.0244939318958408},{"$f":"+'Multiplicatoria inversa'!F106","v":1.0081300813008129},{"$f":"+C106-D106-F106-AC104","v":-1.2587067813499377},{"$f":"+IF(L106=AB107,1,VLOOKUP(AB107,'Multiplicatoria inversa'!E105:AK134,L106+4,FALSE))*P106","v":-2.1898708659731358},{"$f":"IF(L106<25-Z103+1,(C106-D106-F106-AF110)*((1+AF106)/(1+AF105))^L106,0)","v":0.18866968146939048},{"$f":"+C106-D106-F106-AG104","v":-1.3558354907593788},48.415258735139716,{"$f":"+M106*U105+AB104","v":48.195733099655051},48.196554873404466,{"$f":"+M106*W105+AF104","v":47.782290670672381},48.001507790281437,null,null,"b_T",{"$f":"+AB72","v":50.19},{"$f":"+AC72","v":50.19},null,"c_y",{"$f":"+AF72","v":3.0800000000000001E-2}]
[2021,{"$f":"+B74","v":-1.3999999999999986},20.100000000000001,3.9,13.7,3.9000000000000021,6.0199999999999997E-2,4.4999999999999998E-2,20.100000000000001,21.5,3.4,{"$f":"+L106+1","v":3},1.0145454545454546,{"$f":"+PRODUCT(M104:M107)","v":1.0393956618143259},{"$f":"+'Multiplicatoria inversa'!F107","v":2.0373392461197337},{"$f":"+C107-D107-F107-AC104","v":-1.458706781349937},{"$f":"+IF(L107=AB107,1,VLOOKUP(AB107,'Multiplicatoria inversa'!E105:AK134,L107+4,FALSE))*P107","v":-2.5014419353446011},{"$f":"IF(L107<25-Z103+1,(C107-D107-F107-AF110)*((1+AF106)/(1+AF105))^L107,0)","v":0},{"$f":"+C107-D107-F107-AG104","v":-1.5558354907593781},47.719480680378119,{"$f":"+M107*U106+AB104","v":47.637645940025912},47.438888890213143,{"$f":"+M107*W106+AF104","v":47.012305516487871},47.143876049198887,null,null,"T",{"$f":"+AB73-1","v":22},{"$f":"+AB107","v":22},null,"g ",{"$f":"+AF73","v":20.100000000000001}]
[2022,{"$f":"+B75","v":-1.3999999999999986},20.100000000000001,3.9,13.7,3.9000000000000021,6.0199999999999997E-2,4.4999999999999998E-2,20.100000000000001,21.5,3.4,4,1.0145454545454546,{"$f":"+PRODUCT(M104:M108)","v":1.0545141441679888},{"$f":"+'Multiplicatoria inversa'!F108","v":3.0815187260632939},{"$f":"+C108-D108-F108-AC104","v":-1.458706781349937},{"$f":"+IF(L108=AB107,1,VLOOKUP(AB107,'Multiplicatoria inversa'!E105:AK134,L108+4,FALSE))*P108","v":-2.4655789685296239},{"$f":"IF(L108<25-Z103+1,(C108-D108-F108-AF110)*((1+AF106)/(1+AF105))^L108,0)","v":0},{"$f":"+C108-D108-F108-AG104","v":-1.5558354907593781},47.01358221754726,{"$f":"+M108*U107+AB104","v":47.071441148983986},46.670202310902674,{"$f":"+M108*W107+AF104","v":46.231120578242496},46.273769664609681,null,null,"Pi_t b_0",{"$f":"+VLOOKUP(AB107,L105:N134,3,FALSE)*AB105","v":88.248870524267801},{"$f":"+AB108","v":88.248870524267801},null,"ip",{"$f":"+AF74","v":3.9}]
[2023,{"$f":"+B76","v":-1.0571428571428587},20.142857142857142,3.7285714285714282,13.585714285714287,3.8857142857142861,6.1300452985096551E-2,3.0800000000000001E-2,20.142857142857142,21.200000000000003,3.1285714285714277,5,1.0295891084449909,{"$f":"+PRODUCT(M104:M109)","v":1.0857162775365521},{"$f":"+'Multiplicatoria inversa'!F109","v":4.2022872262690418},{"$f":"+C109-D109-F109-AC104","v":-1.2301353527785093},{"$f":"+IF(L109=AB107,1,VLOOKUP(AB107,'Multiplicatoria inversa'!E105:AK134,L109+4,FALSE))*P109","v":-2.0194814812611663},{"$f":"IF(L109<25-Z103+1,(C109-D109-F109-AF110)*((1+AF106)/(1+AF105))^L109,0)","v":0.19756146776717906},{"$f":"+C109-D109-F109-AG104","v":-1.3272640621879503},47.347529343026899,{"$f":"+M109*U108+AB104","v":47.205127121088246},46.820996635451124,{"$f":"+M109*W108+AF104","v":46.134057927353084},46.315705191186396,null,null,"sum dpt",{"$f":"+VLOOKUP(AB107,L105:O134,4,FALSE)","v":29.226623068377918},{"$f":"+SUM(Q105:Q133)","v":-38.060962863130563},null,"iotros",3.9000000000000021]
[2024,{"$f":"+B77","v":-1.0571428571428587},20.142857142857142,3.7285714285714282,13.585714285714287,3.8857142857142861,6.1300452985096551E-2,3.0800000000000001E-2,20.142857142857142,21.200000000000003,3.1285714285714277,6,1.0295891084449909,{"$f":"+PRODUCT(M104:M110)","v":1.1178416542130729},{"$f":"+'Multiplicatoria inversa'!F110","v":5.3562182671691083},{"$f":"+C110-D110-F110-AC104","v":-1.2301353527785093},{"$f":"+IF(L110=AB107,1,VLOOKUP(AB107,'Multiplicatoria inversa'!E105:AK134,L110+4,FALSE))*P110","v":-1.961444099103991},{"$f":"IF(L110<25-Z103+1,(C110-D110-F110-AF110)*((1+AF106)/(1+AF105))^L110,0)","v":0.19188379728060656},{"$f":"+C110-D110-F110-AG104","v":-1.3272640621879503},47.69135766621725,{"$f":"+M110*U109+AB104","v":47.342768741918675},46.976252829621529,{"$f":"+M110*W109+AF104","v":46.034123279160546},46.358881552606682,null,null,"f",{"$f":"+AB108+AB104*(AB109+1)","v":50.190045650384654},{"$f":"+AC108+AC109","v":50.187907661137238},null,"omega",12.3]
[2025,{"$f":"+B78","v":-1.0571428571428587},20.142857142857142,3.7285714285714282,13.585714285714287,3.8857142857142861,6.1300452985096551E-2,3.0800000000000001E-2,20.142857142857142,21.200000000000003,3.1285714285714277,7,1.0295891084449909,{"$f":"+PRODUCT(M104:M111)","v":1.1509175921439114},{"$f":"+'Multiplicatoria inversa'!F111","v":6.5442930987764054},{"$f":"+C111-D111-F111-AC104","v":-1.2301353527785093},{"$f":"+IF(L111=AB107,1,VLOOKUP(AB107,'Multiplicatoria inversa'!E105:AK134,L111+4,FALSE))*P111","v":-1.9050746390143922},{"$f":"IF(L111<25-Z103+1,(C111-D111-F111-AF110)*((1+AF106)/(1+AF105))^L111,0)","v":0.18636929597129531},{"$f":"+C111-D111-F111-AG104","v":-1.3272640621879503},48.045359562948939,{"$f":"+M111*U110+AB104","v":47.484483055594396},47.136102916157995,{"$f":"+M111*W110+AF104","v":45.931231653825229},46.403335464067297,null,null,"dif",{"$f":"+AB106-AB110","v":-4.5650384656426013E-5},{"$f":"+AC106-AC110","v":2.0923388627593908E-3},null,"25 se vuelve constante"]
[2026,{"$f":"+B79","v":-1.0571428571428587},20.142857142857142,3.7285714285714282,13.585714285714287,3.8857142857142861,6.1300452985096551E-2,3.0800000000000001E-2,20.142857142857142,21.200000000000003,3.1285714285714277,8,1.0295891084449909,{"$f":"+PRODUCT(M104:M112)","v":1.1849722175891053},{"$f":"+'Multiplicatoria inversa'!F112","v":7.7675220054168967},{"$f":"+C112-D112-F112-AC104","v":-1.2301353527785093},{"$f":"+IF(L112=AB107,1,VLOOKUP(AB107,'Multiplicatoria inversa'!E105:AK134,L112+4,FALSE))*P112","v":-1.8503251669898342},{"$f":"IF(L112<25-Z103+1,(C112-D112-F112-AF110)*((1+AF106)/(1+AF105))^L112,0)","v":0.18101327456034635},{"$f":"+C112-D112-F112-AG104","v":-1.3272640621879503},48.40983606019276,{"$f":"+M112*U111+AB104","v":47.630390569465675},47.300682824239935,{"$f":"+M112*W111+AF104","v":45.825295557029783},46.449104727134923,null,null,"Validar",{"$f":"+VLOOKUP(AB107,L105:U134,10,FALSE)","v":50.190045650384562},{"$f":"+VLOOKUP(AC107,L105:V134,11,FALSE)","v":50.187907661137217},null,"sum 1 a 24",{"$f":"+SUM(R105:R128)","v":3.0698863304980692}]
[2027,{"$f":"+B80","v":-1.0571428571428587},20.142857142857142,3.7285714285714282,13.585714285714287,3.8857142857142861,6.1300452985096551E-2,3.0800000000000001E-2,20.142857142857142,21.200000000000003,3.1285714285714277,9,1.0295891084449909,{"$f":"+PRODUCT(M104:M113)","v":1.2200344890396506},{"$f":"+'Multiplicatoria inversa'!F113","v":9.0269451648290211},{"$f":"+C113-D113-F113-AC104","v":-1.2301353527785093},{"$f":"+IF(L113=AB107,1,VLOOKUP(AB107,'Multiplicatoria inversa'!E105:AK134,L113+4,FALSE))*P113","v":-1.7971491265913035},{"$f":"IF(L113<25-Z103+1,(C113-D113-F113-AF110)*((1+AF106)/(1+AF105))^L113,0)","v":0.17581117853289488},{"$f":"+C113-D113-F113-AG104","v":-1.3272640621879503},48.785097092039173,{"$f":"+M113*U112+AB104","v":47.78061535658783},47.470132505069977,{"$f":"+M113*W112+AF104","v":45.716224905578017},46.496228261890906,null,null,null,{"$f":"+IFERROR(ABS(AB112/AB106)-1,0)","v":9.0955139597781454E-7},{"$f":"+IFERROR(ABS(AC112/AC106)-1,0)","v":-4.1688361481995173E-5},null,"f",{"$f":"+(AF112+AB105)*(AF105-AF106)/(1+AF106)+AF110","v":13.855835490759379}]
[2028,{"$f":"+B81","v":-1.0571428571428587},20.142857142857142,3.7285714285714282,13.585714285714287,3.8857142857142861,6.1300452985096551E-2,3.0800000000000001E-2,20.142857142857142,21.200000000000003,3.1285714285714277,10,1.0295891084449909,{"$f":"+PRODUCT(M104:M114)","v":1.2561342218424738},{"$f":"+'Multiplicatoria inversa'!F114","v":10.323633532683123},{"$f":"+C114-D114-F114-AC104","v":-1.2301353527785093},{"$f":"+IF(L114=AB107,1,VLOOKUP(AB107,'Multiplicatoria inversa'!E105:AK134,L114+4,FALSE))*P114","v":-1.7455012993538499},{"$f":"IF(L114<25-Z103+1,(C114-D114-F114-AF110)*((1+AF106)/(1+AF105))^L114,0)","v":0.17075858426515994},{"$f":"+C114-D114-F114-AG104","v":-1.3272640621879503},49.171461763252069,{"$f":"+M114*U113+AB104","v":47.93528516122727},47.644596050882065,{"$f":"+M114*W113+AF104","v":45.603926950792278},46.544746140027094]
[2029,{"$f":"+B82","v":-1.0571428571428587},20.142857142857142,3.7285714285714282,13.585714285714287,3.8857142857142861,6.1300452985096551E-2,3.0800000000000001E-2,20.142857142857142,21.200000000000003,3.1285714285714277,11,1.0295891084449909,{"$f":"+PRODUCT(M104:M115)","v":1.293302113554035},{"$f":"+'Multiplicatoria inversa'!F115","v":11.65868975327302},{"$f":"+C115-D115-F115-AC104","v":-1.2301353527785093},{"$f":"+IF(L115=AB107,1,VLOOKUP(AB107,'Multiplicatoria inversa'!E105:AK134,L115+4,FALSE))*P115","v":-1.6953377663348785},{"$f":"IF(L115<25-Z103+1,(C115-D115-F115-AF110)*((1+AF106)/(1+AF105))^L115,0)","v":0.16585119526279768},{"$f":"+C115-D115-F115-AG104","v":-1.3272640621879503},49.569258620620801,{"$f":"+M115*U114+AB104","v":48.09453150748935},47.824221817470885,{"$f":"+M115*W114+AF104","v":45.488306199644235},46.594699618920977,null,null,"g",{"$f":"IFERROR(ABS(AB111)+ABS(AC111),0)","v":2.1379892474158169E-3}]
[2030,{"$f":"+B83","v":-1.0571428571428587},20.142857142857142,3.7285714285714282,13.585714285714287,3.8857142857142861,6.1300452985096551E-2,3.0800000000000001E-2,20.142857142857142,21.200000000000003,3.1285714285714277,12,1.0295891084449909,{"$f":"+PRODUCT(M104:M116)","v":1.3315697700441211},{"$f":"+'Multiplicatoria inversa'!F116","v":13.03324909715411},{"$f":"+C116-D116-F116-AC104","v":-1.2301353527785093},{"$f":"+IF(L116=AB107,1,VLOOKUP(AB107,'Multiplicatoria inversa'!E105:AK134,L116+4,FALSE))*P116","v":-1.646615870767496},{"$f":"IF(L116<25-Z103+1,(C116-D116-F116-AF110)*((1+AF106)/(1+AF105))^L116,0)","v":0.16108483850735961},{"$f":"+C116-D116-F116-AG104","v":-1.3272640621879503},49.978825932341287,{"$f":"+M116*U115+AB104","v":48.258489811160452},48.009162550346815,{"$f":"+M116*W115+AF104","v":45.369264333551982},46.646131176719052,null,null,null,"Pronosticada"]
[2031,{"$f":"+B84","v":-1.0571428571428587},20.142857142857142,3.7285714285714282,13.585714285714287,3.8857142857142861,6.1300452985096551E-2,3.0800000000000001E-2,20.142857142857142,21.200000000000003,3.1285714285714277,13,1.0295891084449909,{"$f":"+PRODUCT(M104:M117)","v":1.3709697323720282},{"$f":"+'Multiplicatoria inversa'!F117","v":14.448480426525371},{"$f":"+C117-D117-F117-AC104","v":-1.2301353527785093},{"$f":"+IF(L117=AB107,1,VLOOKUP(AB107,'Multiplicatoria inversa'!E105:AK134,L117+4,FALSE))*P117","v":-1.5992941817871529},{"$f":"IF(L117<25-Z103+1,(C117-D117-F117-AF110)*((1+AF106)/(1+AF105))^L117,0)","v":0.15645546090774917},{"$f":"+C117-D117-F117-AG104","v":-1.3272640621879503},50.400511975663797,{"$f":"+M117*U116+AB104","v":48.427299494859334},48.19957551462371,{"$f":"+M117*W116+AF104","v":45.246700124774428},46.699084548458309,null,null,"b_t_star dc (finito)","Ajuste al déficit primario"]
[2032,{"$f":"+B85","v":-1.0571428571428587},20.142857142857142,3.7285714285714282,13.585714285714287,3.8857142857142861,6.1300452985096551E-2,3.0800000000000001E-2,20.142857142857142,21.200000000000003,3.1285714285714277,14,1.0295891084449909,{"$f":"+PRODUCT(M104:M118)","v":1.4115355044579843},{"$f":"+'Multiplicatoria inversa'!F118","v":15.905587189176149},{"$f":"+C118-D118-F118-AC104","v":-1.2301353527785093},{"$f":"+IF(L118=AB107,1,VLOOKUP(AB107,'Multiplicatoria inversa'!E105:AK134,L118+4,FALSE))*P118","v":-1.553332459200738},{"$f":"IF(L118<25-Z103+1,(C118-D118-F118-AF110)*((1+AF106)/(1+AF105))^L118,0)","v":0.15195912585365925},{"$f":"+C118-D118-F118-AG104","v":-1.3272640621879503},50.834675333051919,{"$f":"+M118*U117+AB104","v":48.601104106595741},48.395622628749926,{"$f":"+M118*W117+AF104","v":45.120509350331886},46.75360476325649,null,null,"b_t_star tau  (finito)","Ajuste al ingreso tributario"]
[2033,{"$f":"+B86","v":-1.0571428571428587},20.142857142857142,3.7285714285714282,13.585714285714287,3.8857142857142861,6.1300452985096551E-2,3.0800000000000001E-2,20.142857142857142,21.200000000000003,3.1285714285714277,15,1.0295891084449909,{"$f":"+PRODUCT(M104:M119)","v":1.4533015815733463},{"$f":"+'Multiplicatoria inversa'!F119","v":17.405808441842929},{"$f":"+C119-D119-F119-AC104","v":-1.2301353527785093},{"$f":"+IF(L119=AB107,1,VLOOKUP(AB107,'Multiplicatoria inversa'!E105:AK134,L119+4,FALSE))*P119","v":-1.5086916192681634},{"$f":"IF(L119<25-Z103+1,(C119-D119-F119-AF110)*((1+AF106)/(1+AF105))^L119,0)","v":0.14759200986805909},{"$f":"+C119-D119-F119-AG104","v":-1.3272640621879503},51.281685197104636,{"$f":"+M119*U118+AB104","v":48.78005144183706},48.597470602196353,{"$f":"+M119*W118+AF104","v":44.990584703379604},46.809738182602779,null,null,"b_t_star dc (infinito)","Ajuste al déficit primario"]
[2034,{"$f":"+B87","v":-1.0571428571428587},20.142857142857142,3.7285714285714282,13.585714285714287,3.8857142857142861,6.1300452985096551E-2,3.0800000000000001E-2,20.142857142857142,21.200000000000003,3.1285714285714277,16,1.0295891084449909,{"$f":"+PRODUCT(M104:M120)","v":1.4963034796737968},{"$f":"+'Multiplicatoria inversa'!F120","v":18.950419903846349},{"$f":"+C120-D120-F120-AC104","v":-1.2301353527785093},{"$f":"+IF(L120=AB107,1,VLOOKUP(AB107,'Multiplicatoria inversa'!E105:AK134,L120+4,FALSE))*P120","v":-1.4653337014673462},{"$f":"IF(L120<25-Z103+1,(C120-D120-F120-AF110)*((1+AF106)/(1+AF105))^L120,0)","v":0.14335039935588509},{"$f":"+C120-D120-F120-AG104","v":-1.3272640621879503},51.741921684500788,{"$f":"+M120*U119+AB104","v":48.964293669186773},48.805291077218484,{"$f":"+M120*W119+AF104","v":44.856815701958972},46.867532539781493,null,null,"b_t_star tau  (infinito)","Ajuste al ingreso tributario"]
[2035,{"$f":"+B88","v":-1.0571428571428587},20.142857142857142,3.7285714285714282,13.585714285714287,3.8857142857142861,6.1300452985096551E-2,3.0800000000000001E-2,20.142857142857142,21.200000000000003,3.1285714285714277,17,1.0295891084449909,{"$f":"+PRODUCT(M104:M121)","v":1.540577765600482},{"$f":"+'Multiplicatoria inversa'!F121","v":20.540735041904362},{"$f":"+C121-D121-F121-AC104","v":-1.2301353527785093},{"$f":"+IF(L121=AB107,1,VLOOKUP(AB107,'Multiplicatoria inversa'!E105:AK134,L121+4,FALSE))*P121","v":-1.4232218362143216},{"$f":"IF(L121<25-Z103+1,(C121-D121-F121-AF110)*((1+AF106)/(1+AF105))^L121,0)","v":0.13923068744616973},{"$f":"+C121-D121-F121-AG104","v":-1.3272640621879503},52.215776159232846,{"$f":"+M121*U120+AB104","v":49.153987459781689},49.019260774813134,{"$f":"+M121*W120+AF104","v":44.719088595048731},46.927036980462276]
[2036,{"$f":"+B89","v":-1.0571428571428587},20.142857142857142,3.7285714285714282,13.585714285714287,3.8857142857142861,6.1300452985096551E-2,3.0800000000000001E-2,20.142857142857142,21.200000000000003,3.1285714285714277,18,1.0295891084449909,{"$f":"+PRODUCT(M104:M122)","v":1.5861620881747764},{"$f":"+'Multiplicatoria inversa'!F122","v":22.178106187044087},{"$f":"+C122-D122-F122-AC104","v":-1.2301353527785093},{"$f":"+IF(L122=AB107,1,VLOOKUP(AB107,'Multiplicatoria inversa'!E105:AK134,L122+4,FALSE))*P122","v":-1.3823202135110406},{"$f":"IF(L122<25-Z103+1,(C122-D122-F122-AF110)*((1+AF106)/(1+AF105))^L122,0)","v":0.13522937092492426},{"$f":"+C122-D122-F122-AG104","v":-1.3272640621879503},52.703651565404897,{"$f":"+M122*U121+AB104","v":49.349294120517854},49.239561644993856,{"$f":"+M122*W121+AF104","v":44.577286265836307},46.988302104491318]
[2037,{"$f":"+B90","v":-1.0571428571428587},20.142857142857142,3.7285714285714282,13.585714285714287,3.8857142857142861,6.1300452985096551E-2,3.0800000000000001E-2,20.142857142857142,21.200000000000003,3.1285714285714277,19,1.0295891084449909,{"$f":"+PRODUCT(M104:M123)","v":1.6330952102131131},{"$f":"+'Multiplicatoria inversa'!F123","v":23.863925684562048},{"$f":"+C123-D123-F123-AC104","v":-1.2301353527785093},{"$f":"+IF(L123=AB107,1,VLOOKUP(AB107,'Multiplicatoria inversa'!E105:AK134,L123+4,FALSE))*P123","v":-1.3425940524941902},{"$f":"IF(L123<25-Z103+1,(C123-D123-F123-AF110)*((1+AF106)/(1+AF105))^L123,0)","v":0.13134304725616605},{"$f":"+C123-D123-F123-AG104","v":-1.3272640621879503},53.205962769877814,{"$f":"+M123*U122+AB104","v":49.550379731218577},49.466381021512881,{"$f":"+M123*W122+AF104","v":44.431288132127065},47.051380008919153]
[2038,{"$f":"+B91","v":-1.0571428571428587},20.142857142857142,3.7285714285714282,13.585714285714287,3.8857142857142861,6.1300452985096551E-2,3.0800000000000001E-2,20.142857142857142,21.200000000000003,3.1285714285714277,20,1.0295891084449909,{"$f":"+PRODUCT(M104:M124)","v":1.6814170414891041},{"$f":"+'Multiplicatoria inversa'!F124","v":25.599627078010748},{"$f":"+C124-D124-F124-AC104","v":-1.2301353527785093},{"$f":"+IF(L124=AB107,1,VLOOKUP(AB107,'Multiplicatoria inversa'!E105:AK134,L124+4,FALSE))*P124","v":-1.304009571859144},{"$f":"IF(L124<25-Z103+1,(C124-D124-F124-AF110)*((1+AF106)/(1+AF105))^L124,0)","v":0.12756841168855806},{"$f":"+C124-D124-F124-AG104","v":-1.3272640621879503},53.723136915053018,{"$f":"+M124*U123+AB104","v":49.75741528586105},49.699911781161148,{"$f":"+M124*W123+AF104","v":44.280970043806732},47.116324332301588]
[2039,{"$f":"+B92","v":-1.0571428571428587},20.142857142857142,3.7285714285714282,13.585714285714287,3.8857142857142861,6.1300452985096551E-2,3.0800000000000001E-2,20.142857142857142,21.200000000000003,3.1285714285714277,21,1.0295891084449909,{"$f":"+PRODUCT(M104:M125)","v":1.731168672670981},{"$f":"+'Multiplicatoria inversa'!F125","v":27.386686328218325},{"$f":"+C125-D125-F125-AC104","v":-1.2301353527785093},{"$f":"+IF(L125=AB107,1,VLOOKUP(AB107,'Multiplicatoria inversa'!E105:AK134,L125+4,FALSE))*P125","v":-1.2665339611338897},{"$f":"IF(L125<25-Z103+1,(C125-D125-F125-AF110)*((1+AF106)/(1+AF105))^L125,0)","v":0.12390225444520017},{"$f":"+C125-D125-F125-AG104","v":-1.3272640621879503},54.255613782094755,{"$f":"+M125*U124+AB104","v":49.970576837981802},49.940352507781895,{"$f":"+M125*W124+AF104","v":44.126204177269848},47.183190300311473]
[2040,{"$f":"+B93","v":-1.0571428571428587},20.142857142857142,3.7285714285714282,13.585714285714287,3.8857142857142861,6.1300452985096551E-2,3.0800000000000001E-2,20.142857142857142,21.200000000000003,3.1285714285714277,22,1.0295891084449909,{"$f":"+PRODUCT(M104:M126)","v":1.7823924102632134},{"$f":"+'Multiplicatoria inversa'!F126","v":29.226623068377918},{"$f":"+C126-D126-F126-AC104","v":-1.2301353527785093},{"$f":"+IF(L126=AB107,1,VLOOKUP(AB107,'Multiplicatoria inversa'!E105:AK134,L126+4,FALSE))*P126","v":-1.2301353527785093},{"$f":"IF(L126<25-Z103+1,(C126-D126-F126-AF110)*((1+AF106)/(1+AF105))^L126,0)","v":0},{"$f":"+C126-D126-F126-AG104","v":-1.3272640621879503},54.803846164899838,{"$f":"+M126*U125+AB104","v":50.190045650384562},50.187907661137217,{"$f":"+M126*W125+AF104","v":43.96685892672442},47.252034772700078]
[2041,{"$f":"+B94","v":-1.0571428571428587},20.142857142857142,3.7285714285714282,13.585714285714287,3.8857142857142861,6.1300452985096551E-2,3.0800000000000001E-2,20.142857142857142,21.200000000000003,3.1285714285714277,23,1.0295891084449909,{"$f":"+PRODUCT(M104:M127)","v":1.8351318125820202},{"$f":"+'Multiplicatoria inversa'!F127","v":31.121001896274016},{"$f":"+C127-D127-F127-AC104","v":-1.2301353527785093},{"$f":"+IF(L127=AB107,1,VLOOKUP(AB107,'Multiplicatoria inversa'!E105:AK134,L127+4,FALSE))*P127","v":0},{"$f":"IF(L127<25-Z103+1,(C127-D127-F127-AF110)*((1+AF106)/(1+AF105))^L127,0)","v":0},{"$f":"+C127-D127-F127-AG104","v":-1.3272640621879503},55.368300255132802,{"$f":"+M127*U126+AB104","v":50.416008349277803},50.442787750771281,{"$f":"+M127*W126+AF104","v":43.802798792280406},47.322916291648028]
[2042,{"$f":"+B95","v":-1.0571428571428587},20.142857142857142,3.7285714285714282,13.585714285714287,3.8857142857142861,6.1300452985096551E-2,3.0800000000000001E-2,20.142857142857142,21.200000000000003,3.1285714285714277,24,1.0295891084449909,{"$f":"+PRODUCT(M104:M128)","v":1.8894317267953622},{"$f":"+'Multiplicatoria inversa'!F128","v":33.071433704744621},{"$f":"+C128-D128-F128-AC104","v":-1.2301353527785093},{"$f":"+IF(L128=AB107,1,VLOOKUP(AB107,'Multiplicatoria inversa'!E105:AK134,L128+4,FALSE))*P128","v":0},{"$f":"IF(L128<25-Z103+1,(C128-D128-F128-AF110)*((1+AF106)/(1+AF105))^L128,0)","v":0},{"$f":"+C128-D128-F128-AG104","v":-1.3272640621879503},55.949456038653885,{"$f":"+M128*U127+AB104","v":50.648657082973116},50.705209515017998,{"$f":"+M128*W127+AF104","v":43.633884264726831},47.395895131546872]
[2043,{"$f":"+B96","v":-1.0571428571428587},20.142857142857142,3.7285714285714282,13.585714285714287,3.8857142857142861,6.1300452985096551E-2,3.0800000000000001E-2,20.142857142857142,21.200000000000003,3.1285714285714277,25,1.0295891084449909,{"$f":"+PRODUCT(M104:M129)","v":1.9453383270589164},{"$f":"+'Multiplicatoria inversa'!F129","v":35.079577051510626},{"$f":"+C129-D129-F129-AC104","v":-1.2301353527785093},{"$f":"+IF(L129=AB107,1,VLOOKUP(AB107,'Multiplicatoria inversa'!E105:AK134,L129+4,FALSE))*P129","v":0},{"$f":"IF(L129<25-Z103+1,(C129-D129-F129-AF110)*((1+AF106)/(1+AF105))^L129,0)","v":0},{"$f":"+C129-D129-F129-AG104","v":-1.3272640621879503},56.547807703677009,{"$f":"+M129*U128+AB104","v":50.888189685279329},50.975396105305336,{"$f":"+M129*W128+AF104","v":43.459971706899537},47.471033350253677]
[2044,{"$f":"+B97","v":-1.0571428571428587},20.142857142857142,3.7285714285714282,13.585714285714287,3.8857142857142861,6.1300452985096551E-2,3.0800000000000001E-2,20.142857142857142,21.200000000000003,3.1285714285714277,26,1.0295891084449909,{"$f":"+PRODUCT(M104:M130)","v":2.0028991537804597},{"$f":"+'Multiplicatoria inversa'!F130","v":37.147139569537174},{"$f":"+C130-D130-F130-AC104","v":-1.2301353527785093},{"$f":"+IF(L130=AB107,1,VLOOKUP(AB107,'Multiplicatoria inversa'!E105:AK134,L130+4,FALSE))*P130","v":0},{"$f":"IF(L130<25-Z103+1,(C130-D130-F130-AF110)*((1+AF106)/(1+AF105))^L130,0)","v":0},{"$f":"+C130-D130-F130-AG104","v":-1.3272640621879503},57.163864061004737,{"$f":"+M130*U129+AB104","v":51.13480984373129},51.253577275913067,{"$f":"+M130*W129+AF104","v":43.280913231538747},47.548394841862162]
[2045,{"$f":"+B98","v":-1.0571428571428587},20.142857142857142,3.7285714285714282,13.585714285714287,3.8857142857142861,6.1300452985096551E-2,3.0800000000000001E-2,20.142857142857142,21.200000000000003,3.1285714285714277,27,1.0295891084449909,{"$f":"+PRODUCT(M104:M131)","v":2.0621631540460501},{"$f":"+'Multiplicatoria inversa'!F131","v":39.275879419126412},{"$f":"+C131-D131-F131-AC104","v":-1.2301353527785093},{"$f":"+IF(L131=AB107,1,VLOOKUP(AB107,'Multiplicatoria inversa'!E105:AK134,L131+4,FALSE))*P131","v":0},{"$f":"IF(L131<25-Z103+1,(C131-D131-F131-AF110)*((1+AF106)/(1+AF105))^L131,0)","v":0},{"$f":"+C131-D131-F131-AG104","v":-1.3272640621879503},57.798148976697668,{"$f":"+M131*U130+AB104","v":51.388727272796409},51.539989579345267,{"$f":"+M131*W130+AF104","v":43.09655657553251},47.628045391035315]
[2046,{"$f":"+B99","v":0},0,0,0,0,0,0,0,0,0,28,1,{"$f":"+PRODUCT(M104:M132)","v":2.0621631540460501},{"$f":"+'Multiplicatoria inversa'!F132","v":40.275879419126412},{"$f":"+C132-D132-F132-AC104","v":-13.758706781349938},{"$f":"+IF(L132=AB107,1,VLOOKUP(AB107,'Multiplicatoria inversa'!E105:AK134,L132+4,FALSE))*P132","v":0},{"$f":"IF(L132<25-Z103+1,(C132-D132-F132-AF110)*((1+AF106)/(1+AF105))^L132,0)","v":0},{"$f":"+C132-D132-F132-AG104","v":-13.855835490759379},57.798148976697668,{"$f":"+M132*U131+AB104","v":50.129611268081376},37.781282797995331,{"$f":"+M132*W131+AF104","v":41.631556284320034},33.772209900275939]
[2047,{"$f":"+B100","v":0},0,0,0,0,0,0,0,0,0,29,1,{"$f":"+PRODUCT(M104:M133)","v":2.0621631540460501},{"$f":"+'Multiplicatoria inversa'!F133","v":41.275879419126412},{"$f":"+C133-D133-F133-AC104","v":-13.758706781349938},{"$f":"+IF(L133=AB107,1,VLOOKUP(AB107,'Multiplicatoria inversa'!E105:AK134,L133+4,FALSE))*P133","v":0},{"$f":"IF(L133<25-Z103+1,(C133-D133-F133-AF110)*((1+AF106)/(1+AF105))^L133,0)","v":0},{"$f":"+C133-D133-F133-AG104","v":-13.855835490759379},57.798148976697668,{"$f":"+M133*U132+AB104","v":48.870495263366344},24.022576016645395,{"$f":"+M133*W132+AF104","v":40.166555993107558},19.91637440951656]
[2048,{"$f":"+B101","v":0},0,0,0,0,0,0,0,0,0,30,1,{"$f":"+PRODUCT(M104:M134)","v":2.0621631540460501},{"$f":"+'Multiplicatoria inversa'!F134","v":42.275879419126412},{"$f":"+C134-D134-F134-AC104","v":-13.758706781349938},null,{"$f":"IF(L134<25-Z103+1,(C134-D134-F134-AF110)*((1+AF106)/(1+AF105))^L134,0)","v":0},{"$f":"+C134-D134-F134-AG104","v":-13.855835490759379},57.798148976697668,{"$f":"+M134*U133+AB104","v":47.611379258651311},10.263869235295457,{"$f":"+M134*W133+AF104","v":38.701555701895082},6.0605389187571816]
[]
[]
[" Fecha(Anual) ","dp_t","g_t","ip_t","tau_t","i_otros_t ","r_t","c_y_t","Gasto__neto","I_presupuestarios","Costo_finan","t","1+r_t / 1+c_y_t","Multiplicatoria simple","Multiplicatoria inversa","gt - ipt - iotros  - tau_s","(gt - ipt - iotros + tau_s)","(gt - ipt - iotros - omega)(1+r/1+c_y)^t","gt - ipt - iotros  - tau_s (inf)","b_t","b_t_star dc (finito)","b_t_star tau  (finito)","b_t_star dc (infinito)","b_t_star tau  (infinito)",null,5,"H Finito","pd_s","tau_s",null,"H infinito","pd_s","tau_s"]
[{"$f":"+A105","v":2019},null,null,null,null,null,null,null,null,null,null,0,{"$f":"(1+G138)/(1+H138)","v":1},null,null,null,null,null,null,{"$f":"+T105","v":49.215135680824069},{"$f":"+T138","v":49.215135680824069},{"$f":"+T138","v":49.215135680824069},{"$f":"+T138","v":49.215135680824069},{"$f":"+T138","v":49.215135680824069},null,null,null,{"$f":"+AN7","v":-1.2689611524127087},{"$f":"+AO7","v":13.768463607944165},null,null,{"$f":"+(AF139-AF140)/(1+AF140)*(-AB139)","v":-1.4562319867948412},{"$f":"+AF147","v":13.843837097222762}]
[{"$f":"+A138+1","v":2020},{"$f":"+B106","v":-1.1999999999999993},{"$f":"+C106","v":20},3.7,13.7,3.8000000000000007,5.3495934959349345E-2,4.4999999999999998E-2,20,21.2,3.2,1,{"$f":"(1+G139)/(1+H139)","v":1.0081300813008129},{"$f":"+PRODUCT(M138:M139)","v":1.0081300813008129},{"$f":"+'Multiplicatoria inversa'!F139","v":0},{"$f":"+C139-D139-F139-AC138","v":-1.2684636079441649},{"$f":"+IF(L139=AB141,1,VLOOKUP(AB141,'Multiplicatoria inversa'!E139:AK168,L139+4,FALSE))*P139","v":-2.206845582102126},{"$f":"IF(L139<25-Z137+1,(C139-D139-F139-AF144)*((1+AF140)/(1+AF139))^L139,0)","v":0.19425224913467015},{"$f":"+C139-D139-F139-AG138","v":-1.343837097222762},{"$f":"+M139*T138+B139","v":48.415258735139716},{"$f":"+M139*U138+AB138","v":48.346297582727004},{"$f":"+M139*V138+P139","v":48.346795127195549},{"$f":"+M139*W138+AF138","v":48.159026748344871},{"$f":"+M139*X138+S139","v":48.271421637916951},null,null,"b_0",{"$f":"+U138","v":49.215135680824069},{"$f":"+AB139","v":49.215135680824069},null,"r",{"$f":"+AF105","v":6.1300452985096551E-2}]
[{"$f":"+A139+1","v":2021},{"$f":"+B107","v":-1.3999999999999986},20.100000000000001,3.9,13.7,3.9000000000000021,6.0199999999999997E-2,4.4999999999999998E-2,20.100000000000001,21.5,3.4,{"$f":"+L139+1","v":2},{"$f":"(1+G140)/(1+H140)","v":1.0145454545454546},{"$f":"+PRODUCT(M138:M140)","v":1.0227937915742793},{"$f":"+'Multiplicatoria inversa'!F140","v":1.0145454545454546},{"$f":"+C140-D140-F140-AC138","v":-1.4684636079441642},{"$f":"+IF(L140=AB141,1,VLOOKUP(AB141,'Multiplicatoria inversa'!E139:AK168,L140+4,FALSE))*P140","v":-2.5181732863677992},{"$f":"IF(L140<25-Z137+1,(C140-D140-F140-AF144)*((1+AF140)/(1+AF139))^L140,0)","v":0},{"$f":"+C140-D140-F140-AG138","v":-1.5438370972227613},47.719480680378119,{"$f":"+M140*U139+AB138","v":47.780555304244878},47.581557630192414,{"$f":"+M140*W139+AF138","v":47.403289696071418},47.429714309972987,null,null,"b_T",{"$f":"+AB106","v":50.19},{"$f":"+AC106","v":50.19},null,"c_y",{"$f":"+AF106","v":3.0800000000000001E-2}]
[2022,{"$f":"+B108","v":-1.3999999999999986},20.100000000000001,3.9,13.7,3.9000000000000021,6.0199999999999997E-2,4.4999999999999998E-2,20.100000000000001,21.5,3.4,{"$f":"+L140+1","v":3},1.0145454545454546,{"$f":"+PRODUCT(M138:M141)","v":1.0376707921789963},{"$f":"+'Multiplicatoria inversa'!F141","v":2.0438479338842979},{"$f":"+C141-D141-F141-AC138","v":-1.4684636079441642},{"$f":"+IF(L141=AB141,1,VLOOKUP(AB141,'Multiplicatoria inversa'!E139:AK168,L141+4,FALSE))*P141","v":-2.4820704435524896},{"$f":"IF(L141<25-Z137+1,(C141-D141-F141-AF144)*((1+AF140)/(1+AF139))^L141,0)","v":0},{"$f":"+C141-D141-F141-AG138","v":-1.5438370972227613},47.01358221754726,{"$f":"+M141*U140+AB138","v":47.206584047166643},46.805189405960142,{"$f":"+M141*W140+AF138","v":46.636560104855803},46.575763966349832,null,null,"T",{"$f":"+AB107-1","v":21},{"$f":"+AB141","v":21},null,"g ",{"$f":"+AF107","v":20.100000000000001}]
[2023,{"$f":"+B109","v":-1.0571428571428587},20.142857142857142,3.7285714285714282,13.585714285714287,3.8857142857142861,6.1300452985096551E-2,3.0800000000000001E-2,20.142857142857142,21.200000000000003,3.1285714285714277,4,1.0295891084449909,{"$f":"+PRODUCT(M138:M142)","v":1.0683745457789802},{"$f":"+'Multiplicatoria inversa'!F142","v":3.1339126804900617},{"$f":"+C142-D142-F142-AC138","v":-1.2398921793727364},{"$f":"+IF(L142=AB141,1,VLOOKUP(AB141,'Multiplicatoria inversa'!E139:AK168,L142+4,FALSE))*P142","v":-2.0354990118348657},{"$f":"IF(L142<25-Z137+1,(C142-D142-F142-AF144)*((1+AF140)/(1+AF139))^L142,0)","v":0.20340713546149369},{"$f":"+C142-D142-F142-AG138","v":-1.3152656686513335},47.347529343026899,{"$f":"+M142*U141+AB138","v":47.334423629443123},46.950221051708695,{"$f":"+M142*W141+AF138","v":46.560262352504878},46.638633628607117,null,null,"Pi_t b_0",{"$f":"+VLOOKUP(AB141,L139:N168,3,FALSE)*AB139","v":86.319555294105541},{"$f":"+AB142","v":86.319555294105541},null,"ip",{"$f":"+AF108","v":3.9}]
[2024,{"$f":"+B110","v":-1.0571428571428587},20.142857142857142,3.7285714285714282,13.585714285714287,3.8857142857142861,6.1300452985096551E-2,3.0800000000000001E-2,20.142857142857142,21.200000000000003,3.1285714285714277,5,1.0295891084449909,{"$f":"+PRODUCT(M138:M143)","v":1.0999867960739023},{"$f":"+'Multiplicatoria inversa'!F143","v":4.2562314710952052},{"$f":"+C143-D143-F143-AC138","v":-1.2398921793727364},{"$f":"+IF(L143=AB141,1,VLOOKUP(AB141,'Multiplicatoria inversa'!E139:AK168,L143+4,FALSE))*P143","v":-1.9770013058016132},{"$f":"IF(L143<25-Z137+1,(C143-D143-F143-AF144)*((1+AF140)/(1+AF139))^L143,0)","v":0.19756146776717906},{"$f":"+C143-D143-F143-AG138","v":-1.3152656686513335},47.69135766621725,{"$f":"+M143*U142+AB138","v":47.466045870983145},47.099544054551259,{"$f":"+M143*W142+AF138","v":46.48170701768553},46.703363548118837,null,null,"sum dpt",{"$f":"+VLOOKUP(AB141,L139:O168,4,FALSE)","v":27.472700131866766},{"$f":"+SUM(Q139:Q167)","v":-36.131091366834831},null,"iotros",3.9000000000000021]
[2025,{"$f":"+B111","v":-1.0571428571428587},20.142857142857142,3.7285714285714282,13.585714285714287,3.8857142857142861,6.1300452985096551E-2,3.0800000000000001E-2,20.142857142857142,21.200000000000003,3.1285714285714277,6,1.0295891084449909,{"$f":"+PRODUCT(M138:M144)","v":1.132534424670991},{"$f":"+'Multiplicatoria inversa'!F144","v":5.4117586741054158},{"$f":"+C144-D144-F144-AC138","v":-1.2398921793727364},{"$f":"+IF(L144=AB141,1,VLOOKUP(AB141,'Multiplicatoria inversa'!E139:AK168,L144+4,FALSE))*P144","v":-1.9201847509707228},{"$f":"IF(L144<25-Z137+1,(C144-D144-F144-AF144)*((1+AF140)/(1+AF139))^L144,0)","v":0.19188379728060656},{"$f":"+C144-D144-F144-AG138","v":-1.3152656686513335},48.045359562948939,{"$f":"+M144*U143+AB138","v":47.601562697301866},47.253285391918261,{"$f":"+M144*W143+AF138","v":46.400827300545281},46.770008768238625,null,null,"f",{"$f":"+AB142+AB138*(AB143+1)","v":50.18880492247041},{"$f":"+AC142+AC143","v":50.18846392727071},null,"omega",12.3]
[2026,{"$f":"+B112","v":-1.0571428571428587},20.142857142857142,3.7285714285714282,13.585714285714287,3.8857142857142861,6.1300452985096551E-2,3.0800000000000001E-2,20.142857142857142,21.200000000000003,3.1285714285714277,7,1.0295891084449909,{"$f":"+PRODUCT(M138:M145)","v":1.1660451085802663},{"$f":"+'Multiplicatoria inversa'!F145","v":6.6014768968366315},{"$f":"+C145-D145-F145-AC138","v":-1.2398921793727364},{"$f":"+IF(L145=AB141,1,VLOOKUP(AB141,'Multiplicatoria inversa'!E139:AK168,L145+4,FALSE))*P145","v":-1.8650010331508036},{"$f":"IF(L145<25-Z137+1,(C145-D145-F145-AF144)*((1+AF140)/(1+AF139))^L145,0)","v":0.18636929597129531},{"$f":"+C145-D145-F145-AG138","v":-1.3152656686513335},48.40983606019276,{"$f":"+M145*U144+AB138","v":47.741089345690654},47.411575798389094,{"$f":"+M145*W144+AF138","v":46.317554424683564},46.838625961003878,null,null,"dif",{"$f":"+AB140-AB144","v":1.1950775295872518E-3},{"$f":"+AC140-AC144","v":1.5360727292872411E-3},null,"25 se vuelve constante"]
[2027,{"$f":"+B113","v":-1.0571428571428587},20.142857142857142,3.7285714285714282,13.585714285714287,3.8857142857142861,6.1300452985096551E-2,3.0800000000000001E-2,20.142857142857142,21.200000000000003,3.1285714285714277,8,1.0295891084449909,{"$f":"+PRODUCT(M138:M146)","v":1.2005473437497989},{"$f":"+'Multiplicatoria inversa'!F146","v":7.8263978210792224},{"$f":"+C146-D146-F146-AC138","v":-1.2398921793727364},{"$f":"+IF(L146=AB141,1,VLOOKUP(AB141,'Multiplicatoria inversa'!E139:AK168,L146+4,FALSE))*P146","v":-1.8114032266401421},{"$f":"IF(L146<25-Z137+1,(C146-D146-F146-AF144)*((1+AF140)/(1+AF139))^L146,0)","v":0.18101327456034635},{"$f":"+C146-D146-F146-AG138","v":-1.3152656686513335},48.785097092039173,{"$f":"+M146*U145+AB138","v":47.884744463209586},47.574549876862797,{"$f":"+M146*W145+AF138","v":46.231817578667453},46.909273475327048,null,null,"Validar",{"$f":"+VLOOKUP(AB141,L139:U168,10,FALSE)","v":50.188804922470453},{"$f":"+VLOOKUP(AC141,L139:V168,11,FALSE)","v":50.18846392727071},null,"sum 1 a 24",{"$f":"+SUM(R139:R162)","v":2.9607215300449741}]
[2028,{"$f":"+B114","v":-1.0571428571428587},20.142857142857142,3.7285714285714282,13.585714285714287,3.8857142857142861,6.1300452985096551E-2,3.0800000000000001E-2,20.142857142857142,21.200000000000003,3.1285714285714277,9,1.0295891084449909,{"$f":"+PRODUCT(M138:M147)","v":1.2360704692973574},{"$f":"+'Multiplicatoria inversa'!F147","v":9.0875630633857671},{"$f":"+C147-D147-F147-AC138","v":-1.2398921793727364},{"$f":"+IF(L147=AB141,1,VLOOKUP(AB141,'Multiplicatoria inversa'!E139:AK168,L147+4,FALSE))*P147","v":-1.7593457543232374},{"$f":"IF(L147<25-Z137+1,(C147-D147-F147-AF144)*((1+AF140)/(1+AF139))^L147,0)","v":0.17581117853289488},{"$f":"+C147-D147-F147-AG138","v":-1.3152656686513335},49.171461763252069,{"$f":"+M147*U146+AB138","v":48.032650207579465},47.74234621301818,{"$f":"+M147*W146+AF138","v":46.143543855816837},46.982011386612896,null,null,null,{"$f":"+IFERROR(ABS(AB146/AB140)-1,0)","v":-2.3811068530443791E-5},{"$f":"+IFERROR(ABS(AC146/AC140)-1,0)","v":-3.0605154996754536E-5},null,"f",{"$f":"+(AF146+AB139)*(AF139-AF140)/(1+AF140)+AF144","v":13.843837097222762}]
[2029,{"$f":"+B115","v":-1.0571428571428587},20.142857142857142,3.7285714285714282,13.585714285714287,3.8857142857142861,6.1300452985096551E-2,3.0800000000000001E-2,20.142857142857142,21.200000000000003,3.1285714285714277,10,1.0295891084449909,{"$f":"+PRODUCT(M138:M148)","v":1.2726446924590478},{"$f":"+'Multiplicatoria inversa'!F148","v":10.386045060813972},{"$f":"+C148-D148-F148-AC138","v":-1.2398921793727364},{"$f":"+IF(L148=AB141,1,VLOOKUP(AB141,'Multiplicatoria inversa'!E139:AK168,L148+4,FALSE))*P148","v":-1.7087843489141143},{"$f":"IF(L148<25-Z137+1,(C148-D148-F148-AF144)*((1+AF140)/(1+AF139))^L148,0)","v":0.17075858426515994},{"$f":"+C148-D148-F148-AG138","v":-1.3152656686513335},49.569258620620801,{"$f":"+M148*U147+AB138","v":48.184932351059139},47.915107493160733,{"$f":"+M148*W147+AF138","v":46.05265819220795},47.056901547843843]
[2030,{"$f":"+B116","v":-1.0571428571428587},20.142857142857142,3.7285714285714282,13.585714285714287,3.8857142857142861,6.1300452985096551E-2,3.0800000000000001E-2,20.142857142857142,21.200000000000003,3.1285714285714277,11,1.0295891084449909,{"$f":"+PRODUCT(M138:M149)","v":1.3103011142761605},{"$f":"+'Multiplicatoria inversa'!F149","v":11.722947982877949},{"$f":"+C149-D149-F149-AC138","v":-1.2398921793727364},{"$f":"+IF(L149=AB141,1,VLOOKUP(AB141,'Multiplicatoria inversa'!E139:AK168,L149+4,FALSE))*P149","v":-1.6596760153134542},{"$f":"IF(L149<25-Z137+1,(C149-D149-F149-AF144)*((1+AF140)/(1+AF139))^L149,0)","v":0.16585119526279768},{"$f":"+C149-D149-F149-AG138","v":-1.3152656686513335},49.978825932341287,{"$f":"+M149*U148+AB138","v":48.341720387396471},48.092980625556521,{"$f":"+M149*W148+AF138","v":45.959083302842444},47.134007642176918,null,null,"g",{"$f":"IFERROR(ABS(AB145)+ABS(AC145),0)","v":2.7311502588744929E-3}]
[2031,{"$f":"+B117","v":-1.0571428571428587},20.142857142857142,3.7285714285714282,13.585714285714287,3.8857142857142861,6.1300452985096551E-2,3.0800000000000001E-2,20.142857142857142,21.200000000000003,3.1285714285714277,12,1.0295891084449909,{"$f":"+PRODUCT(M138:M150)","v":1.3490717560420702},{"$f":"+'Multiplicatoria inversa'!F150","v":13.099408670483301},{"$f":"+C150-D150-F150-AC138","v":-1.2398921793727364},{"$f":"+IF(L150=AB141,1,VLOOKUP(AB141,'Multiplicatoria inversa'!E139:AK168,L150+4,FALSE))*P150","v":-1.6119789940475346},{"$f":"IF(L150<25-Z137+1,(C150-D150-F150-AF144)*((1+AF140)/(1+AF139))^L150,0)","v":0.16108483850735961},{"$f":"+C150-D150-F150-AG138","v":-1.3152656686513335},50.400511975663797,{"$f":"+M150*U149+AB138","v":48.503147641943862},48.276116865356222,{"$f":"+M150*W149+AF138","v":45.862739615927779},47.213395237096982,null,null,null,"Pronosticada"]
[2032,{"$f":"+B118","v":-1.0571428571428587},20.142857142857142,3.7285714285714282,13.585714285714287,3.8857142857142861,6.1300452985096551E-2,3.0800000000000001E-2,20.142857142857142,21.200000000000003,3.1285714285714277,13,1.0295891084449909,{"$f":"+PRODUCT(M138:M151)","v":1.3889895865316733},{"$f":"+'Multiplicatoria inversa'!F151","v":14.516597602644476},{"$f":"+C151-D151-F151-AC138","v":-1.2398921793727364},{"$f":"+IF(L151=AB141,1,VLOOKUP(AB141,'Multiplicatoria inversa'!E139:AK168,L151+4,FALSE))*P151","v":-1.5656527257578887},{"$f":"IF(L151<25-Z137+1,(C151-D151-F151-AF144)*((1+AF140)/(1+AF139))^L151,0)","v":0.15645546090774917},{"$f":"+C151-D151-F151-AG138","v":-1.3152656686513335},50.834675333051919,{"$f":"+M151*U150+AB138","v":48.669351385032037},48.464671943215563,{"$f":"+M151*W150+AF138","v":45.763545205213006},47.295131840172324,null,null,"b_t_star dc (finito)","Ajuste al déficit primario"]
[2033,{"$f":"+B119","v":-1.0571428571428587},20.142857142857142,3.7285714285714282,13.585714285714287,3.8857142857142861,6.1300452985096551E-2,3.0800000000000001E-2,20.142857142857142,21.200000000000003,3.1285714285714277,14,1.0295891084449909,{"$f":"+PRODUCT(M138:M152)","v":1.4300885500365219},{"$f":"+'Multiplicatoria inversa'!F152","v":15.975719891806408},{"$f":"+C152-D152-F152-AC138","v":-1.2398921793727364},{"$f":"+IF(L152=AB141,1,VLOOKUP(AB141,'Multiplicatoria inversa'!E139:AK168,L152+4,FALSE))*P152","v":-1.5206578167114895},{"$f":"IF(L152<25-Z137+1,(C152-D152-F152-AF144)*((1+AF140)/(1+AF139))^L152,0)","v":0.15195912585365925},{"$f":"+C152-D152-F152-AG138","v":-1.3152656686513335},51.281685197104636,{"$f":"+M152*U151+AB138","v":48.840472948698405},48.658806197721539,{"$f":"+M152*W151+AF138","v":45.661415720322452},47.379286956459985,null,null,"b_t_star tau  (finito)","Ajuste al ingreso tributario"]
[2034,{"$f":"+B120","v":-1.0571428571428587},20.142857142857142,3.7285714285714282,13.585714285714287,3.8857142857142861,6.1300452985096551E-2,3.0800000000000001E-2,20.142857142857142,21.200000000000003,3.1285714285714277,15,1.0295891084449909,{"$f":"+PRODUCT(M138:M153)","v":1.4724035952294923},{"$f":"+'Multiplicatoria inversa'!F153","v":17.478016308616855},{"$f":"+C153-D153-F153-AC138","v":-1.2398921793727364},{"$f":"+IF(L153=AB141,1,VLOOKUP(AB141,'Multiplicatoria inversa'!E139:AK168,L153+4,FALSE))*P153","v":-1.4769560053021245},{"$f":"IF(L153<25-Z137+1,(C153-D153-F153-AF144)*((1+AF140)/(1+AF139))^L153,0)","v":0.14759200986805909},{"$f":"+C153-D153-F153-AG138","v":-1.3152656686513335},51.741921684500788,{"$f":"+M153*U152+AB138","v":49.016657846869379},48.858684711736977,{"$f":"+M153*W152+AF138","v":45.556264315028045},47.465932147609685,null,null,"b_t_star dc (infinito)","Ajuste al déficit primario"]
[2035,{"$f":"+B121","v":-1.0571428571428587},20.142857142857142,3.7285714285714282,13.585714285714287,3.8857142857142861,6.1300452985096551E-2,3.0800000000000001E-2,20.142857142857142,21.200000000000003,3.1285714285714277,16,1.0295891084449909,{"$f":"+PRODUCT(M138:M154)","v":1.515970704883532},{"$f":"+'Multiplicatoria inversa'!F154","v":19.02476433702083},{"$f":"+C154-D154-F154-AC138","v":-1.2398921793727364},{"$f":"+IF(L154=AB141,1,VLOOKUP(AB141,'Multiplicatoria inversa'!E139:AK168,L154+4,FALSE))*P154","v":-1.4345101295144826},{"$f":"IF(L154<25-Z137+1,(C154-D154-F154-AF144)*((1+AF140)/(1+AF139))^L154,0)","v":0.14335039935588509},{"$f":"+C154-D154-F154-AG138","v":-1.3152656686513335},52.215776159232846,{"$f":"+M154*U153+AB138","v":49.198055899098698},49.064477452779443,{"$f":"+M154*W153+AF138","v":45.448001573399239},47.555141092716553,null,null,"b_t_star tau  (infinito)","Ajuste al ingreso tributario"]
[2036,{"$f":"+B122","v":-1.0571428571428587},20.142857142857142,3.7285714285714282,13.585714285714287,3.8857142857142861,6.1300452985096551E-2,3.0800000000000001E-2,20.142857142857142,21.200000000000003,3.1285714285714277,17,1.0295891084449909,{"$f":"+PRODUCT(M138:M155)","v":1.5608269264697601},{"$f":"+'Multiplicatoria inversa'!F155","v":20.617279260574325},{"$f":"+C155-D155-F155-AC138","v":-1.2398921793727364},{"$f":"+IF(L155=AB141,1,VLOOKUP(AB141,'Multiplicatoria inversa'!E139:AK168,L155+4,FALSE))*P155","v":-1.393284095323281},{"$f":"IF(L155<25-Z137+1,(C155-D155-F155-AF144)*((1+AF140)/(1+AF139))^L155,0)","v":0.13923068744616973},{"$f":"+C155-D155-F155-AG138","v":-1.3152656686513335},52.703651565404897,{"$f":"+M155*U154+AB138","v":49.384821357967141},49.276359417553806,{"$f":"+M155*W154+AF138","v":45.336535433767821},47.646989650974447]
[2037,{"$f":"+B123","v":-1.0571428571428587},20.142857142857142,3.7285714285714282,13.585714285714287,3.8857142857142861,6.1300452985096551E-2,3.0800000000000001E-2,20.142857142857142,21.200000000000003,3.1285714285714277,18,1.0295891084449909,{"$f":"+PRODUCT(M138:M156)","v":1.6070104036609356},{"$f":"+'Multiplicatoria inversa'!F156","v":22.256915280901111},{"$f":"+C156-D156-F156-AC138","v":-1.2398921793727364},{"$f":"+IF(L156=AB141,1,VLOOKUP(AB141,'Multiplicatoria inversa'!E139:AK168,L156+4,FALSE))*P156","v":-1.3532428460005623},{"$f":"IF(L156<25-Z137+1,(C156-D156-F156-AF144)*((1+AF140)/(1+AF139))^L156,0)","v":0.13522937092492426},{"$f":"+C156-D156-F156-AG138","v":-1.3152656686513335},53.205962769877814,{"$f":"+M156*U155+AB138","v":49.577113040251824},49.494510780761416,{"$f":"+M156*W155+AF138","v":45.221771110442909},47.741555926183153]
[2038,{"$f":"+B124","v":-1.0571428571428587},20.142857142857142,3.7285714285714282,13.585714285714287,3.8857142857142861,6.1300452985096551E-2,3.0800000000000001E-2,20.142857142857142,21.200000000000003,3.1285714285714277,19,1.0295891084449909,{"$f":"+PRODUCT(M138:M157)","v":1.6545604087670875},{"$f":"+'Multiplicatoria inversa'!F157","v":23.945066669243658},{"$f":"+C157-D157-F157-AC138","v":-1.2398921793727364},{"$f":"+IF(L157=AB141,1,VLOOKUP(AB141,'Multiplicatoria inversa'!E139:AK168,L157+4,FALSE))*P157","v":-1.3143523323050614},{"$f":"IF(L157<25-Z137+1,(C157-D157-F157-AF144)*((1+AF140)/(1+AF139))^L157,0)","v":0.13134304725616605},{"$f":"+C157-D157-F157-AG138","v":-1.3152656686513335},53.723136915053018,{"$f":"+M157*U156+AB138","v":49.7750944619767},49.719117048312398,{"$f":"+M157*W156+AF138","v":45.103611013109521},47.838920333164246]
[2039,{"$f":"+B125","v":-1.0571428571428587},20.142857142857142,3.7285714285714282,13.585714285714287,3.8857142857142861,6.1300452985096551E-2,3.0800000000000001E-2,20.142857142857142,21.200000000000003,3.1285714285714277,20,1.0295891084449909,{"$f":"+PRODUCT(M138:M158)","v":1.7035173761308853},{"$f":"+'Multiplicatoria inversa'!F158","v":25.683168952087438},{"$f":"+C158-D158-F158-AC138","v":-1.2398921793727364},{"$f":"+IF(L158=AB141,1,VLOOKUP(AB141,'Multiplicatoria inversa'!E139:AK168,L158+4,FALSE))*P158","v":-1.2765794835282924},{"$f":"IF(L158<25-Z137+1,(C158-D158-F158-AF144)*((1+AF140)/(1+AF139))^L158,0)","v":0.12756841168855806},{"$f":"+C158-D158-F158-AG138","v":-1.3152656686513335},54.255613782094755,{"$f":"+M158*U157+AB138","v":49.978933977459086},49.950369215071369,{"$f":"+M158*W157+AF138","v":44.981954663842259},47.939165666142188]
[2040,{"$f":"+B126","v":-1.0571428571428587},20.142857142857142,3.7285714285714282,13.585714285714287,3.8857142857142861,6.1300452985096551E-2,3.0800000000000001E-2,20.142857142857142,21.200000000000003,3.1285714285714277,21,1.0295891084449909,{"$f":"+PRODUCT(M138:M159)","v":1.7539229365111484},{"$f":"+'Multiplicatoria inversa'!F159","v":27.472700131866766},{"$f":"+C159-D159-F159-AC138","v":-1.2398921793727364},{"$f":"+IF(L159=AB141,1,VLOOKUP(AB141,'Multiplicatoria inversa'!E139:AK168,L159+4,FALSE))*P159","v":-1.2398921793727364},{"$f":"IF(L159<25-Z137+1,(C159-D159-F159-AF144)*((1+AF140)/(1+AF139))^L159,0)","v":0},{"$f":"+C159-D159-F159-AG138","v":-1.3152656686513335},54.803846164899838,{"$f":"+M159*U158+AB138","v":50.188804922470453},50.18846392727071,{"$f":"+M159*W158+AF138","v":44.856698611663511},48.042377169148715]
[2041,{"$f":"+B127","v":-1.0571428571428587},20.142857142857142,3.7285714285714282,13.585714285714287,3.8857142857142861,6.1300452985096551E-2,3.0800000000000001E-2,20.142857142857142,21.200000000000003,3.1285714285714277,22,1.0295891084449909,{"$f":"+PRODUCT(M138:M160)","v":1.8058199524837335},{"$f":"+'Multiplicatoria inversa'!F160","v":29.315181943790279},{"$f":"+C160-D160-F160-AC138","v":-1.2398921793727364},{"$f":"+IF(L160=AB141,1,VLOOKUP(AB141,'Multiplicatoria inversa'!E139:AK168,L160+4,FALSE))*P160","v":0},{"$f":"IF(L160<25-Z137+1,(C160-D160-F160-AF144)*((1+AF140)/(1+AF139))^L160,0)","v":0},{"$f":"+C160-D160-F160-AG138","v":-1.3152656686513335},55.368300255132802,{"$f":"+M160*U159+AB138","v":50.404885761633217},50.433603649729498,{"$f":"+M160*W159+AF138","v":44.727736344573451},48.148642608510471]
[2042,{"$f":"+B128","v":-1.0571428571428587},20.142857142857142,3.7285714285714282,13.585714285714287,3.8857142857142861,6.1300452985096551E-2,3.0800000000000001E-2,20.142857142857142,21.200000000000003,3.1285714285714277,23,1.0295891084449909,{"$f":"+PRODUCT(M138:M161)","v":1.8592525548899028},{"$f":"+'Multiplicatoria inversa'!F161","v":31.212181149854722},{"$f":"+C161-D161-F161-AC138","v":-1.2398921793727364},{"$f":"+IF(L161=AB141,1,VLOOKUP(AB141,'Multiplicatoria inversa'!E139:AK168,L161+4,FALSE))*P161","v":0},{"$f":"IF(L161<25-Z137+1,(C161-D161-F161-AF144)*((1+AF140)/(1+AF139))^L161,0)","v":0},{"$f":"+C161-D161-F161-AG138","v":-1.3152656686513335},55.949456038653885,{"$f":"+M161*U160+AB138","v":50.627360240178852},50.685996838020294,{"$f":"+M161*W160+AF138","v":44.594958198977153},48.25805234748146]
[2043,{"$f":"+B129","v":-1.0571428571428587},20.142857142857142,3.7285714285714282,13.585714285714287,3.8857142857142861,6.1300452985096551E-2,3.0800000000000001E-2,20.142857142857142,21.200000000000003,3.1285714285714277,24,1.0295891084449909,{"$f":"+PRODUCT(M138:M162)","v":1.9142661803631664},{"$f":"+'Multiplicatoria inversa'!F162","v":33.165310871147462},{"$f":"+C162-D162-F162-AC138","v":-1.2398921793727364},{"$f":"+IF(L162=AB141,1,VLOOKUP(AB141,'Multiplicatoria inversa'!E139:AK168,L162+4,FALSE))*P162","v":0},{"$f":"IF(L162<25-Z137+1,(C162-D162-F162-AF144)*((1+AF140)/(1+AF139))^L162,0)","v":0},{"$f":"+C162-D162-F162-AG138","v":-1.3152656686513335},56.547807703677009,{"$f":"+M162*U161+AB138","v":50.856417540196418},50.945858115730204,{"$f":"+M162*W161+AF138","v":44.458251266431681},48.370699423083799]
[2044,{"$f":"+B130","v":-1.0571428571428587},20.142857142857142,3.7285714285714282,13.585714285714287,3.8857142857142861,6.1300452985096551E-2,3.0800000000000001E-2,20.142857142857142,21.200000000000003,3.1285714285714277,25,1.0295891084449909,{"$f":"+PRODUCT(M138:M163)","v":1.9709076099665106},{"$f":"+'Multiplicatoria inversa'!F163","v":35.176231959570664},{"$f":"+C163-D163-F163-AC138","v":-1.2398921793727364},{"$f":"+IF(L163=AB141,1,VLOOKUP(AB141,'Multiplicatoria inversa'!E139:AK168,L163+4,FALSE))*P163","v":0},{"$f":"IF(L163<25-Z137+1,(C163-D163-F163-AF144)*((1+AF140)/(1+AF139))^L163,0)","v":0},{"$f":"+C163-D163-F163-AG138","v":-1.3152656686513335},57.163864061004737,{"$f":"+M163*U162+AB138","v":51.092252441504314},51.213408456966924,{"$f":"+M163*W162+AF138","v":44.317499297633937},48.486679625222145]
[2045,{"$f":"+B131","v":-1.0571428571428587},20.142857142857142,3.7285714285714282,13.585714285714287,3.8857142857142861,6.1300452985096551E-2,3.0800000000000001E-2,20.142857142857142,21.200000000000003,3.1285714285714277,26,1.0295891084449909,{"$f":"+PRODUCT(M138:M164)","v":2.0292250089728676},{"$f":"+'Multiplicatoria inversa'!F164","v":37.246654410153546},{"$f":"+C164-D164-F164-AC138","v":-1.2398921793727364},{"$f":"+IF(L164=AB141,1,VLOOKUP(AB141,'Multiplicatoria inversa'!E139:AK168,L164+4,FALSE))*P164","v":0},{"$f":"IF(L164<25-Z137+1,(C164-D164-F164-AF144)*((1+AF140)/(1+AF139))^L164,0)","v":0},{"$f":"+C164-D164-F164-AG138","v":-1.3152656686513335},57.798148976697668,{"$f":"+M164*U163+AB138","v":51.335065487282129},51.488875374264993,{"$f":"+M164*W163+AF138","v":44.172582603567591},48.606091578139036]
[2046,{"$f":"+B132","v":0},0,0,0,0,0,0,0,0,0,27,1,{"$f":"+PRODUCT(M138:M165)","v":2.0292250089728676},{"$f":"+'Multiplicatoria inversa'!F165","v":38.246654410153546},{"$f":"+C165-D165-F165-AC138","v":-13.768463607944165},{"$f":"+IF(L165=AB141,1,VLOOKUP(AB141,'Multiplicatoria inversa'!E139:AK168,L165+4,FALSE))*P165","v":0},{"$f":"IF(L165<25-Z137+1,(C165-D165-F165-AF144)*((1+AF140)/(1+AF139))^L165,0)","v":0},{"$f":"+C165-D165-F165-AG138","v":-13.843837097222762},57.798148976697668,{"$f":"+M165*U164+AB138","v":50.066104334869422},37.720411766320829,{"$f":"+M165*W164+AF138","v":42.71635061677275},34.762254480916276]
[2047,{"$f":"+B133","v":0},0,0,0,0,0,0,0,0,0,28,1,{"$f":"+PRODUCT(M138:M166)","v":2.0292250089728676},{"$f":"+'Multiplicatoria inversa'!F166","v":39.246654410153546},{"$f":"+C166-D166-F166-AC138","v":-13.768463607944165},{"$f":"+IF(L166=AB141,1,VLOOKUP(AB141,'Multiplicatoria inversa'!E139:AK168,L166+4,FALSE))*P166","v":0},{"$f":"IF(L166<25-Z137+1,(C166-D166-F166-AF144)*((1+AF140)/(1+AF139))^L166,0)","v":0},{"$f":"+C166-D166-F166-AG138","v":-13.843837097222762},57.798148976697668,{"$f":"+M166*U165+AB138","v":48.797143182456715},23.951948158376666,{"$f":"+M166*W165+AF138","v":41.26011862997791},20.918417383693516]
[2048,{"$f":"+B134","v":0},0,0,0,0,0,0,0,0,0,29,1,{"$f":"+PRODUCT(M138:M167)","v":2.0292250089728676},{"$f":"+'Multiplicatoria inversa'!F167","v":40.246654410153546},{"$f":"+C167-D167-F167-AC138","v":-13.768463607944165},{"$f":"+IF(L167=AB141,1,VLOOKUP(AB141,'Multiplicatoria inversa'!E139:AK168,L167+4,FALSE))*P167","v":0},{"$f":"IF(L167<25-Z137+1,(C167-D167-F167-AF144)*((1+AF140)/(1+AF139))^L167,0)","v":0},{"$f":"+C167-D167-F167-AG138","v":-13.843837097222762},57.798148976697668,{"$f":"+M167*U166+AB138","v":47.528182030044007},10.183484550432501,{"$f":"+M167*W166+AF138","v":39.80388664318307},7.0745802864707539]
[2049,{"$f":"+B135","v":0},0,0,0,0,0,0,0,0,0,30,1,{"$f":"+PRODUCT(M138:M168)","v":2.0292250089728676},{"$f":"+'Multiplicatoria inversa'!F168","v":41.246654410153546},{"$f":"+C168-D168-F168-AC138","v":-13.768463607944165},null,{"$f":"IF(L168<25-Z137+1,(C168-D168-F168-AF144)*((1+AF140)/(1+AF139))^L168,0)","v":0},{"$f":"+C168-D168-F168-AG138","v":-13.843837097222762},57.798148976697668,{"$f":"+M168*U167+AB138","v":46.2592208776313},-3.5849790575116636,{"$f":"+M168*W167+AF138","v":38.347654656388229},-6.7692568107520081]
[]
[]
[" Fecha(Anual) ","dp_t","g_t","ip_t","tau_t","i_otros_t ","r_t","c_y_t","Gasto__neto","I_presupuestarios","Costo_finan","t","1+r_t / 1+c_y_t","Multiplicatoria simple","Multiplicatoria inversa","gt - ipt - iotros  - tau_s","(gt - ipt - iotros + tau_s)","(gt - ipt - iotros - omega)(1+r/1+c_y)^t","gt - ipt - iotros  - tau_s (inf)","b_t","b_t_star dc (finito)","b_t_star tau  (finito)","b_t_star dc (infinito)","b_t_star tau  (infinito)",null,6,"H Finito","pd_s","tau_s",null,"H infinito","pd_s","tau_s"]
[{"$f":"+A139","v":2020},null,null,null,null,null,null,null,null,null,null,0,{"$f":"(1+G172)/(1+H172)","v":1},null,null,null,null,null,null,{"$f":"+T139","v":48.415258735139716},{"$f":"+T172","v":48.415258735139716},{"$f":"+T172","v":48.415258735139716},{"$f":"+T172","v":48.415258735139716},{"$f":"+T172","v":48.415258735139716},null,null,null,{"$f":"+AN8","v":-1.2734096181747681},{"$f":"+AO8","v":13.77287134237112},null,null,{"$f":"+(AF173-AF174)/(1+AF174)*(-AB173)","v":-1.4325643411063389},{"$f":"+AF181","v":13.816843786958048}]
[{"$f":"+A172+1","v":2021},{"$f":"+B140","v":-1.3999999999999986},{"$f":"+C140","v":20.100000000000001},3.9,13.7,3.9000000000000021,6.0199999999999997E-2,4.4999999999999998E-2,20.100000000000001,21.5,3.4,1,{"$f":"(1+G173)/(1+H173)","v":1.0145454545454546},{"$f":"+PRODUCT(M172:M173)","v":1.0145454545454546},{"$f":"+'Multiplicatoria inversa'!F173","v":0},{"$f":"+C173-D173-F173-AC172","v":-1.4728713423711195},{"$f":"+IF(L173=AB175,1,VLOOKUP(AB175,'Multiplicatoria inversa'!E173:AK202,L173+4,FALSE))*P173","v":-2.5257318251203538},{"$f":"IF(L173<25-Z171+1,(C173-D173-F173-AF178)*((1+AF174)/(1+AF173))^L173,0)","v":0},{"$f":"+C173-D173-F173-AG172","v":-1.5168437869580469},{"$f":"+M173*T172+B173","v":47.719480680378119},{"$f":"+M173*U172+AB172","v":47.84607106220335},{"$f":"+M173*V172+P173","v":47.646609338006996},{"$f":"+M173*W172+AF172","v":47.686916339271775},{"$f":"+M173*X172+S173","v":47.602636893420069},null,null,"b_0",{"$f":"+U172","v":48.415258735139716},{"$f":"+AB173","v":48.415258735139716},null,"r",{"$f":"+AF139","v":6.1300452985096551E-2}]
[{"$f":"+A173+1","v":2022},{"$f":"+B141","v":-1.3999999999999986},20.100000000000001,3.9,13.7,3.9000000000000021,6.0199999999999997E-2,4.4999999999999998E-2,20.100000000000001,21.5,3.4,{"$f":"+L173+1","v":2},{"$f":"(1+G174)/(1+H174)","v":1.0145454545454546},{"$f":"+PRODUCT(M172:M174)","v":1.0293024793388432},{"$f":"+'Multiplicatoria inversa'!F174","v":1.0145454545454546},{"$f":"+C174-D174-F174-AC172","v":-1.4728713423711195},{"$f":"+IF(L174=AB175,1,VLOOKUP(AB175,'Multiplicatoria inversa'!E173:AK202,L174+4,FALSE))*P174","v":-2.4895206161580545},{"$f":"IF(L174<25-Z171+1,(C174-D174-F174-AF178)*((1+AF174)/(1+AF173))^L174,0)","v":0},{"$f":"+C174-D174-F174-AG172","v":-1.5168437869580469},47.01358221754726,{"$f":"+M174*U173+AB172","v":47.268604295842451},46.866779586006892,{"$f":"+M174*W173+AF172","v":46.947979872191212},46.778195097639042,null,null,"b_T",{"$f":"+AB140","v":50.19},{"$f":"+AC140","v":50.19},null,"c_y",{"$f":"+AF140","v":3.0800000000000001E-2}]
[2023,{"$f":"+B142","v":-1.0571428571428587},20.142857142857142,3.7285714285714282,13.585714285714287,3.8857142857142861,6.1300452985096551E-2,3.0800000000000001E-2,20.142857142857142,21.200000000000003,3.1285714285714277,{"$f":"+L174+1","v":3},1.0295891084449909,{"$f":"+PRODUCT(M172:M175)","v":1.0597586220226982},{"$f":"+'Multiplicatoria inversa'!F175","v":2.0741540584673634},{"$f":"+C175-D175-F175-AC172","v":-1.2442999137996917},{"$f":"+IF(L175=AB175,1,VLOOKUP(AB175,'Multiplicatoria inversa'!E173:AK202,L175+4,FALSE))*P175","v":-2.0427350757602278},{"$f":"IF(L175<25-Z171+1,(C175-D175-F175-AF178)*((1+AF174)/(1+AF173))^L175,0)","v":0.20942577125114875},{"$f":"+C175-D175-F175-AG172","v":-1.2882723583866191},47.347529343026899,{"$f":"+M175*U174+AB172","v":47.393830536220726},47.009225895845042,{"$f":"+M175*W174+AF172","v":46.904564398796381},46.874047826857399,null,null,"T",{"$f":"+AB141-1","v":20},{"$f":"+AB175","v":20},null,"g ",{"$f":"+AF141","v":20.100000000000001}]
[2024,{"$f":"+B143","v":-1.0571428571428587},20.142857142857142,3.7285714285714282,13.585714285714287,3.8857142857142861,6.1300452985096551E-2,3.0800000000000001E-2,20.142857142857142,21.200000000000003,3.1285714285714277,4,1.0295891084449909,{"$f":"+PRODUCT(M172:M176)","v":1.0911159348152419},{"$f":"+'Multiplicatoria inversa'!F176","v":3.1651155362799632},{"$f":"+C176-D176-F176-AC172","v":-1.2442999137996917},{"$f":"+IF(L176=AB175,1,VLOOKUP(AB175,'Multiplicatoria inversa'!E173:AK202,L176+4,FALSE))*P176","v":-1.9840294142635326},{"$f":"IF(L176<25-Z171+1,(C176-D176-F176-AF178)*((1+AF174)/(1+AF173))^L176,0)","v":0.20340713546149369},{"$f":"+C176-D176-F176-AG172","v":-1.2882723583866191},47.69135766621725,{"$f":"+M176*U175+AB172","v":47.522762109405711},47.155887064992577,{"$f":"+M176*W175+AF172","v":46.85986430025109},46.972736752875349,null,null,"Pi_t b_0",{"$f":"+VLOOKUP(AB175,L173:N202,3,FALSE)*AB173","v":84.23182121806488},{"$f":"+AB176","v":84.23182121806488},null,"ip",{"$f":"+AF142","v":3.9}]
[2025,{"$f":"+B144","v":-1.0571428571428587},20.142857142857142,3.7285714285714282,13.585714285714287,3.8857142857142861,6.1300452985096551E-2,3.0800000000000001E-2,20.142857142857142,21.200000000000003,3.1285714285714277,5,1.0295891084449909,{"$f":"+PRODUCT(M172:M177)","v":1.1234010825365477},{"$f":"+'Multiplicatoria inversa'!F177","v":4.2883575915688672},{"$f":"+C177-D177-F177-AC172","v":-1.2442999137996917},{"$f":"+IF(L177=AB175,1,VLOOKUP(AB175,'Multiplicatoria inversa'!E173:AK202,L177+4,FALSE))*P177","v":-1.9270108803501742},{"$f":"IF(L177<25-Z171+1,(C177-D177-F177-AF178)*((1+AF174)/(1+AF173))^L177,0)","v":0.19756146776717906},{"$f":"+C177-D177-F177-AG172","v":-1.2882723583866191},48.045359562948939,{"$f":"+M177*U176+AB172","v":47.655508652891655},47.306887807378686,{"$f":"+M177*W176+AF172","v":46.813841565642434},47.074345796227561,null,null,"sum dpt",{"$f":"+VLOOKUP(AB175,L173:O202,4,FALSE)","v":25.73292173516619},{"$f":"+SUM(Q173:Q201)","v":-34.04207740419789},null,"iotros",3.9000000000000021]
[2026,{"$f":"+B145","v":-1.0571428571428587},20.142857142857142,3.7285714285714282,13.585714285714287,3.8857142857142861,6.1300452985096551E-2,3.0800000000000001E-2,20.142857142857142,21.200000000000003,3.1285714285714277,6,1.0295891084449909,{"$f":"+PRODUCT(M172:M178)","v":1.1566415189949417},{"$f":"+'Multiplicatoria inversa'!F178","v":5.4448353778416898},{"$f":"+C178-D178-F178-AC172","v":-1.2442999137996917},{"$f":"+IF(L178=AB175,1,VLOOKUP(AB175,'Multiplicatoria inversa'!E173:AK202,L178+4,FALSE))*P178","v":-1.871630988075017},{"$f":"IF(L178<25-Z171+1,(C178-D178-F178-AF178)*((1+AF174)/(1+AF173))^L178,0)","v":0.19188379728060656},{"$f":"+C178-D178-F178-AG172","v":-1.2882723583866191},48.40983606019276,{"$f":"+M178*U177+AB172","v":47.792183048248496},47.462356527106536,{"$f":"+M178*W177+AF172","v":46.766457059348511},47.17896136058252,null,null,"f",{"$f":"+AB176+AB172*(AB177+1)","v":50.189861558590941},{"$f":"+AC176+AC177","v":50.18974381386699},null,"omega",12.3]
[2027,{"$f":"+B146","v":-1.0571428571428587},20.142857142857142,3.7285714285714282,13.585714285714287,3.8857142857142861,6.1300452985096551E-2,3.0800000000000001E-2,20.142857142857142,21.200000000000003,3.1285714285714277,7,1.0295891084449909,{"$f":"+PRODUCT(M172:M179)","v":1.1908655103324619},{"$f":"+'Multiplicatoria inversa'!F179","v":6.6355323107467594},{"$f":"+C179-D179-F179-AC172","v":-1.2442999137996917},{"$f":"+IF(L179=AB175,1,VLOOKUP(AB175,'Multiplicatoria inversa'!E173:AK202,L179+4,FALSE))*P179","v":-1.8178426449185916},{"$f":"IF(L179<25-Z171+1,(C179-D179-F179-AF178)*((1+AF174)/(1+AF173))^L179,0)","v":0.18636929597129531},{"$f":"+C179-D179-F179-AG172","v":-1.2882723583866191},48.785097092039173,{"$f":"+M179*U178+AB172","v":47.932901517111205},47.62242542764222,{"$f":"+M179*W178+AF172","v":46.71767048775925},47.286672406216205,null,null,"dif",{"$f":"+AB174-AB178","v":1.3844140905661106E-4},{"$f":"+AC174-AC178","v":2.5618613300792958E-4},null,"25 se vuelve constante"]
[2028,{"$f":"+B147","v":-1.0571428571428587},20.142857142857142,3.7285714285714282,13.585714285714287,3.8857142857142861,6.1300452985096551E-2,3.0800000000000001E-2,20.142857142857142,21.200000000000003,3.1285714285714277,8,1.0295891084449909,{"$f":"+PRODUCT(M172:M180)","v":1.2261021590610885},{"$f":"+'Multiplicatoria inversa'!F180","v":7.8614609043246784},{"$f":"+C180-D180-F180-AC172","v":-1.2442999137996917},{"$f":"+IF(L180=AB175,1,VLOOKUP(AB175,'Multiplicatoria inversa'!E173:AK202,L180+4,FALSE))*P180","v":-1.7656001117417763},{"$f":"IF(L180<25-Z171+1,(C180-D180-F180-AF178)*((1+AF174)/(1+AF173))^L180,0)","v":0.18101327456034635},{"$f":"+C180-D180-F180-AG172","v":-1.2882723583866191},49.171461763252069,{"$f":"+M180*U179+AB172","v":48.077783720009307},47.787230624234525,{"$f":"+M180*W179+AF172","v":46.667440365012567},47.397570525659873,null,null,"Validar",{"$f":"+VLOOKUP(AB175,L173:U202,10,FALSE)","v":50.189861558590948},{"$f":"+VLOOKUP(AC175,L173:V202,11,FALSE)","v":50.18974381386694},null,"sum 1 a 24",{"$f":"+SUM(R173:R196)","v":2.8483266404728944}]
[2029,{"$f":"+B148","v":-1.0571428571428587},20.142857142857142,3.7285714285714282,13.585714285714287,3.8857142857142861,6.1300452985096551E-2,3.0800000000000001E-2,20.142857142857142,21.200000000000003,3.1285714285714277,9,1.0295891084449909,{"$f":"+PRODUCT(M172:M181)","v":1.2623814288101844},{"$f":"+'Multiplicatoria inversa'!F181","v":9.1236636320037867},{"$f":"+C181-D181-F181-AC172","v":-1.2442999137996917},{"$f":"+IF(L181=AB175,1,VLOOKUP(AB175,'Multiplicatoria inversa'!E173:AK202,L181+4,FALSE))*P181","v":-1.714858963891331},{"$f":"IF(L181<25-Z171+1,(C181-D181-F181-AF178)*((1+AF174)/(1+AF173))^L181,0)","v":0.17581117853289488},{"$f":"+C181-D181-F181-AG172","v":-1.2882723583866191},49.569258620620801,{"$f":"+M181*U180+AB172","v":48.226952858120711},47.956912259661095,{"$f":"+M181*W180+AF172","v":46.615723977716726},47.511750021586103,null,null,null,{"$f":"+IFERROR(ABS(AB180/AB174)-1,0)","v":-2.7583464644598266E-6},{"$f":"+IFERROR(ABS(AC180/AC174)-1,0)","v":-5.1043262214722773E-6},null,"f",{"$f":"+(AF180+AB173)*(AF173-AF174)/(1+AF174)+AF178","v":13.816843786958048}]
[2030,{"$f":"+B149","v":-1.0571428571428587},20.142857142857142,3.7285714285714282,13.585714285714287,3.8857142857142861,6.1300452985096551E-2,3.0800000000000001E-2,20.142857142857142,21.200000000000003,3.1285714285714277,10,1.0295891084449909,{"$f":"+PRODUCT(M172:M182)","v":1.2997341698061915},{"$f":"+'Multiplicatoria inversa'!F182","v":10.423213813071758},{"$f":"+C182-D182-F182-AC172","v":-1.2442999137996917},{"$f":"+IF(L182=AB175,1,VLOOKUP(AB175,'Multiplicatoria inversa'!E173:AK202,L182+4,FALSE))*P182","v":-1.6655760534232116},{"$f":"IF(L182<25-Z171+1,(C182-D182-F182-AF178)*((1+AF174)/(1+AF173))^L182,0)","v":0.17075858426515994},{"$f":"+C182-D182-F182-AG172","v":-1.2882723583866191},49.978825932341287,{"$f":"+M182*U181+AB172","v":48.380535778036339},48.131614623399422,{"$f":"+M182*W181+AF172","v":46.562477348628803},47.629307986999493]
[2031,{"$f":"+B150","v":-1.0571428571428587},20.142857142857142,3.7285714285714282,13.585714285714287,3.8857142857142861,6.1300452985096551E-2,3.0800000000000001E-2,20.142857142857142,21.200000000000003,3.1285714285714277,11,1.0295891084449909,{"$f":"+PRODUCT(M172:M183)","v":1.3381921451062471},{"$f":"+'Multiplicatoria inversa'!F183","v":11.761216525377055},{"$f":"+C183-D183-F183-AC172","v":-1.2442999137996917},{"$f":"+IF(L183=AB175,1,VLOOKUP(AB175,'Multiplicatoria inversa'!E173:AK202,L183+4,FALSE))*P183","v":-1.6177094724115377},{"$f":"IF(L183<25-Z171+1,(C183-D183-F183-AF178)*((1+AF174)/(1+AF173))^L183,0)","v":0.16585119526279768},{"$f":"+C183-D183-F183-AG172","v":-1.2882723583866191},50.400511975663797,{"$f":"+M183*U182+AB172","v":48.538663079624648},48.311486274324004,{"$f":"+M183*W182+AF172","v":46.507655199258465},47.75034438780007,null,null,"g",{"$f":"IFERROR(ABS(AB179)+ABS(AC179),0)","v":3.9462754206454065E-4}]
[2032,{"$f":"+B151","v":-1.0571428571428587},20.142857142857142,3.7285714285714282,13.585714285714287,3.8857142857142861,6.1300452985096551E-2,3.0800000000000001E-2,20.142857142857142,21.200000000000003,3.1285714285714277,12,1.0295891084449909,{"$f":"+PRODUCT(M172:M184)","v":1.3777880576080308},{"$f":"+'Multiplicatoria inversa'!F184","v":13.138809545036446},{"$f":"+C184-D184-F184-AC172","v":-1.2442999137996917},{"$f":"+IF(L184=AB175,1,VLOOKUP(AB175,'Multiplicatoria inversa'!E173:AK202,L184+4,FALSE))*P184","v":-1.5712185173120146},{"$f":"IF(L184<25-Z171+1,(C184-D184-F184-AF178)*((1+AF174)/(1+AF173))^L184,0)","v":0.16108483850735961},{"$f":"+C184-D184-F184-AG172","v":-1.2882723583866191},50.834675333051919,{"$f":"+M184*U183+AB172","v":48.70146922708777},48.496680167033972,{"$f":"+M184*W183+AF172","v":46.451210911365223},47.874962147789724,null,null,null,"Pronosticada"]
[2033,{"$f":"+B152","v":-1.0571428571428587},20.142857142857142,3.7285714285714282,13.585714285714287,3.8857142857142861,6.1300452985096551E-2,3.0800000000000001E-2,20.142857142857142,21.200000000000003,3.1285714285714277,13,1.0295891084449909,{"$f":"+PRODUCT(M172:M185)","v":1.4185555778588081},{"$f":"+'Multiplicatoria inversa'!F185","v":14.557164313947601},{"$f":"+C185-D185-F185-AC172","v":-1.2442999137996917},{"$f":"+IF(L185=AB175,1,VLOOKUP(AB175,'Multiplicatoria inversa'!E173:AK202,L185+4,FALSE))*P185","v":-1.5260636543495081},{"$f":"IF(L185<25-Z171+1,(C185-D185-F185-AF178)*((1+AF174)/(1+AF173))^L185,0)","v":0.15645546090774917},{"$f":"+C185-D185-F185-AG172","v":-1.2882723583866191},51.281685197104636,{"$f":"+M185*U184+AB172","v":48.86909266330369},48.687353781918681,{"$f":"+M185*W184+AF172","v":46.393096487316413},48.003267236193885,null,null,"b_t_star dc (finito)","Ajuste al déficit primario"]
[2034,{"$f":"+B153","v":-1.0571428571428587},20.142857142857142,3.7285714285714282,13.585714285714287,3.8857142857142861,6.1300452985096551E-2,3.0800000000000001E-2,20.142857142857142,21.200000000000003,3.1285714285714277,14,1.0295891084449909,{"$f":"+PRODUCT(M172:M186)","v":1.4605293726873192},{"$f":"+'Multiplicatoria inversa'!F186","v":16.017486935929536},{"$f":"+C186-D186-F186-AC172","v":-1.2442999137996917},{"$f":"+IF(L186=AB175,1,VLOOKUP(AB175,'Multiplicatoria inversa'!E173:AK202,L186+4,FALSE))*P186","v":-1.4822064859003341},{"$f":"IF(L186<25-Z171+1,(C186-D186-F186-AF178)*((1+AF174)/(1+AF173))^L186,0)","v":0.15195912585365925},{"$f":"+C186-D186-F186-AG172","v":-1.2882723583866191},51.741921684500788,{"$f":"+M186*U185+AB172","v":49.041675927551722},48.883669259071816,{"$f":"+M186*W185+AF172","v":46.333262509272203},48.135368757772881,null,null,"b_t_star tau  (finito)","Ajuste al ingreso tributario"]
[2035,{"$f":"+B154","v":-1.0571428571428587},20.142857142857142,3.7285714285714282,13.585714285714287,3.8857142857142861,6.1300452985096551E-2,3.0800000000000001E-2,20.142857142857142,21.200000000000003,3.1285714285714277,15,1.0295891084449909,{"$f":"+PRODUCT(M172:M187)","v":1.5037451346828588},{"$f":"+'Multiplicatoria inversa'!F187","v":17.521019202337971},{"$f":"+C187-D187-F187-AC172","v":-1.2442999137996917},{"$f":"+IF(L187=AB175,1,VLOOKUP(AB175,'Multiplicatoria inversa'!E173:AK202,L187+4,FALSE))*P187","v":-1.4396097178406835},{"$f":"IF(L187<25-Z171+1,(C187-D187-F187-AF178)*((1+AF174)/(1+AF173))^L187,0)","v":0.14759200986805909},{"$f":"+C187-D187-F187-AG172","v":-1.2882723583866191},52.215776159232846,{"$f":"+M187*U186+AB172","v":49.219365776721382},49.085793536167863,{"$f":"+M187*W186+AF172","v":46.271658097162941},48.271379045599623,null,null,"b_t_star dc (infinito)","Ajuste al déficit primario"]
[2036,{"$f":"+B155","v":-1.0571428571428587},20.142857142857142,3.7285714285714282,13.585714285714287,3.8857142857142861,6.1300452985096551E-2,3.0800000000000001E-2,20.142857142857142,21.200000000000003,3.1285714285714277,16,1.0295891084449909,{"$f":"+PRODUCT(M172:M188)","v":1.5482396125466171},{"$f":"+'Multiplicatoria inversa'!F188","v":19.069039648027708},{"$f":"+C188-D188-F188-AC172","v":-1.2442999137996917},{"$f":"+IF(L188=AB175,1,VLOOKUP(AB175,'Multiplicatoria inversa'!E173:AK202,L188+4,FALSE))*P188","v":-1.3982371278334083},{"$f":"IF(L188<25-Z171+1,(C188-D188-F188-AF178)*((1+AF174)/(1+AF173))^L188,0)","v":0.14335039935588509},{"$f":"+C188-D188-F188-AG172","v":-1.2882723583866191},52.703651565404897,{"$f":"+M188*U187+AB172","v":49.402313310107694},49.293898490418272,{"$f":"+M188*W187+AF172","v":46.20823086542309},48.411413756582512,null,null,"b_t_star tau  (infinito)","Ajuste al ingreso tributario"]
[2037,{"$f":"+B156","v":-1.0571428571428587},20.142857142857142,3.7285714285714282,13.585714285714287,3.8857142857142861,6.1300452985096551E-2,3.0800000000000001E-2,20.142857142857142,21.200000000000003,3.1285714285714277,17,1.0295891084449909,{"$f":"+PRODUCT(M172:M189)","v":1.5940506423410896},{"$f":"+'Multiplicatoria inversa'!F189","v":20.66286463856002},{"$f":"+C189-D189-F189-AC172","v":-1.2442999137996917},{"$f":"+IF(L189=AB175,1,VLOOKUP(AB175,'Multiplicatoria inversa'!E173:AK202,L189+4,FALSE))*P189","v":-1.3580535345262092},{"$f":"IF(L189<25-Z171+1,(C189-D189-F189-AF178)*((1+AF174)/(1+AF173))^L189,0)","v":0.13923068744616973},{"$f":"+C189-D189-F189-AG172","v":-1.2882723583866191},53.205962769877814,{"$f":"+M189*U188+AB172","v":49.590674097899118},49.508161084727938,{"$f":"+M189*W188+AF172","v":46.142926878444925},48.555591969814735]
[2038,{"$f":"+B157","v":-1.0571428571428587},20.142857142857142,3.7285714285714282,13.585714285714287,3.8857142857142861,6.1300452985096551E-2,3.0800000000000001E-2,20.142857142857142,21.200000000000003,3.1285714285714277,18,1.0295891084449909,{"$f":"+PRODUCT(M172:M190)","v":1.6412171796641275},{"$f":"+'Multiplicatoria inversa'!F190","v":22.303849489579534},{"$f":"+C190-D190-F190-AC172","v":-1.2442999137996917},{"$f":"+IF(L190=AB175,1,VLOOKUP(AB175,'Multiplicatoria inversa'!E173:AK202,L190+4,FALSE))*P190","v":-1.3190247676350275},{"$f":"IF(L190<25-Z171+1,(C190-D190-F190-AF178)*((1+AF174)/(1+AF173))^L190,0)","v":0.13522937092492426},{"$f":"+C190-D190-F190-AG172","v":-1.2882723583866191},53.723136915053018,{"$f":"+M190*U189+AB172","v":49.784608313467288},49.728763518176336,{"$f":"+M190*W189+AF172","v":46.075690604714183},48.704036287833688]
[2039,{"$f":"+B158","v":-1.0571428571428587},20.142857142857142,3.7285714285714282,13.585714285714287,3.8857142857142861,6.1300452985096551E-2,3.0800000000000001E-2,20.142857142857142,21.200000000000003,3.1285714285714277,19,1.0295891084449909,{"$f":"+PRODUCT(M172:M191)","v":1.6897793327749915},{"$f":"+'Multiplicatoria inversa'!F191","v":23.993389619312445},{"$f":"+C191-D191-F191-AC172","v":-1.2442999137996917},{"$f":"+IF(L191=AB175,1,VLOOKUP(AB175,'Multiplicatoria inversa'!E173:AK202,L191+4,FALSE))*P191","v":-1.2811176388872036},{"$f":"IF(L191<25-Z171+1,(C191-D191-F191-AF178)*((1+AF174)/(1+AF173))^L191,0)","v":0.13134304725616605},{"$f":"+C191-D191-F191-AG172","v":-1.2882723583866191},54.255613782094755,{"$f":"+M191*U190+AB172","v":49.984280869571094},49.955893380951267,{"$f":"+M191*W190+AF172","v":46.006464869588584},48.856872940876549]
[2040,{"$f":"+B159","v":-1.0571428571428587},20.142857142857142,3.7285714285714282,13.585714285714287,3.8857142857142861,6.1300452985096551E-2,3.0800000000000001E-2,20.142857142857142,21.200000000000003,3.1285714285714277,20,1.0295891084449909,{"$f":"+PRODUCT(M172:M192)","v":1.7397783967005749},{"$f":"+'Multiplicatoria inversa'!F192","v":25.73292173516619},{"$f":"+C192-D192-F192-AC172","v":-1.2442999137996917},{"$f":"+IF(L192=AB175,1,VLOOKUP(AB175,'Multiplicatoria inversa'!E173:AK202,L192+4,FALSE))*P192","v":-1.2442999137996917},{"$f":"IF(L192<25-Z171+1,(C192-D192-F192-AF178)*((1+AF174)/(1+AF173))^L192,0)","v":0},{"$f":"+C192-D192-F192-AG172","v":-1.2882723583866191},54.803846164899838,{"$f":"+M192*U191+AB172","v":50.189861558590948},50.18974381386694,{"$f":"+M192*W191+AF172","v":45.935190806679159},49.014231894220664]
[2041,{"$f":"+B160","v":-1.0571428571428587},20.142857142857142,3.7285714285714282,13.585714285714287,3.8857142857142861,6.1300452985096551E-2,3.0800000000000001E-2,20.142857142857142,21.200000000000003,3.1285714285714277,21,1.0295891084449909,{"$f":"+PRODUCT(M172:M193)","v":1.7912568883508004},{"$f":"+'Multiplicatoria inversa'!F193","v":27.523925055439477},{"$f":"+C193-D193-F193-AC172","v":-1.2442999137996917},{"$f":"+IF(L193=AB175,1,VLOOKUP(AB175,'Multiplicatoria inversa'!E173:AK202,L193+4,FALSE))*P193","v":0},{"$f":"IF(L193<25-Z171+1,(C193-D193-F193-AF178)*((1+AF174)/(1+AF173))^L193,0)","v":0},{"$f":"+C193-D193-F193-AG172","v":-1.2882723583866191},55.368300255132802,{"$f":"+M193*U192+AB172","v":50.401525196912409},50.430513672602068,{"$f":"+M193*W192+AF172","v":45.861807807792999},49.176246958700069]
[2042,{"$f":"+B161","v":-1.0571428571428587},20.142857142857142,3.7285714285714282,13.585714285714287,3.8857142857142861,6.1300452985096551E-2,3.0800000000000001E-2,20.142857142857142,21.200000000000003,3.1285714285714277,22,1.0295891084449909,{"$f":"+PRODUCT(M172:M194)","v":1.8442585826730491},{"$f":"+'Multiplicatoria inversa'!F194","v":29.367922567181672},{"$f":"+C194-D194-F194-AC172","v":-1.2442999137996917},{"$f":"+IF(L194=AB175,1,VLOOKUP(AB175,'Multiplicatoria inversa'!E173:AK202,L194+4,FALSE))*P194","v":0},{"$f":"IF(L194<25-Z171+1,(C194-D194-F194-AF178)*((1+AF174)/(1+AF173))^L194,0)","v":0},{"$f":"+C194-D194-F194-AG172","v":-1.2882723583866191},55.949456038653885,{"$f":"+M194*U193+AB172","v":50.619451773582021},50.678407696797592,{"$f":"+M194*W193+AF172","v":45.786253471394772},49.343055904492076]
[2043,{"$f":"+B162","v":-1.0571428571428587},20.142857142857142,3.7285714285714282,13.585714285714287,3.8857142857142861,6.1300452985096551E-2,3.0800000000000001E-2,20.142857142857142,21.200000000000003,3.1285714285714277,23,1.0295891084449909,{"$f":"+PRODUCT(M172:M195)","v":1.8988285498763671},{"$f":"+'Multiplicatoria inversa'!F195","v":31.266482321271098},{"$f":"+C195-D195-F195-AC172","v":-1.2442999137996917},{"$f":"+IF(L195=AB175,1,VLOOKUP(AB175,'Multiplicatoria inversa'!E173:AK202,L195+4,FALSE))*P195","v":0},{"$f":"IF(L195<25-Z171+1,(C195-D195-F195-AF178)*((1+AF174)/(1+AF173))^L195,0)","v":0},{"$f":"+C195-D195-F195-AG172","v":-1.2882723583866191},56.547807703677009,{"$f":"+M195*U194+AB172","v":50.843826603361755},50.933636684157904,{"$f":"+M195*W194+AF172","v":45.708463549543367},49.514800578270716]
[2044,{"$f":"+B163","v":-1.0571428571428587},20.142857142857142,3.7285714285714282,13.585714285714287,3.8857142857142861,6.1300452985096551E-2,3.0800000000000001E-2,20.142857142857142,21.200000000000003,3.1285714285714277,24,1.0295891084449909,{"$f":"+PRODUCT(M172:M196)","v":1.9550131937571036},{"$f":"+'Multiplicatoria inversa'!F196","v":33.221218765813568},{"$f":"+C196-D196-F196-AC172","v":-1.2442999137996917},{"$f":"+IF(L196=AB175,1,VLOOKUP(AB175,'Multiplicatoria inversa'!E173:AK202,L196+4,FALSE))*P196","v":0},{"$f":"IF(L196<25-Z171+1,(C196-D196-F196-AF178)*((1+AF174)/(1+AF173))^L196,0)","v":0},{"$f":"+C196-D196-F196-AG172","v":-1.2882723583866191},57.163864061004737,{"$f":"+M196*U195+AB172","v":51.074840484312169},51.196417669703521,{"$f":"+M196*W195+AF172","v":45.628371893258375},49.691627023826641]
[2045,{"$f":"+B164","v":-1.0571428571428587},20.142857142857142,3.7285714285714282,13.585714285714287,3.8857142857142861,6.1300452985096551E-2,3.0800000000000001E-2,20.142857142857142,21.200000000000003,3.1285714285714277,25,1.0295891084449909,{"$f":"+PRODUCT(M172:M197)","v":2.0128602911585705},{"$f":"+'Multiplicatoria inversa'!F197","v":35.233794118994979},{"$f":"+C197-D197-F197-AC172","v":-1.2442999137996917},{"$f":"+IF(L197=AB175,1,VLOOKUP(AB175,'Multiplicatoria inversa'!E173:AK202,L197+4,FALSE))*P197","v":0},{"$f":"IF(L197<25-Z171+1,(C197-D197-F197-AF178)*((1+AF174)/(1+AF173))^L197,0)","v":0},{"$f":"+C197-D197-F197-AG172","v":-1.2882723583866191},57.798148976697668,{"$f":"+M197*U196+AB172","v":51.312689860038326},51.466974110327733,{"$f":"+M197*W196+AF172","v":45.545910396270031},49.873685606256068]
[2046,{"$f":"+B165","v":0},0,0,0,0,0,0,0,0,0,26,1,{"$f":"+PRODUCT(M172:M198)","v":2.0128602911585705},{"$f":"+'Multiplicatoria inversa'!F198","v":36.233794118994979},{"$f":"+C198-D198-F198-AC172","v":-13.77287134237112},{"$f":"+IF(L198=AB175,1,VLOOKUP(AB175,'Multiplicatoria inversa'!E173:AK202,L198+4,FALSE))*P198","v":0},{"$f":"IF(L198<25-Z171+1,(C198-D198-F198-AF178)*((1+AF174)/(1+AF173))^L198,0)","v":0},{"$f":"+C198-D198-F198-AG172","v":-13.816843786958048},57.798148976697668,{"$f":"+M198*U197+AB172","v":50.039280241863558},37.694102767956615,{"$f":"+M198*W197+AF172","v":44.113346055163689},36.056841819298022]
[2047,{"$f":"+B166","v":0},0,0,0,0,0,0,0,0,0,27,1,{"$f":"+PRODUCT(M172:M199)","v":2.0128602911585705},{"$f":"+'Multiplicatoria inversa'!F199","v":37.233794118994979},{"$f":"+C199-D199-F199-AC172","v":-13.77287134237112},{"$f":"+IF(L199=AB175,1,VLOOKUP(AB175,'Multiplicatoria inversa'!E173:AK202,L199+4,FALSE))*P199","v":0},{"$f":"IF(L199<25-Z171+1,(C199-D199-F199-AF178)*((1+AF174)/(1+AF173))^L199,0)","v":0},{"$f":"+C199-D199-F199-AG172","v":-13.816843786958048},57.798148976697668,{"$f":"+M199*U198+AB172","v":48.765870623688791},23.921231425585496,{"$f":"+M199*W198+AF172","v":42.680781714057346},22.239998032339976]
[2048,{"$f":"+B167","v":0},0,0,0,0,0,0,0,0,0,28,1,{"$f":"+PRODUCT(M172:M200)","v":2.0128602911585705},{"$f":"+'Multiplicatoria inversa'!F200","v":38.233794118994979},{"$f":"+C200-D200-F200-AC172","v":-13.77287134237112},{"$f":"+IF(L200=AB175,1,VLOOKUP(AB175,'Multiplicatoria inversa'!E173:AK202,L200+4,FALSE))*P200","v":0},{"$f":"IF(L200<25-Z171+1,(C200-D200-F200-AF178)*((1+AF174)/(1+AF173))^L200,0)","v":0},{"$f":"+C200-D200-F200-AG172","v":-13.816843786958048},57.798148976697668,{"$f":"+M200*U199+AB172","v":47.492461005514023},10.148360083214376,{"$f":"+M200*W199+AF172","v":41.248217372951004},8.4231542453819284]
[2049,{"$f":"+B168","v":0},0,0,0,0,0,0,0,0,0,29,1,{"$f":"+PRODUCT(M172:M201)","v":2.0128602911585705},{"$f":"+'Multiplicatoria inversa'!F201","v":39.233794118994979},{"$f":"+C201-D201-F201-AC172","v":-13.77287134237112},{"$f":"+IF(L201=AB175,1,VLOOKUP(AB175,'Multiplicatoria inversa'!E173:AK202,L201+4,FALSE))*P201","v":0},{"$f":"IF(L201<25-Z171+1,(C201-D201-F201-AF178)*((1+AF174)/(1+AF173))^L201,0)","v":0},{"$f":"+C201-D201-F201-AG172","v":-13.816843786958048},57.798148976697668,{"$f":"+M201*U200+AB172","v":46.219051387339256},-3.6245112591567441,{"$f":"+M201*W200+AF172","v":39.815653031844661},-5.3936895415761192]
[2050,{"$f":"+B169","v":0},0,0,0,0,0,0,0,0,0,30,1,{"$f":"+PRODUCT(M172:M202)","v":2.0128602911585705},{"$f":"+'Multiplicatoria inversa'!F202","v":40.233794118994979},{"$f":"+C202-D202-F202-AC172","v":-13.77287134237112},null,{"$f":"IF(L202<25-Z171+1,(C202-D202-F202-AF178)*((1+AF174)/(1+AF173))^L202,0)","v":0},{"$f":"+C202-D202-F202-AG172","v":-13.816843786958048},57.798148976697668,{"$f":"+M202*U201+AB172","v":44.945641769164489},-17.397382601527866,{"$f":"+M202*W201+AF172","v":38.383088690738319},-19.210533328534169]
[]
[]
[" Fecha(Anual) ","dp_t","g_t","ip_t","tau_t","i_otros_t ","r_t","c_y_t","Gasto__neto","I_presupuestarios","Costo_finan","t","1+r_t / 1+c_y_t","Multiplicatoria simple","Multiplicatoria inversa","gt - ipt - iotros  - tau_s","(gt - ipt - iotros + tau_s)","(gt - ipt - iotros - omega)(1+r/1+c_y)^t","gt - ipt - iotros  - tau_s (inf)","b_t","b_t_star dc (finito)","b_t_star tau  (finito)","b_t_star dc (infinito)","b_t_star tau  (infinito)",null,7,"H Finito","pd_s","tau_s",null,"H infinito","pd_s","tau_s"]
[{"$f":"+A173","v":2021},null,null,null,null,null,null,null,null,null,null,0,{"$f":"(1+G206)/(1+H206)","v":1},null,null,null,null,null,null,{"$f":"+T173","v":47.719480680378119},{"$f":"+T206","v":47.719480680378119},{"$f":"+T206","v":47.719480680378119},{"$f":"+T206","v":47.719480680378119},{"$f":"+T206","v":47.719480680378119},null,null,null,{"$f":"+AN9","v":-1.2647960294855365},{"$f":"+AO9","v":13.777869544297165},null,null,{"$f":"+(AF207-AF208)/(1+AF208)*(-AB207)","v":-1.4119768887903532},{"$f":"+AF215","v":13.798750088305052}]
[{"$f":"+A206+1","v":2022},{"$f":"+B174","v":-1.3999999999999986},{"$f":"+C174","v":20.100000000000001},3.9,13.7,3.9000000000000021,6.0199999999999997E-2,4.4999999999999998E-2,20.100000000000001,21.5,3.4,1,{"$f":"(1+G207)/(1+H207)","v":1.0145454545454546},{"$f":"+PRODUCT(M206:M207)","v":1.0145454545454546},{"$f":"+'Multiplicatoria inversa'!F207","v":0},{"$f":"+C207-D207-F207-AC206","v":-1.4778695442971639},{"$f":"+IF(L207=AB209,1,VLOOKUP(AB209,'Multiplicatoria inversa'!E207:AK236,L207+4,FALSE))*P207","v":-2.4979688263856881},{"$f":"IF(L207<25-Z205+1,(C207-D207-F207-AF212)*((1+AF208)/(1+AF207))^L207,0)","v":0},{"$f":"+C207-D207-F207-AG206","v":-1.4987500883050515},{"$f":"+M207*T206+B207","v":47.01358221754726},{"$f":"+M207*U206+AB206","v":47.14878618806172},{"$f":"+M207*V206+P207","v":46.935712673250094},{"$f":"+M207*W206+AF206","v":47.001605328756902},{"$f":"+M207*X206+S207","v":46.914832129242207},null,null,"b_0",{"$f":"+U206","v":47.719480680378119},{"$f":"+AB207","v":47.719480680378119},null,"r",{"$f":"+AF173","v":6.1300452985096551E-2}]
[{"$f":"+A207+1","v":2023},{"$f":"+B175","v":-1.0571428571428587},20.142857142857142,3.7285714285714282,13.585714285714287,3.8857142857142861,6.1300452985096551E-2,3.0800000000000001E-2,20.142857142857142,21.200000000000003,3.1285714285714277,{"$f":"+L207+1","v":2},{"$f":"(1+G208)/(1+H208)","v":1.0295891084449909},{"$f":"+PRODUCT(M206:M208)","v":1.0445649500223726},{"$f":"+'Multiplicatoria inversa'!F208","v":1.0295891084449909},{"$f":"+C208-D208-F208-AC206","v":-1.2492981157257361},{"$f":"+IF(L208=AB209,1,VLOOKUP(AB209,'Multiplicatoria inversa'!E207:AK236,L208+4,FALSE))*P208","v":-2.0509404949496299},{"$f":"IF(L208<25-Z205+1,(C208-D208-F208-AF212)*((1+AF208)/(1+AF207))^L208,0)","v":0.21562249310787485},{"$f":"+C208-D208-F208-AG206","v":-1.2701786597336238},47.347529343026899,{"$f":"+M208*U207+AB206","v":47.279080706144427},47.075200449756089,{"$f":"+M208*W207+AF206","v":46.980364037127792},47.032821525059269,null,null,"b_T",{"$f":"+AB174","v":50.19},{"$f":"+AC174","v":50.19},null,"c_y",{"$f":"+AF174","v":3.0800000000000001E-2}]
[2024,{"$f":"+B176","v":-1.0571428571428587},20.142857142857142,3.7285714285714282,13.585714285714287,3.8857142857142861,6.1300452985096551E-2,3.0800000000000001E-2,20.142857142857142,21.200000000000003,3.1285714285714277,{"$f":"+L208+1","v":3},1.0295891084449909,{"$f":"+PRODUCT(M206:M209)","v":1.0754726956064211},{"$f":"+'Multiplicatoria inversa'!F209","v":2.0896428406735419},{"$f":"+C209-D209-F209-AC206","v":-1.2492981157257361},{"$f":"+IF(L209=AB209,1,VLOOKUP(AB209,'Multiplicatoria inversa'!E207:AK236,L209+4,FALSE))*P209","v":-1.9919990199267033},{"$f":"IF(L209<25-Z205+1,(C209-D209-F209-AF212)*((1+AF208)/(1+AF207))^L209,0)","v":0.20942577125114875},{"$f":"+C209-D209-F209-AG206","v":-1.2701786597336238},47.69135766621725,{"$f":"+M209*U208+AB206","v":47.413230522852473},47.218815545207868,{"$f":"+M209*W208+AF206","v":46.958494234617156},47.154302121904522,null,null,"T",{"$f":"+AB175-1","v":19},{"$f":"+AB209","v":19},null,"g ",{"$f":"+AF175","v":20.100000000000001}]
[2025,{"$f":"+B177","v":-1.0571428571428587},20.142857142857142,3.7285714285714282,13.585714285714287,3.8857142857142861,6.1300452985096551E-2,3.0800000000000001E-2,20.142857142857142,21.200000000000003,3.1285714285714277,4,1.0295891084449909,{"$f":"+PRODUCT(M206:M210)","v":1.1072949738263462},{"$f":"+'Multiplicatoria inversa'!F210","v":3.1810626177425205},{"$f":"+C210-D210-F210-AC206","v":-1.2492981157257361},{"$f":"+IF(L210=AB209,1,VLOOKUP(AB209,'Multiplicatoria inversa'!E207:AK236,L210+4,FALSE))*P210","v":-1.9347514494741107},{"$f":"IF(L210<25-Z205+1,(C210-D210-F210-AF212)*((1+AF208)/(1+AF207))^L210,0)","v":0.20340713546149369},{"$f":"+C210-D210-F210-AG206","v":-1.2701786597336238},48.045359562948939,{"$f":"+M210*U209+AB206","v":47.551349713034966},47.366680083293303,{"$f":"+M210*W209+AF206","v":46.935977324148368},47.27937722130379,null,null,"Pi_t b_0",{"$f":"+VLOOKUP(AB209,L207:N236,3,FALSE)*AB207","v":81.83105174591536},{"$f":"+AB210","v":81.83105174591536},null,"ip",{"$f":"+AF176","v":3.9}]
[2026,{"$f":"+B178","v":-1.0571428571428587},20.142857142857142,3.7285714285714282,13.585714285714287,3.8857142857142861,6.1300452985096551E-2,3.0800000000000001E-2,20.142857142857142,21.200000000000003,3.1285714285714277,5,1.0295891084449909,{"$f":"+PRODUCT(M206:M211)","v":1.1400588448874873},{"$f":"+'Multiplicatoria inversa'!F211","v":4.3047765329542012},{"$f":"+C211-D211-F211-AC206","v":-1.2492981157257361},{"$f":"+IF(L211=AB209,1,VLOOKUP(AB209,'Multiplicatoria inversa'!E207:AK236,L211+4,FALSE))*P211","v":-1.8791491028845522},{"$f":"IF(L211<25-Z205+1,(C211-D211-F211-AF212)*((1+AF208)/(1+AF207))^L211,0)","v":0.19756146776717906},{"$f":"+C211-D211-F211-AG206","v":-1.2701786597336238},48.40983606019276,{"$f":"+M211*U210+AB206","v":47.693555726914106},47.51891980123132,{"$f":"+M211*W210+AF206","v":46.91279415837387},47.408153181382957,null,null,"sum dpt",{"$f":"+VLOOKUP(AB209,L207:O236,4,FALSE)","v":24.01808639791652},{"$f":"+SUM(Q207:Q235)","v":-31.641391026697551},null,"iotros",3.9000000000000021]
[2027,{"$f":"+B179","v":-1.0571428571428587},20.142857142857142,3.7285714285714282,13.585714285714287,3.8857142857142861,6.1300452985096551E-2,3.0800000000000001E-2,20.142857142857142,21.200000000000003,3.1285714285714277,6,1.0295891084449909,{"$f":"+PRODUCT(M206:M212)","v":1.1737921696825342},{"$f":"+'Multiplicatoria inversa'!F212","v":5.4617401410642259},{"$f":"+C212-D212-F212-AC206","v":-1.2492981157257361},{"$f":"+IF(L212=AB209,1,VLOOKUP(AB209,'Multiplicatoria inversa'!E207:AK236,L212+4,FALSE))*P212","v":-1.8251446984736162},{"$f":"IF(L212<25-Z205+1,(C212-D212-F212-AF212)*((1+AF208)/(1+AF207))^L212,0)","v":0.19188379728060656},{"$f":"+C212-D212-F212-AG206","v":-1.2701786597336238},48.785097092039173,{"$f":"+M212*U211+AB206","v":47.839969489959444},47.675664156693038,{"$f":"+M212*W211+AF206","v":46.88892502339317},47.540739507310015,null,null,"f",{"$f":"+AB210+AB206*(AB211+1)","v":50.188275404504438},{"$f":"+AC210+AC211","v":50.189660719217812},null,"omega",12.3]
[2028,{"$f":"+B180","v":-1.0571428571428587},20.142857142857142,3.7285714285714282,13.585714285714287,3.8857142857142861,6.1300452985096551E-2,3.0800000000000001E-2,20.142857142857142,21.200000000000003,3.1285714285714277,7,1.0295891084449909,{"$f":"+PRODUCT(M206:M213)","v":1.2085236334831517},{"$f":"+'Multiplicatoria inversa'!F213","v":6.6529372708415249},{"$f":"+C213-D213-F213-AC206","v":-1.2492981157257361},{"$f":"+IF(L213=AB209,1,VLOOKUP(AB209,'Multiplicatoria inversa'!E207:AK236,L213+4,FALSE))*P213","v":-1.772692313373603},{"$f":"IF(L213<25-Z205+1,(C213-D213-F213-AF212)*((1+AF208)/(1+AF207))^L213,0)","v":0.18636929597129531},{"$f":"+C213-D213-F213-AG206","v":-1.2701786597336238},49.171461763252069,{"$f":"+M213*U212+AB206","v":47.990715505717368},47.837046437886656,{"$f":"+M213*W212+AF206","v":46.864349621989042},47.67724894441325,null,null,"dif",{"$f":"+AB208-AB212","v":1.7245954955598108E-3},{"$f":"+AC208-AC212","v":3.3928078218536939E-4},null,"25 se vuelve constante"]
[2029,{"$f":"+B181","v":-1.0571428571428587},20.142857142857142,3.7285714285714282,13.585714285714287,3.8857142857142861,6.1300452985096551E-2,3.0800000000000001E-2,20.142857142857142,21.200000000000003,3.1285714285714277,8,1.0295891084449909,{"$f":"+PRODUCT(M206:M214)","v":1.2442827703326191},{"$f":"+'Multiplicatoria inversa'!F214","v":7.8793808616711676},{"$f":"+C214-D214-F214-AC206","v":-1.2492981157257361},{"$f":"+IF(L214=AB209,1,VLOOKUP(AB209,'Multiplicatoria inversa'!E207:AK236,L214+4,FALSE))*P214","v":-1.7217473444828255},{"$f":"IF(L214<25-Z205+1,(C214-D214-F214-AF212)*((1+AF208)/(1+AF207))^L214,0)","v":0.18101327456034635},{"$f":"+C214-D214-F214-AG206","v":-1.2701786597336238},49.569258620620801,{"$f":"+M214*U213+AB206","v":48.145921961683207},48.003203876899612,{"$f":"+M214*W213+AF206","v":46.839047056367683},47.817797574054694,null,null,"Validar",{"$f":"+VLOOKUP(AB209,L207:U236,10,FALSE)","v":50.188275404504381},{"$f":"+VLOOKUP(AC209,L207:V236,11,FALSE)","v":50.189660719217784},null,"sum 1 a 24",{"$f":"+SUM(R207:R230)","v":2.9326060863246037}]
[2030,{"$f":"+B182","v":-1.0571428571428587},20.142857142857142,3.7285714285714282,13.585714285714287,3.8857142857142861,6.1300452985096551E-2,3.0800000000000001E-2,20.142857142857142,21.200000000000003,3.1285714285714277,9,1.0295891084449909,{"$f":"+PRODUCT(M206:M215)","v":1.2810999881602247},{"$f":"+'Multiplicatoria inversa'!F215","v":9.142113824911533},{"$f":"+C215-D215-F215-AC206","v":-1.2492981157257361},{"$f":"+IF(L215=AB209,1,VLOOKUP(AB209,'Multiplicatoria inversa'!E207:AK236,L215+4,FALSE))*P215","v":-1.6722664705371788},{"$f":"IF(L215<25-Z205+1,(C215-D215-F215-AF212)*((1+AF208)/(1+AF207))^L215,0)","v":0.17581117853289488},{"$f":"+C215-D215-F215-AG206","v":-1.2701786597336238},49.978825932341287,{"$f":"+M215*U214+AB206","v":48.30572083830598},48.174277766394461,{"$f":"+M215*W214+AF206","v":46.812995810388223},47.962504912340393,null,null,null,{"$f":"+IFERROR(ABS(AB214/AB208)-1,0)","v":-3.4361336832322564E-5},{"$f":"+IFERROR(ABS(AC214/AC208)-1,0)","v":-6.7599279182095628E-6},null,"f",{"$f":"+(AF214+AB207)*(AF207-AF208)/(1+AF208)+AF212","v":13.798750088305052}]
[2031,{"$f":"+B183","v":-1.0571428571428587},20.142857142857142,3.7285714285714282,13.585714285714287,3.8857142857142861,6.1300452985096551E-2,3.0800000000000001E-2,20.142857142857142,21.200000000000003,3.1285714285714277,10,1.0295891084449909,{"$f":"+PRODUCT(M206:M216)","v":1.3190065946387741},{"$f":"+'Multiplicatoria inversa'!F216","v":10.442209930738281},{"$f":"+C216-D216-F216-AC206","v":-1.2492981157257361},{"$f":"+IF(L216=AB209,1,VLOOKUP(AB209,'Multiplicatoria inversa'!E207:AK236,L216+4,FALSE))*P216","v":-1.6242076152717237},{"$f":"IF(L216<25-Z205+1,(C216-D216-F216-AF212)*((1+AF208)/(1+AF207))^L216,0)","v":0.17075858426515994},{"$f":"+C216-D216-F216-AG206","v":-1.2701786597336238},50.400511975663797,{"$f":"+M216*U215+AB206","v":48.470248021218531},48.350413579757685,{"$f":"+M216*W215+AF206","v":46.786173731266345},48.111494011751418]
[2032,{"$f":"+B184","v":-1.0571428571428587},20.142857142857142,3.7285714285714282,13.585714285714287,3.8857142857142861,6.1300452985096551E-2,3.0800000000000001E-2,20.142857142857142,21.200000000000003,3.1285714285714277,11,1.0295891084449909,{"$f":"+PRODUCT(M206:M217)","v":1.3580348238071989},{"$f":"+'Multiplicatoria inversa'!F217","v":11.780774721229246},{"$f":"+C217-D217-F217-AC206","v":-1.2492981157257361},{"$f":"+IF(L217=AB209,1,VLOOKUP(AB209,'Multiplicatoria inversa'!E207:AK236,L217+4,FALSE))*P217","v":-1.5775299116409625},{"$f":"IF(L217<25-Z205+1,(C217-D217-F217-AF212)*((1+AF208)/(1+AF207))^L217,0)","v":0.16585119526279768},{"$f":"+C217-D217-F217-AG206","v":-1.2701786597336238},50.834675333051919,{"$f":"+M217*U216+AB206","v":48.639643416788431},48.531761094803556,{"$f":"+M217*W216+AF206","v":46.758558010736614},48.264891565782037,null,null,"g",{"$f":"IFERROR(ABS(AB213)+ABS(AC213),0)","v":2.0638762777451802E-3}]
[2033,{"$f":"+B185","v":-1.0571428571428587},20.142857142857142,3.7285714285714282,13.585714285714287,3.8857142857142861,6.1300452985096551E-2,3.0800000000000001E-2,20.142857142857142,21.200000000000003,3.1285714285714277,12,1.0295891084449909,{"$f":"+PRODUCT(M206:M218)","v":1.3982178634809042},{"$f":"+'Multiplicatoria inversa'!F218","v":13.158946450466697},{"$f":"+C218-D218-F218-AC206","v":-1.2492981157257361},{"$f":"+IF(L218=AB209,1,VLOOKUP(AB209,'Multiplicatoria inversa'!E207:AK236,L218+4,FALSE))*P218","v":-1.5321936670673775},{"$f":"IF(L218<25-Z205+1,(C218-D218-F218-AF212)*((1+AF208)/(1+AF207))^L218,0)","v":0.16108483850735961},{"$f":"+C218-D218-F218-AG206","v":-1.2701786597336238},51.281685197104636,{"$f":"+M218*U217+AB206","v":48.814051071087931},48.718474521138354,{"$f":"+M218*W217+AF206","v":46.730125165657341},48.42282801667406,null,null,null,"Pronosticada"]
[2034,{"$f":"+B186","v":-1.0571428571428587},20.142857142857142,3.7285714285714282,13.585714285714287,3.8857142857142861,6.1300452985096551E-2,3.0800000000000001E-2,20.142857142857142,21.200000000000003,3.1285714285714277,13,1.0295891084449909,{"$f":"+PRODUCT(M206:M219)","v":1.439589883473164},{"$f":"+'Multiplicatoria inversa'!F219","v":14.577897052456374},{"$f":"+C219-D219-F219-AC206","v":-1.2492981157257361},{"$f":"+IF(L219=AB209,1,VLOOKUP(AB209,'Multiplicatoria inversa'!E207:AK236,L219+4,FALSE))*P219","v":-1.4881603296886856},{"$f":"IF(L219<25-Z205+1,(C219-D219-F219-AF212)*((1+AF208)/(1+AF207))^L219,0)","v":0.15645546090774917},{"$f":"+C219-D219-F219-AG206","v":-1.2701786597336238},51.741921684500788,{"$f":"+M219*U218+AB206","v":48.993619292384139},48.910712631293102,{"$f":"+M219*W218+AF206","v":46.700851018041618},48.585437666338947,null,null,"b_t_star dc (finito)","Ajuste al déficit primario"]
[2035,{"$f":"+B187","v":-1.0571428571428587},20.142857142857142,3.7285714285714282,13.585714285714287,3.8857142857142861,6.1300452985096551E-2,3.0800000000000001E-2,20.142857142857142,21.200000000000003,3.1285714285714277,14,1.0295891084449909,{"$f":"+PRODUCT(M206:M220)","v":1.4821860646515632},{"$f":"+'Multiplicatoria inversa'!F220","v":16.038833137686407},{"$f":"+C220-D220-F220-AC206","v":-1.2492981157257361},{"$f":"+IF(L220=AB209,1,VLOOKUP(AB209,'Multiplicatoria inversa'!E207:AK236,L220+4,FALSE))*P220","v":-1.4453924555751023},{"$f":"IF(L220<25-Z205+1,(C220-D220-F220-AF212)*((1+AF208)/(1+AF207))^L220,0)","v":0.15195912585365925},{"$f":"+C220-D220-F220-AG206","v":-1.2701786597336238},52.215776159232846,{"$f":"+M220*U219+AB206","v":49.178500777253554},49.108638895736483,{"$f":"+M220*W219+AF206","v":46.670710674497457},48.752858790561973,null,null,"b_t_star tau  (finito)","Ajuste al ingreso tributario"]
[2036,{"$f":"+B188","v":-1.0571428571428587},20.142857142857142,3.7285714285714282,13.585714285714287,3.8857142857142861,6.1300452985096551E-2,3.0800000000000001E-2,20.142857142857142,21.200000000000003,3.1285714285714277,15,1.0295891084449909,{"$f":"+PRODUCT(M206:M221)","v":1.5260426288541926},{"$f":"+'Multiplicatoria inversa'!F221","v":17.542997019173512},{"$f":"+C221-D221-F221-AC206","v":-1.2492981157257361},{"$f":"+IF(L221=AB209,1,VLOOKUP(AB209,'Multiplicatoria inversa'!E207:AK236,L221+4,FALSE))*P221","v":-1.4038536768887422},{"$f":"IF(L221<25-Z205+1,(C221-D221-F221-AF212)*((1+AF208)/(1+AF207))^L221,0)","v":0.14759200986805909},{"$f":"+C221-D221-F221-AG206","v":-1.2701786597336238},52.703651565404897,{"$f":"+M221*U220+AB206","v":49.368852740428238},49.312421621882592,{"$f":"+M221*W220+AF206","v":46.639678505059599},48.925233756585612,null,null,"b_t_star dc (infinito)","Ajuste al déficit primario"]
[2037,{"$f":"+B189","v":-1.0571428571428587},20.142857142857142,3.7285714285714282,13.585714285714287,3.8857142857142861,6.1300452985096551E-2,3.0800000000000001E-2,20.142857142857142,21.200000000000003,3.1285714285714277,16,1.0295891084449909,{"$f":"+PRODUCT(M206:M222)","v":1.5711968696910383},{"$f":"+'Multiplicatoria inversa'!F222","v":19.09166776886898},{"$f":"+C222-D222-F222-AC206","v":-1.2492981157257361},{"$f":"+IF(L222=AB209,1,VLOOKUP(AB209,'Multiplicatoria inversa'!E207:AK236,L222+4,FALSE))*P222","v":-1.3635086709580784},{"$f":"IF(L222<25-Z205+1,(C222-D222-F222-AF212)*((1+AF208)/(1+AF207))^L222,0)","v":0.14335039935588509},{"$f":"+C222-D222-F222-AG206","v":-1.2701786597336238},53.205962769877814,{"$f":"+M222*U221+AB206","v":49.564837048484016},49.52223409721185,{"$f":"+M222*W221+AF206","v":46.607728121394963},49.102709144172124,null,null,"b_t_star tau  (infinito)","Ajuste al ingreso tributario"]
[2038,{"$f":"+B190","v":-1.0571428571428587},20.142857142857142,3.7285714285714282,13.585714285714287,3.8857142857142861,6.1300452985096551E-2,3.0800000000000001E-2,20.142857142857142,21.200000000000003,3.1285714285714277,17,1.0295891084449909,{"$f":"+PRODUCT(M206:M223)","v":1.6176871842567566},{"$f":"+'Multiplicatoria inversa'!F223","v":20.686162305322775},{"$f":"+C223-D223-F223-AC206","v":-1.2492981157257361},{"$f":"+IF(L223=AB209,1,VLOOKUP(AB209,'Multiplicatoria inversa'!E207:AK236,L223+4,FALSE))*P223","v":-1.3243231302411629},{"$f":"IF(L223<25-Z205+1,(C223-D223-F223-AF212)*((1+AF208)/(1+AF207))^L223,0)","v":0.13923068744616973},{"$f":"+C223-D223-F223-AG206","v":-1.2701786597336238},53.723136915053018,{"$f":"+M223*U222+AB206","v":49.766620357484371},49.738254736626736,{"$f":"+M223*W222+AF206","v":46.57483235436321},49.28543587024825]
[2039,{"$f":"+B191","v":-1.0571428571428587},20.142857142857142,3.7285714285714282,13.585714285714287,3.8857142857142861,6.1300452985096551E-2,3.0800000000000001E-2,20.142857142857142,21.200000000000003,3.1285714285714277,18,1.0295891084449909,{"$f":"+PRODUCT(M206:M224)","v":1.6655531057818016},{"$f":"+'Multiplicatoria inversa'!F224","v":22.327836513530645},{"$f":"+C224-D224-F224-AC206","v":-1.2492981157257361},{"$f":"+IF(L224=AB209,1,VLOOKUP(AB209,'Multiplicatoria inversa'!E207:AK236,L224+4,FALSE))*P224","v":-1.2862637331520677},{"$f":"IF(L224<25-Z205+1,(C224-D224-F224-AF212)*((1+AF208)/(1+AF207))^L224,0)","v":0.13522937092492426},{"$f":"+C224-D224-F224-AG206","v":-1.2701786597336238},54.255613782094755,{"$f":"+M224*U223+AB206","v":49.974374254697125},49.96066723416763,{"$f":"+M224*W223+AF206","v":46.540963230913377},49.473569317238045]
[2040,{"$f":"+B192","v":-1.0571428571428587},20.142857142857142,3.7285714285714282,13.585714285714287,3.8857142857142861,6.1300452985096551E-2,3.0800000000000001E-2,20.142857142857142,21.200000000000003,3.1285714285714277,19,1.0295891084449909,{"$f":"+PRODUCT(M206:M225)","v":1.7148353372496707},{"$f":"+'Multiplicatoria inversa'!F225","v":24.01808639791652},{"$f":"+C225-D225-F225-AC206","v":-1.2492981157257361},{"$f":"+IF(L225=AB209,1,VLOOKUP(AB209,'Multiplicatoria inversa'!E207:AK236,L225+4,FALSE))*P225","v":-1.2492981157257361},{"$f":"IF(L225<25-Z205+1,(C225-D225-F225-AF212)*((1+AF208)/(1+AF207))^L225,0)","v":0},{"$f":"+C225-D225-F225-AG206","v":-1.2701786597336238},54.803846164899838,{"$f":"+M225*U224+AB206","v":50.188275404504381},50.189660719217784,{"$f":"+M225*W224+AF206","v":46.506091950296849},49.667269465192952]
[2041,{"$f":"+B193","v":-1.0571428571428587},20.142857142857142,3.7285714285714282,13.585714285714287,3.8857142857142861,6.1300452985096551E-2,3.0800000000000001E-2,20.142857142857142,21.200000000000003,3.1285714285714277,20,1.0295891084449909,{"$f":"+PRODUCT(M206:M226)","v":1.7655757860088537},{"$f":"+'Multiplicatoria inversa'!F226","v":25.758349269430624},{"$f":"+C226-D226-F226-AC206","v":-1.2492981157257361},{"$f":"+IF(L226=AB209,1,VLOOKUP(AB209,'Multiplicatoria inversa'!E207:AK236,L226+4,FALSE))*P226","v":0},{"$f":"IF(L226<25-Z205+1,(C226-D226-F226-AF212)*((1+AF208)/(1+AF207))^L226,0)","v":0},{"$f":"+C226-D226-F226-AG206","v":-1.2701786597336238},55.368300255132802,{"$f":"+M226*U225+AB206","v":50.408505698629789},50.425429917330277,{"$f":"+M226*W225+AF206","v":46.470188859576545},49.866701027831503]
[2042,{"$f":"+B194","v":-1.0571428571428587},20.142857142857142,3.7285714285714282,13.585714285714287,3.8857142857142861,6.1300452985096551E-2,3.0800000000000001E-2,20.142857142857142,21.200000000000003,3.1285714285714277,21,1.0295891084449909,{"$f":"+PRODUCT(M206:M227)","v":1.8178175994089196},{"$f":"+'Multiplicatoria inversa'!F227","v":27.550104967772747},{"$f":"+C227-D227-F227-AC206","v":-1.2492981157257361},{"$f":"+IF(L227=AB209,1,VLOOKUP(AB209,'Multiplicatoria inversa'!E207:AK236,L227+4,FALSE))*P227","v":0},{"$f":"IF(L227<25-Z205+1,(C227-D227-F227-AF212)*((1+AF208)/(1+AF207))^L227,0)","v":0},{"$f":"+C227-D227-F227-AG206","v":-1.2701786597336238},55.949456038653885,{"$f":"+M227*U226+AB206","v":50.635252410810949},50.668175315813713,{"$f":"+M227*W226+AF206","v":46.433223428411402},50.072033592604321]
[2043,{"$f":"+B195","v":-1.0571428571428587},20.142857142857142,3.7285714285714282,13.585714285714287,3.8857142857142861,6.1300452985096551E-2,3.0800000000000001E-2,20.142857142857142,21.200000000000003,3.1285714285714277,22,1.0295891084449909,{"$f":"+PRODUCT(M206:M228)","v":1.8716052014910431},{"$f":"+'Multiplicatoria inversa'!F228","v":29.394877119780048},{"$f":"+C228-D228-F228-AC206","v":-1.2492981157257361},{"$f":"+IF(L228=AB209,1,VLOOKUP(AB209,'Multiplicatoria inversa'!E207:AK236,L228+4,FALSE))*P228","v":0},{"$f":"IF(L228<25-Z205+1,(C228-D228-F228-AF212)*((1+AF208)/(1+AF207))^L228,0)","v":0},{"$f":"+C228-D228-F228-AG206","v":-1.2701786597336238},56.547807703677009,{"$f":"+M228*U227+AB206","v":50.86870835604838},50.918103334217399,{"$f":"+M228*W227+AF206","v":46.395164223094802},50.283441764903493]
[2044,{"$f":"+B196","v":-1.0571428571428587},20.142857142857142,3.7285714285714282,13.585714285714287,3.8857142857142861,6.1300452985096551E-2,3.0800000000000001E-2,20.142857142857142,21.200000000000003,3.1285714285714277,23,1.0295891084449909,{"$f":"+PRODUCT(M206:M229)","v":1.9269843307641705},{"$f":"+'Multiplicatoria inversa'!F229","v":31.294234435049397},{"$f":"+C229-D229-F229-AC206","v":-1.2492981157257361},{"$f":"+IF(L229=AB209,1,VLOOKUP(AB209,'Multiplicatoria inversa'!E207:AK236,L229+4,FALSE))*P229","v":0},{"$f":"IF(L229<25-Z205+1,(C229-D229-F229-AF212)*((1+AF208)/(1+AF207))^L229,0)","v":0},{"$f":"+C229-D229-F229-AG206","v":-1.2701786597336238},57.163864061004737,{"$f":"+M229*U228+AB206","v":51.109072054566568},51.175426499861075,{"$f":"+M229*W228+AF206","v":46.355978879824761},50.501105316538982]
[2045,{"$f":"+B197","v":-1.0571428571428587},20.142857142857142,3.7285714285714282,13.585714285714287,3.8857142857142861,6.1300452985096551E-2,3.0800000000000001E-2,20.142857142857142,21.200000000000003,3.1285714285714277,24,1.0295891084449909,{"$f":"+PRODUCT(M206:M230)","v":1.9840020790989497},{"$f":"+'Multiplicatoria inversa'!F230","v":33.249792039896029},{"$f":"+C230-D230-F230-AC206","v":-1.2492981157257361},{"$f":"+IF(L230=AB209,1,VLOOKUP(AB209,'Multiplicatoria inversa'!E207:AK236,L230+4,FALSE))*P230","v":0},{"$f":"IF(L230<25-Z205+1,(C230-D230-F230-AF212)*((1+AF208)/(1+AF207))^L230,0)","v":0},{"$f":"+C230-D230-F230-AG206","v":-1.2701786597336238},57.798148976697668,{"$f":"+M230*U229+AB206","v":51.356547900626452},51.440363628558387,{"$f":"+M230*W229+AF206","v":46.315634077183248},50.725209338608337]
[2046,{"$f":"+B198","v":0},0,0,0,0,0,0,0,0,0,25,1,{"$f":"+PRODUCT(M206:M231)","v":1.9840020790989497},{"$f":"+'Multiplicatoria inversa'!F231","v":34.249792039896029},{"$f":"+C231-D231-F231-AC206","v":-13.777869544297165},{"$f":"+IF(L231=AB209,1,VLOOKUP(AB209,'Multiplicatoria inversa'!E207:AK236,L231+4,FALSE))*P231","v":0},{"$f":"IF(L231<25-Z205+1,(C231-D231-F231-AF212)*((1+AF208)/(1+AF207))^L231,0)","v":0},{"$f":"+C231-D231-F231-AG206","v":-13.798750088305052},57.798148976697668,{"$f":"+M231*U230+AB206","v":50.091751871140914},37.662494084261226,{"$f":"+M231*W230+AF206","v":44.903657188392891},36.926459250303282]
[2047,{"$f":"+B199","v":0},0,0,0,0,0,0,0,0,0,26,1,{"$f":"+PRODUCT(M206:M232)","v":1.9840020790989497},{"$f":"+'Multiplicatoria inversa'!F232","v":35.249792039896029},{"$f":"+C232-D232-F232-AC206","v":-13.777869544297165},{"$f":"+IF(L232=AB209,1,VLOOKUP(AB209,'Multiplicatoria inversa'!E207:AK236,L232+4,FALSE))*P232","v":0},{"$f":"IF(L232<25-Z205+1,(C232-D232-F232-AF212)*((1+AF208)/(1+AF207))^L232,0)","v":0},{"$f":"+C232-D232-F232-AG206","v":-13.798750088305052},57.798148976697668,{"$f":"+M232*U231+AB206","v":48.826955841655376},23.884624539964062,{"$f":"+M232*W231+AF206","v":43.491680299602535},23.127709161998229]
[2048,{"$f":"+B200","v":0},0,0,0,0,0,0,0,0,0,27,1,{"$f":"+PRODUCT(M206:M233)","v":1.9840020790989497},{"$f":"+'Multiplicatoria inversa'!F233","v":36.249792039896029},{"$f":"+C233-D233-F233-AC206","v":-13.777869544297165},{"$f":"+IF(L233=AB209,1,VLOOKUP(AB209,'Multiplicatoria inversa'!E207:AK236,L233+4,FALSE))*P233","v":0},{"$f":"IF(L233<25-Z205+1,(C233-D233-F233-AF212)*((1+AF208)/(1+AF207))^L233,0)","v":0},{"$f":"+C233-D233-F233-AG206","v":-13.798750088305052},57.798148976697668,{"$f":"+M233*U232+AB206","v":47.562159812169838},10.106754995666897,{"$f":"+M233*W232+AF206","v":42.079703410812179},9.3289590736931771]
[2049,{"$f":"+B201","v":0},0,0,0,0,0,0,0,0,0,28,1,{"$f":"+PRODUCT(M206:M234)","v":1.9840020790989497},{"$f":"+'Multiplicatoria inversa'!F234","v":37.249792039896029},{"$f":"+C234-D234-F234-AC206","v":-13.777869544297165},{"$f":"+IF(L234=AB209,1,VLOOKUP(AB209,'Multiplicatoria inversa'!E207:AK236,L234+4,FALSE))*P234","v":0},{"$f":"IF(L234<25-Z205+1,(C234-D234-F234-AF212)*((1+AF208)/(1+AF207))^L234,0)","v":0},{"$f":"+C234-D234-F234-AG206","v":-13.798750088305052},57.798148976697668,{"$f":"+M234*U233+AB206","v":46.2973637826843},-3.6711145486302676,{"$f":"+M234*W233+AF206","v":40.667726522021823},-4.4697910146118751]
[2050,{"$f":"+B202","v":0},0,0,0,0,0,0,0,0,0,29,1,{"$f":"+PRODUCT(M206:M235)","v":1.9840020790989497},{"$f":"+'Multiplicatoria inversa'!F235","v":38.249792039896029},{"$f":"+C235-D235-F235-AC206","v":-13.777869544297165},{"$f":"+IF(L235=AB209,1,VLOOKUP(AB209,'Multiplicatoria inversa'!E207:AK236,L235+4,FALSE))*P235","v":0},{"$f":"IF(L235<25-Z205+1,(C235-D235-F235-AF212)*((1+AF208)/(1+AF207))^L235,0)","v":0},{"$f":"+C235-D235-F235-AG206","v":-13.798750088305052},57.798148976697668,{"$f":"+M235*U234+AB206","v":45.032567753198762},-17.448984092927432,{"$f":"+M235*W234+AF206","v":39.255749633231467},-18.268541102916927]
[2051,{"$f":"+B203","v":0},0,0,0,0,0,0,0,0,0,30,1,{"$f":"+PRODUCT(M206:M236)","v":1.9840020790989497},{"$f":"+'Multiplicatoria inversa'!F236","v":39.249792039896029},{"$f":"+C236-D236-F236-AC206","v":-13.777869544297165},null,{"$f":"IF(L236<25-Z205+1,(C236-D236-F236-AF212)*((1+AF208)/(1+AF207))^L236,0)","v":0},{"$f":"+C236-D236-F236-AG206","v":-13.798750088305052},57.798148976697668,{"$f":"+M236*U235+AB206","v":43.767771723713224},-31.226853637224597,{"$f":"+M236*W235+AF206","v":37.843772744441111},-32.067291191221983]
[]
[]
[" Fecha(Anual) ","dp_t","g_t","ip_t","tau_t","i_otros_t ","r_t","c_y_t","Gasto__neto","I_presupuestarios","Costo_finan","t","1+r_t / 1+c_y_t","Multiplicatoria simple","Multiplicatoria inversa","gt - ipt - iotros  - tau_s","(gt - ipt - iotros + tau_s)","(gt - ipt - iotros - omega)(1+r/1+c_y)^t","gt - ipt - iotros  - tau_s (inf)","b_t","b_t_star dc (finito)","b_t_star tau  (finito)","b_t_star dc (infinito)","b_t_star tau  (infinito)",null,8,"H Finito","pd_s","tau_s",null,"H infinito","pd_s","tau_s"]
[{"$f":"+A207","v":2022},null,null,null,null,null,null,null,null,null,null,0,{"$f":"(1+G240)/(1+H240)","v":1},null,null,null,null,null,null,{"$f":"+T207","v":47.01358221754726},{"$f":"+T240","v":47.01358221754726},{"$f":"+T240","v":47.01358221754726},{"$f":"+T240","v":47.01358221754726},{"$f":"+T240","v":47.01358221754726},null,null,null,{"$f":"+AN10","v":-1.2550047198392005},{"$f":"+AO10","v":13.783482507341619},null,null,{"$f":"+(AF241-AF242)/(1+AF242)*(-AB241)","v":-1.3910899826224985},{"$f":"+AF249","v":13.780430723747758}]
[{"$f":"+A240+1","v":2023},{"$f":"+B208","v":-1.0571428571428587},{"$f":"+C208","v":20.142857142857142},3.7285714285714282,13.585714285714287,3.8857142857142861,6.1300452985096551E-2,3.0800000000000001E-2,20.142857142857142,21.200000000000003,3.1285714285714277,1,{"$f":"(1+G241)/(1+H241)","v":1.0295891084449909},{"$f":"+PRODUCT(M240:M241)","v":1.0295891084449909},{"$f":"+'Multiplicatoria inversa'!F241","v":0},{"$f":"+C241-D241-F241-AC240","v":-1.2549110787701903},{"$f":"+IF(L241=AB243,1,VLOOKUP(AB243,'Multiplicatoria inversa'!E241:AK270,L241+4,FALSE))*P241","v":-2.0601551516113341},{"$f":"IF(L241<25-Z239+1,(C241-D241-F241-AF246)*((1+AF242)/(1+AF241))^L241,0)","v":0.22200257043962304},{"$f":"+C241-D241-F241-AG240","v":-1.2518592951763292},{"$f":"+M241*T240+B241","v":47.347529343026899},{"$f":"+M241*U240+AB240","v":47.149667480330557},{"$f":"+M241*V240+P241","v":47.149761121399564},{"$f":"+M241*W240+AF240","v":47.01358221754726},{"$f":"+M241*X240+S241","v":47.152812904993425},null,null,"b_0",{"$f":"+U240","v":47.01358221754726},{"$f":"+AB241","v":47.01358221754726},null,"r",{"$f":"+AF207","v":6.1300452985096551E-2}]
[{"$f":"+A241+1","v":2024},{"$f":"+B209","v":-1.0571428571428587},20.142857142857142,3.7285714285714282,13.585714285714287,3.8857142857142861,6.1300452985096551E-2,3.0800000000000001E-2,20.142857142857142,21.200000000000003,3.1285714285714277,{"$f":"+L241+1","v":2},{"$f":"(1+G242)/(1+H242)","v":1.0295891084449909},{"$f":"+PRODUCT(M240:M242)","v":1.060053732228551},{"$f":"+'Multiplicatoria inversa'!F242","v":1.0295891084449909},{"$f":"+C242-D242-F242-AC240","v":-1.2549110787701903},{"$f":"+IF(L242=AB243,1,VLOOKUP(AB243,'Multiplicatoria inversa'!E241:AK270,L242+4,FALSE))*P242","v":-2.0009488588344024},{"$f":"IF(L242<25-Z239+1,(C242-D242-F242-AF246)*((1+AF242)/(1+AF241))^L242,0)","v":0.21562249310787485},{"$f":"+C242-D242-F242-AG240","v":-1.2518592951763292},47.69135766621725,{"$f":"+M242*U241+AB240","v":47.289779384712119},47.289969437605876,{"$f":"+M242*W241+AF240","v":47.01358221754726},47.296163304349307,null,null,"b_T",{"$f":"+AB208","v":50.19},{"$f":"+AC208","v":50.19},null,"c_y",{"$f":"+AF208","v":3.0800000000000001E-2}]
[2025,{"$f":"+B210","v":-1.0571428571428587},20.142857142857142,3.7285714285714282,13.585714285714287,3.8857142857142861,6.1300452985096551E-2,3.0800000000000001E-2,20.142857142857142,21.200000000000003,3.1285714285714277,{"$f":"+L242+1","v":3},1.0295891084449909,{"$f":"+PRODUCT(M240:M243)","v":1.0914197770689789},{"$f":"+'Multiplicatoria inversa'!F243","v":2.0896428406735419},{"$f":"+C243-D243-F243-AC240","v":-1.2549110787701903},{"$f":"+IF(L243=AB243,1,VLOOKUP(AB243,'Multiplicatoria inversa'!E241:AK270,L243+4,FALSE))*P243","v":-1.9434440811601783},{"$f":"IF(L243<25-Z239+1,(C243-D243-F243-AF246)*((1+AF242)/(1+AF241))^L243,0)","v":0.20942577125114875},{"$f":"+C243-D243-F243-AG240","v":-1.2518592951763292},48.045359562948939,{"$f":"+M243*U242+AB240","v":47.434037075426858},47.43432639288531,{"$f":"+M243*W242+AF240","v":47.01358221754726},47.443755314217363,null,null,"T",{"$f":"+AB209-1","v":18},{"$f":"+AB243","v":18},null,"g ",{"$f":"+AF209","v":20.100000000000001}]
[2026,{"$f":"+B211","v":-1.0571428571428587},20.142857142857142,3.7285714285714282,13.585714285714287,3.8857142857142861,6.1300452985096551E-2,3.0800000000000001E-2,20.142857142857142,21.200000000000003,3.1285714285714277,4,1.0295891084449909,{"$f":"+PRODUCT(M240:M244)","v":1.1237139152116806},{"$f":"+'Multiplicatoria inversa'!F244","v":3.1810626177425205},{"$f":"+C244-D244-F244-AC240","v":-1.2549110787701903},{"$f":"+IF(L244=AB243,1,VLOOKUP(AB243,'Multiplicatoria inversa'!E241:AK270,L244+4,FALSE))*P244","v":-1.8875919191641422},{"$f":"IF(L244<25-Z239+1,(C244-D244-F244-AF246)*((1+AF242)/(1+AF241))^L244,0)","v":0.20340713546149369},{"$f":"+C244-D244-F244-AG240","v":-1.2518592951763292},48.40983606019276,{"$f":"+M244*U243+AB240","v":47.582563222596178},47.582954741769292,{"$f":"+M244*W243+AF240","v":47.01358221754726},47.595714440071021,null,null,"Pi_t b_0",{"$f":"+VLOOKUP(AB243,L241:N270,3,FALSE)*AB241","v":79.464701907775122},{"$f":"+AB244","v":79.464701907775122},null,"ip",{"$f":"+AF210","v":3.9}]
[2027,{"$f":"+B212","v":-1.0571428571428587},20.142857142857142,3.7285714285714282,13.585714285714287,3.8857142857142861,6.1300452985096551E-2,3.0800000000000001E-2,20.142857142857142,21.200000000000003,3.1285714285714277,5,1.0295891084449909,{"$f":"+PRODUCT(M240:M245)","v":1.1569636081100243},{"$f":"+'Multiplicatoria inversa'!F245","v":4.3047765329542012},{"$f":"+C245-D245-F245-AC240","v":-1.2549110787701903},{"$f":"+IF(L245=AB243,1,VLOOKUP(AB243,'Multiplicatoria inversa'!E241:AK270,L245+4,FALSE))*P245","v":-1.8333448787303219},{"$f":"IF(L245<25-Z239+1,(C245-D245-F245-AF246)*((1+AF242)/(1+AF241))^L245,0)","v":0.19756146776717906},{"$f":"+C245-D245-F245-AG240","v":-1.2518592951763292},48.785097092039173,{"$f":"+M245*U244+AB240","v":47.735484126041008},47.735980870986403,{"$f":"+M245*W244+AF240","v":47.01358221754726},47.752169900978771,null,null,"sum dpt",{"$f":"+VLOOKUP(AB243,L241:O270,4,FALSE)","v":22.327836513530645},{"$f":"+SUM(Q241:Q269)","v":-29.274360484569371},null,"iotros",3.9000000000000021]
[2028,{"$f":"+B213","v":-1.0571428571428587},20.142857142857142,3.7285714285714282,13.585714285714287,3.8857142857142861,6.1300452985096551E-2,3.0800000000000001E-2,20.142857142857142,21.200000000000003,3.1285714285714277,6,1.0295891084449909,{"$f":"+PRODUCT(M240:M246)","v":1.1911971297772996},{"$f":"+'Multiplicatoria inversa'!F246","v":5.4617401410642259},{"$f":"+C246-D246-F246-AC240","v":-1.2549110787701903},{"$f":"+IF(L246=AB243,1,VLOOKUP(AB243,'Multiplicatoria inversa'!E241:AK270,L246+4,FALSE))*P246","v":-1.780656830664477},{"$f":"IF(L246<25-Z239+1,(C246-D246-F246-AF246)*((1+AF242)/(1+AF241))^L246,0)","v":0.19188379728060656},{"$f":"+C246-D246-F246-AG240","v":-1.2518592951763292},49.171461763252069,{"$f":"+M246*U245+AB240","v":47.892929822681374},47.893534906935834,{"$f":"+M246*W245+AF240","v":47.01358221754726},47.913254739486128,null,null,"f",{"$f":"+AB244+AB240*(AB245+1)","v":50.188156979656924},{"$f":"+AC244+AC245","v":50.190341423205751},null,"omega",12.3]
[2029,{"$f":"+B214","v":-1.0571428571428587},20.142857142857142,3.7285714285714282,13.585714285714287,3.8857142857142861,6.1300452985096551E-2,3.0800000000000001E-2,20.142857142857142,21.200000000000003,3.1285714285714277,7,1.0295891084449909,{"$f":"+PRODUCT(M240:M247)","v":1.226443590829642},{"$f":"+'Multiplicatoria inversa'!F247","v":6.6529372708415249},{"$f":"+C247-D247-F247-AC240","v":-1.2549110787701903},{"$f":"+IF(L247=AB243,1,VLOOKUP(AB243,'Multiplicatoria inversa'!E241:AK270,L247+4,FALSE))*P247","v":-1.7294829714679467},{"$f":"IF(L247<25-Z239+1,(C247-D247-F247-AF246)*((1+AF242)/(1+AF241))^L247,0)","v":0.18636929597129531},{"$f":"+C247-D247-F247-AG240","v":-1.2518592951763292},49.569258620620801,{"$f":"+M247*U246+AB240","v":48.055034197113834},48.055750826340919,{"$f":"+M247*W246+AF240","v":47.01358221754726},48.079105934748924,null,null,"dif",{"$f":"+AB242-AB246","v":1.8430203430739311E-3},{"$f":"+AC242-AC246","v":-3.4142320575369922E-4},null,"25 se vuelve constante"]
[2030,{"$f":"+B215","v":-1.0571428571428587},20.142857142857142,3.7285714285714282,13.585714285714287,3.8857142857142861,6.1300452985096551E-2,3.0800000000000001E-2,20.142857142857142,21.200000000000003,3.1285714285714277,8,1.0295891084449909,{"$f":"+PRODUCT(M240:M248)","v":1.2627329632403643},{"$f":"+'Multiplicatoria inversa'!F248","v":7.8793808616711676},{"$f":"+C248-D248-F248-AC240","v":-1.2549110787701903},{"$f":"+IF(L248=AB243,1,VLOOKUP(AB243,'Multiplicatoria inversa'!E241:AK270,L248+4,FALSE))*P248","v":-1.6797797852388119},{"$f":"IF(L248<25-Z239+1,(C248-D248-F248-AF246)*((1+AF242)/(1+AF241))^L248,0)","v":0.18101327456034635},{"$f":"+C248-D248-F248-AG240","v":-1.2518592951763292},49.978825932341287,{"$f":"+M248*U247+AB240","v":48.221935095460779},48.222766570176788,{"$f":"+M248*W247+AF240","v":47.01358221754726},48.249864519014082,null,null,"Validar",{"$f":"+VLOOKUP(AB243,L241:U270,10,FALSE)","v":50.188156979656938},{"$f":"+VLOOKUP(AC243,L241:V270,11,FALSE)","v":50.190341423205673},null,"sum 1 a 24",{"$f":"+SUM(R241:R264)","v":3.0193792858393023}]
[2031,{"$f":"+B216","v":-1.0571428571428587},20.142857142857142,3.7285714285714282,13.585714285714287,3.8857142857142861,6.1300452985096551E-2,3.0800000000000001E-2,20.142857142857142,21.200000000000003,3.1285714285714277,9,1.0295891084449909,{"$f":"+PRODUCT(M240:M249)","v":1.3000961058267482},{"$f":"+'Multiplicatoria inversa'!F249","v":9.142113824911533},{"$f":"+C249-D249-F249-AC240","v":-1.2549110787701903},{"$f":"+IF(L249=AB243,1,VLOOKUP(AB243,'Multiplicatoria inversa'!E241:AK270,L249+4,FALSE))*P249","v":-1.6315050066679679},{"$f":"IF(L249<25-Z239+1,(C249-D249-F249-AF246)*((1+AF242)/(1+AF241))^L249,0)","v":0.17581117853289488},{"$f":"+C249-D249-F249-AG240","v":-1.2518592951763292},50.400511975663797,{"$f":"+M249*U248+AB240","v":48.39377444258848},48.394724160969034,{"$f":"+M249*W248+AF240","v":47.01358221754726},48.425675697546978,null,null,null,{"$f":"+IFERROR(ABS(AB248/AB242)-1,0)","v":-3.6720867564454807E-5},{"$f":"+IFERROR(ABS(AC248/AC242)-1,0)","v":6.8026141797350448E-6},null,"f",{"$f":"+(AF248+AB241)*(AF241-AF242)/(1+AF242)+AF246","v":13.780430723747758}]
[2032,{"$f":"+B217","v":-1.0571428571428587},20.142857142857142,3.7285714285714282,13.585714285714287,3.8857142857142861,6.1300452985096551E-2,3.0800000000000001E-2,20.142857142857142,21.200000000000003,3.1285714285714277,10,1.0295891084449909,{"$f":"+PRODUCT(M240:M250)","v":1.3385647904909661},{"$f":"+'Multiplicatoria inversa'!F250","v":10.442209930738281},{"$f":"+C250-D250-F250-AC240","v":-1.2549110787701903},{"$f":"+IF(L250=AB243,1,VLOOKUP(AB243,'Multiplicatoria inversa'!E241:AK270,L250+4,FALSE))*P250","v":-1.5846175850986446},{"$f":"IF(L250<25-Z239+1,(C250-D250-F250-AF246)*((1+AF242)/(1+AF241))^L250,0)","v":0.17075858426515994},{"$f":"+C250-D250-F250-AG240","v":-1.2518592951763292},50.834675333051919,{"$f":"+M250*U249+AB240","v":48.570698362793458},48.571769823563173,{"$f":"+M250*W249+AF240","v":47.01358221754726},48.606688972107321]
[2033,{"$f":"+B218","v":-1.0571428571428587},20.142857142857142,3.7285714285714282,13.585714285714287,3.8857142857142861,6.1300452985096551E-2,3.0800000000000001E-2,20.142857142857142,21.200000000000003,3.1285714285714277,11,1.0295891084449909,{"$f":"+PRODUCT(M240:M251)","v":1.3781717292374498},{"$f":"+'Multiplicatoria inversa'!F251","v":11.780774721229246},{"$f":"+C251-D251-F251-AC240","v":-1.2549110787701903},{"$f":"+IF(L251=AB243,1,VLOOKUP(AB243,'Multiplicatoria inversa'!E241:AK270,L251+4,FALSE))*P251","v":-1.5390776496188119},{"$f":"IF(L251<25-Z239+1,(C251-D251-F251-AF246)*((1+AF242)/(1+AF241))^L251,0)","v":0.16585119526279768},{"$f":"+C251-D251-F251-AG240","v":-1.2518592951763292},51.281685197104636,{"$f":"+M251*U250+AB240","v":48.752857304059894},48.754054109467525,{"$f":"+M251*W250+AF240","v":47.01358221754726},48.793058268078617,null,null,"g",{"$f":"IFERROR(ABS(AB247)+ABS(AC247),0)","v":2.1844435488276304E-3}]
[2034,{"$f":"+B219","v":-1.0571428571428587},20.142857142857142,3.7285714285714282,13.585714285714287,3.8857142857142861,6.1300452985096551E-2,3.0800000000000001E-2,20.142857142857142,21.200000000000003,3.1285714285714277,12,1.0295891084449909,{"$f":"+PRODUCT(M240:M252)","v":1.4189506019896774},{"$f":"+'Multiplicatoria inversa'!F252","v":13.158946450466697},{"$f":"+C252-D252-F252-AC240","v":-1.2549110787701903},{"$f":"+IF(L252=AB243,1,VLOOKUP(AB243,'Multiplicatoria inversa'!E241:AK270,L252+4,FALSE))*P252","v":-1.4948464751567854},{"$f":"IF(L252<25-Z239+1,(C252-D252-F252-AF246)*((1+AF242)/(1+AF241))^L252,0)","v":0.16108483850735961},{"$f":"+C252-D252-F252-AG240","v":-1.2518592951763292},51.741921684500788,{"$f":"+M252*U251+AB240","v":48.940406165993686},48.941732024875321,{"$f":"+M252*W251+AF240","v":47.01358221754726},48.98494206535922,null,null,null,"Pronosticada"]
[2035,{"$f":"+B220","v":-1.0571428571428587},20.142857142857142,3.7285714285714282,13.585714285714287,3.8857142857142861,6.1300452985096551E-2,3.0800000000000001E-2,20.142857142857142,21.200000000000003,3.1285714285714277,13,1.0295891084449909,{"$f":"+PRODUCT(M240:M253)","v":1.460936085230035},{"$f":"+'Multiplicatoria inversa'!F253","v":14.577897052456374},{"$f":"+C253-D253-F253-AC240","v":-1.2549110787701903},{"$f":"+IF(L253=AB243,1,VLOOKUP(AB243,'Multiplicatoria inversa'!E241:AK270,L253+4,FALSE))*P253","v":-1.4518864495512023},{"$f":"IF(L253<25-Z239+1,(C253-D253-F253-AF246)*((1+AF242)/(1+AF241))^L253,0)","v":0.15645546090774917},{"$f":"+C253-D253-F253-AG240","v":-1.2518592951763292},52.215776159232846,{"$f":"+M253*U252+AB240","v":49.133504431541972},49.134963162474847,{"$f":"+M253*W252+AF240","v":47.01358221754726},49.1825035331264,null,null,"b_t_star dc (finito)","Ajuste al déficit primario"]
[2036,{"$f":"+B221","v":-1.0571428571428587},20.142857142857142,3.7285714285714282,13.585714285714287,3.8857142857142861,6.1300452985096551E-2,3.0800000000000001E-2,20.142857142857142,21.200000000000003,3.1285714285714277,14,1.0295891084449909,{"$f":"+PRODUCT(M240:M254)","v":1.504163881487107},{"$f":"+'Multiplicatoria inversa'!F254","v":16.038833137686407},{"$f":"+C254-D254-F254-AC240","v":-1.2549110787701903},{"$f":"+IF(L254=AB243,1,VLOOKUP(AB243,'Multiplicatoria inversa'!E241:AK270,L254+4,FALSE))*P254","v":-1.4101610415673642},{"$f":"IF(L254<25-Z239+1,(C254-D254-F254-AF246)*((1+AF242)/(1+AF241))^L254,0)","v":0.15195912585365925},{"$f":"+C254-D254-F254-AG240","v":-1.2518592951763292},52.703651565404897,{"$f":"+M254*U253+AB240","v":49.33231630261011},49.333911837159754,{"$f":"+M254*W253+AF240","v":47.01358221754726},49.38591066858789,null,null,"b_t_star tau  (finito)","Ajuste al ingreso tributario"]
[2037,{"$f":"+B222","v":-1.0571428571428587},20.142857142857142,3.7285714285714282,13.585714285714287,3.8857142857142861,6.1300452985096551E-2,3.0800000000000001E-2,20.142857142857142,21.200000000000003,3.1285714285714277,15,1.0295891084449909,{"$f":"+PRODUCT(M240:M255)","v":1.5486707496954675},{"$f":"+'Multiplicatoria inversa'!F255","v":17.542997019173512},{"$f":"+C255-D255-F255-AC240","v":-1.2549110787701903},{"$f":"+IF(L255=AB243,1,VLOOKUP(AB243,'Multiplicatoria inversa'!E241:AK270,L255+4,FALSE))*P255","v":-1.3696347698327529},{"$f":"IF(L255<25-Z239+1,(C255-D255-F255-AF246)*((1+AF242)/(1+AF241))^L255,0)","v":0.14759200986805909},{"$f":"+C255-D255-F255-AG240","v":-1.2518592951763292},53.205962769877814,{"$f":"+M255*U254+AB240","v":49.537010839691433},49.538747225754896,{"$f":"+M255*W254+AF240","v":47.01358221754726},49.595336439839038,null,null,"b_t_star dc (infinito)","Ajuste al déficit primario"]
[2038,{"$f":"+B223","v":-1.0571428571428587},20.142857142857142,3.7285714285714282,13.585714285714287,3.8857142857142861,6.1300452985096551E-2,3.0800000000000001E-2,20.142857142857142,21.200000000000003,3.1285714285714277,16,1.0295891084449909,{"$f":"+PRODUCT(M240:M256)","v":1.5944945364537919},{"$f":"+'Multiplicatoria inversa'!F256","v":19.09166776886898},{"$f":"+C256-D256-F256-AC240","v":-1.2549110787701903},{"$f":"+IF(L256=AB243,1,VLOOKUP(AB243,'Multiplicatoria inversa'!E241:AK270,L256+4,FALSE))*P256","v":-1.3302731726652974},{"$f":"IF(L256<25-Z239+1,(C256-D256-F256-AF246)*((1+AF242)/(1+AF241))^L256,0)","v":0.14335039935588509},{"$f":"+C256-D256-F256-AG240","v":-1.2518592951763292},53.723136915053018,{"$f":"+M256*U255+AB240","v":49.747762105628553},49.749643510876552,{"$f":"+M256*W255+AF240","v":47.01358221754726},49.81095893294691,null,null,"b_t_star tau  (infinito)","Ajuste al ingreso tributario"]
[2039,{"$f":"+B224","v":-1.0571428571428587},20.142857142857142,3.7285714285714282,13.585714285714287,3.8857142857142861,6.1300452985096551E-2,3.0800000000000001E-2,20.142857142857142,21.200000000000003,3.1285714285714277,17,1.0295891084449909,{"$f":"+PRODUCT(M240:M257)","v":1.6416742082078686},{"$f":"+'Multiplicatoria inversa'!F257","v":20.686162305322775},{"$f":"+C257-D257-F257-AC240","v":-1.2549110787701903},{"$f":"+IF(L257=AB243,1,VLOOKUP(AB243,'Multiplicatoria inversa'!E241:AK270,L257+4,FALSE))*P257","v":-1.2920427787687419},{"$f":"IF(L257<25-Z239+1,(C257-D257-F257-AF246)*((1+AF242)/(1+AF241))^L257,0)","v":0.13923068744616973},{"$f":"+C257-D257-F257-AG240","v":-1.2518592951763292},54.255613782094755,{"$f":"+M257*U256+AB240","v":49.964749313628403},49.966780029049325,{"$f":"+M257*W256+AF240","v":47.01358221754726},50.032961503386531]
[2040,{"$f":"+B225","v":-1.0571428571428587},20.142857142857142,3.7285714285714282,13.585714285714287,3.8857142857142861,6.1300452985096551E-2,3.0800000000000001E-2,20.142857142857142,21.200000000000003,3.1285714285714277,18,1.0295891084449909,{"$f":"+PRODUCT(M240:M258)","v":1.6902498843858758},{"$f":"+'Multiplicatoria inversa'!F258","v":22.327836513530645},{"$f":"+C258-D258-F258-AC240","v":-1.2549110787701903},{"$f":"+IF(L258=AB243,1,VLOOKUP(AB243,'Multiplicatoria inversa'!E241:AK270,L258+4,FALSE))*P258","v":-1.2549110787701903},{"$f":"IF(L258<25-Z239+1,(C258-D258-F258-AF246)*((1+AF242)/(1+AF241))^L258,0)","v":0},{"$f":"+C258-D258-F258-AG240","v":-1.2518592951763292},54.803846164899838,{"$f":"+M258*U257+AB240","v":50.188156979656938},50.190341423205673,{"$f":"+M258*W257+AF240","v":47.01358221754726},50.261532931957959]
[2041,{"$f":"+B226","v":-1.0571428571428587},20.142857142857142,3.7285714285714282,13.585714285714287,3.8857142857142861,6.1300452985096551E-2,3.0800000000000001E-2,20.142857142857142,21.200000000000003,3.1285714285714277,19,1.0295891084449909,{"$f":"+PRODUCT(M240:M259)","v":1.7402628715141026},{"$f":"+'Multiplicatoria inversa'!F259","v":24.01808639791652},{"$f":"+C259-D259-F259-AC240","v":-1.2549110787701903},{"$f":"+IF(L259=AB243,1,VLOOKUP(AB243,'Multiplicatoria inversa'!E241:AK270,L259+4,FALSE))*P259","v":0},{"$f":"IF(L259<25-Z239+1,(C259-D259-F259-AF246)*((1+AF242)/(1+AF241))^L259,0)","v":0},{"$f":"+C259-D259-F259-AG240","v":-1.2518592951763292},55.368300255132802,{"$f":"+M259*U258+AB240","v":50.41817507934303},50.420517799697834,{"$f":"+M259*W258+AF240","v":47.01358221754726},50.496867585316814]
[2042,{"$f":"+B227","v":-1.0571428571428587},20.142857142857142,3.7285714285714282,13.585714285714287,3.8857142857142861,6.1300452985096551E-2,3.0800000000000001E-2,20.142857142857142,21.200000000000003,3.1285714285714277,20,1.0295891084449909,{"$f":"+PRODUCT(M240:M260)","v":1.7917556983421246},{"$f":"+'Multiplicatoria inversa'!F260","v":25.758349269430624},{"$f":"+C260-D260-F260-AC240","v":-1.2549110787701903},{"$f":"+IF(L260=AB243,1,VLOOKUP(AB243,'Multiplicatoria inversa'!E241:AK270,L260+4,FALSE))*P260","v":0},{"$f":"IF(L260<25-Z239+1,(C260-D260-F260-AF246)*((1+AF242)/(1+AF241))^L260,0)","v":0},{"$f":"+C260-D260-F260-AG240","v":-1.2518592951763292},55.949456038653885,{"$f":"+M260*U259+AB240","v":50.654999209525045},50.65750488995549,{"$f":"+M260*W259+AF240","v":47.01358221754726},50.739165581254767]
[2043,{"$f":"+B228","v":-1.0571428571428587},20.142857142857142,3.7285714285714282,13.585714285714287,3.8857142857142861,6.1300452985096551E-2,3.0800000000000001E-2,20.142857142857142,21.200000000000003,3.1285714285714277,21,1.0295891084449909,{"$f":"+PRODUCT(M240:M261)","v":1.8447721520072999},{"$f":"+'Multiplicatoria inversa'!F261","v":27.550104967772747},{"$f":"+C261-D261-F261-AC240","v":-1.2549110787701903},{"$f":"+IF(L261=AB243,1,VLOOKUP(AB243,'Multiplicatoria inversa'!E241:AK270,L261+4,FALSE))*P261","v":0},{"$f":"IF(L261<25-Z239+1,(C261-D261-F261-AF246)*((1+AF242)/(1+AF241))^L261,0)","v":0},{"$f":"+C261-D261-F261-AG240","v":-1.2518592951763292},56.547807703677009,{"$f":"+M261*U260+AB240","v":50.898830754577411},50.901504216926845,{"$f":"+M261*W260+AF240","v":47.01358221754726},50.988632958870532]
[2044,{"$f":"+B229","v":-1.0571428571428587},20.142857142857142,3.7285714285714282,13.585714285714287,3.8857142857142861,6.1300452985096551E-2,3.0800000000000001E-2,20.142857142857142,21.200000000000003,3.1285714285714277,22,1.0295891084449909,{"$f":"+PRODUCT(M240:M262)","v":1.899357315269343},{"$f":"+'Multiplicatoria inversa'!F262","v":29.394877119780048},{"$f":"+C262-D262-F262-AC240","v":-1.2549110787701903},{"$f":"+IF(L262=AB243,1,VLOOKUP(AB243,'Multiplicatoria inversa'!E241:AK270,L262+4,FALSE))*P262","v":0},{"$f":"IF(L262<25-Z239+1,(C262-D262-F262-AF246)*((1+AF242)/(1+AF241))^L262,0)","v":0},{"$f":"+C262-D262-F262-AG240","v":-1.2518592951763292},57.163864061004737,{"$f":"+M262*U261+AB240","v":51.149877057658635},51.152723266444461,{"$f":"+M262*W261+AF240","v":47.01358221754726},51.245481853776056]
[2045,{"$f":"+B230","v":-1.0571428571428587},20.142857142857142,3.7285714285714282,13.585714285714287,3.8857142857142861,6.1300452985096551E-2,3.0800000000000001E-2,20.142857142857142,21.200000000000003,3.1285714285714277,23,1.0295891084449909,{"$f":"+PRODUCT(M240:M263)","v":1.9555576048466343},{"$f":"+'Multiplicatoria inversa'!F263","v":31.294234435049397},{"$f":"+C263-D263-F263-AC240","v":-1.2549110787701903},{"$f":"+IF(L263=AB243,1,VLOOKUP(AB243,'Multiplicatoria inversa'!E241:AK270,L263+4,FALSE))*P263","v":0},{"$f":"IF(L263<25-Z239+1,(C263-D263-F263-AF246)*((1+AF242)/(1+AF241))^L263,0)","v":0},{"$f":"+C263-D263-F263-AG240","v":-1.2518592951763292},57.798148976697668,{"$f":"+M263*U262+AB240","v":51.408351597026446},51.411375663661701,{"$f":"+M263*W262+AF240","v":47.01358221754726},51.509930678486917]
[2046,{"$f":"+B231","v":0},0,0,0,0,0,0,0,0,0,24,1,{"$f":"+PRODUCT(M240:M264)","v":1.9555576048466343},{"$f":"+'Multiplicatoria inversa'!F264","v":32.294234435049397},{"$f":"+C264-D264-F264-AC240","v":-13.783482507341619},{"$f":"+IF(L264=AB243,1,VLOOKUP(AB243,'Multiplicatoria inversa'!E241:AK270,L264+4,FALSE))*P264","v":0},{"$f":"IF(L264<25-Z239+1,(C264-D264-F264-AF246)*((1+AF242)/(1+AF241))^L264,0)","v":0},{"$f":"+C264-D264-F264-AG240","v":-13.780430723747758},57.798148976697668,{"$f":"+M264*U263+AB240","v":50.153346877187246},37.627893156320084,{"$f":"+M264*W263+AF240","v":45.622492234924763},37.729499954739161]
[2047,{"$f":"+B232","v":0},0,0,0,0,0,0,0,0,0,25,1,{"$f":"+PRODUCT(M240:M265)","v":1.9555576048466343},{"$f":"+'Multiplicatoria inversa'!F265","v":33.294234435049397},{"$f":"+C265-D265-F265-AC240","v":-13.783482507341619},{"$f":"+IF(L265=AB243,1,VLOOKUP(AB243,'Multiplicatoria inversa'!E241:AK270,L265+4,FALSE))*P265","v":0},{"$f":"IF(L265<25-Z239+1,(C265-D265-F265-AF246)*((1+AF242)/(1+AF241))^L265,0)","v":0},{"$f":"+C265-D265-F265-AG240","v":-13.780430723747758},57.798148976697668,{"$f":"+M265*U264+AB240","v":48.898342157348047},23.844410648978467,{"$f":"+M265*W264+AF240","v":44.231402252302267},23.949069230991405]
[2048,{"$f":"+B233","v":0},0,0,0,0,0,0,0,0,0,26,1,{"$f":"+PRODUCT(M240:M266)","v":1.9555576048466343},{"$f":"+'Multiplicatoria inversa'!F266","v":34.294234435049397},{"$f":"+C266-D266-F266-AC240","v":-13.783482507341619},{"$f":"+IF(L266=AB243,1,VLOOKUP(AB243,'Multiplicatoria inversa'!E241:AK270,L266+4,FALSE))*P266","v":0},{"$f":"IF(L266<25-Z239+1,(C266-D266-F266-AF246)*((1+AF242)/(1+AF241))^L266,0)","v":0},{"$f":"+C266-D266-F266-AG240","v":-13.780430723747758},57.798148976697668,{"$f":"+M266*U265+AB240","v":47.643337437508848},10.060928141636849,{"$f":"+M266*W265+AF240","v":42.840312269679771},10.168638507243648]
[2049,{"$f":"+B234","v":0},0,0,0,0,0,0,0,0,0,27,1,{"$f":"+PRODUCT(M240:M267)","v":1.9555576048466343},{"$f":"+'Multiplicatoria inversa'!F267","v":35.294234435049397},{"$f":"+C267-D267-F267-AC240","v":-13.783482507341619},{"$f":"+IF(L267=AB243,1,VLOOKUP(AB243,'Multiplicatoria inversa'!E241:AK270,L267+4,FALSE))*P267","v":0},{"$f":"IF(L267<25-Z239+1,(C267-D267-F267-AF246)*((1+AF242)/(1+AF241))^L267,0)","v":0},{"$f":"+C267-D267-F267-AG240","v":-13.780430723747758},57.798148976697668,{"$f":"+M267*U266+AB240","v":46.388332717669648},-3.7225543657047702,{"$f":"+M267*W266+AF240","v":41.449222287057275},-3.6117922165041101]
[2050,{"$f":"+B235","v":0},0,0,0,0,0,0,0,0,0,28,1,{"$f":"+PRODUCT(M240:M268)","v":1.9555576048466343},{"$f":"+'Multiplicatoria inversa'!F268","v":36.294234435049397},{"$f":"+C268-D268-F268-AC240","v":-13.783482507341619},{"$f":"+IF(L268=AB243,1,VLOOKUP(AB243,'Multiplicatoria inversa'!E241:AK270,L268+4,FALSE))*P268","v":0},{"$f":"IF(L268<25-Z239+1,(C268-D268-F268-AF246)*((1+AF242)/(1+AF241))^L268,0)","v":0},{"$f":"+C268-D268-F268-AG240","v":-13.780430723747758},57.798148976697668,{"$f":"+M268*U267+AB240","v":45.133327997830449},-17.506036873046391,{"$f":"+M268*W267+AF240","v":40.058132304434778},-17.39222294025187]
[2051,{"$f":"+B236","v":0},0,0,0,0,0,0,0,0,0,29,1,{"$f":"+PRODUCT(M240:M269)","v":1.9555576048466343},{"$f":"+'Multiplicatoria inversa'!F269","v":37.294234435049397},{"$f":"+C269-D269-F269-AC240","v":-13.783482507341619},{"$f":"+IF(L269=AB243,1,VLOOKUP(AB243,'Multiplicatoria inversa'!E241:AK270,L269+4,FALSE))*P269","v":0},{"$f":"IF(L269<25-Z239+1,(C269-D269-F269-AF246)*((1+AF242)/(1+AF241))^L269,0)","v":0},{"$f":"+C269-D269-F269-AG240","v":-13.780430723747758},57.798148976697668,{"$f":"+M269*U268+AB240","v":43.87832327799125},-31.289519380388008,{"$f":"+M269*W268+AF240","v":38.667042321812282},-31.172653663999625]
[2052,{"$f":"+B237","v":0},0,0,0,0,0,0,0,0,0,30,1,{"$f":"+PRODUCT(M240:M270)","v":1.9555576048466343},{"$f":"+'Multiplicatoria inversa'!F270","v":38.294234435049397},{"$f":"+C270-D270-F270-AC240","v":-13.783482507341619},null,{"$f":"IF(L270<25-Z239+1,(C270-D270-F270-AF246)*((1+AF242)/(1+AF241))^L270,0)","v":0},{"$f":"+C270-D270-F270-AG240","v":-13.780430723747758},57.798148976697668,{"$f":"+M270*U269+AB240","v":42.62331855815205},-45.073001887729625,{"$f":"+M270*W269+AF240","v":37.275952339189786},-44.953084387747381]
[]
[]
[" Fecha(Anual) ","dp_t","g_t","ip_t","tau_t","i_otros_t ","r_t","c_y_t","Gasto__neto","I_presupuestarios","Costo_finan","t","1+r_t / 1+c_y_t","Multiplicatoria simple","Multiplicatoria inversa","gt - ipt - iotros  - tau_s","(gt - ipt - iotros + tau_s)","(gt - ipt - iotros - omega)(1+r/1+c_y)^t","gt - ipt - iotros  - tau_s (inf)","b_t","b_t_star dc (finito)","b_t_star tau  (finito)","b_t_star dc (infinito)","b_t_star tau  (infinito)",null,9,"H Finito","pd_s","tau_s",null,"H infinito","pd_s","tau_s"]
[{"$f":"+A241","v":2023},null,null,null,null,null,null,null,null,null,null,0,{"$f":"(1+G274)/(1+H274)","v":1},null,null,null,null,null,null,{"$f":"+T241","v":47.347529343026899},{"$f":"+T274","v":47.347529343026899},{"$f":"+T274","v":47.347529343026899},{"$f":"+T274","v":47.347529343026899},{"$f":"+T274","v":47.347529343026899},null,null,null,{"$f":"+AN11","v":-1.2698621799267968},{"$f":"+AO11","v":13.798450752515055},null,null,{"$f":"+(AF275-AF276)/(1+AF276)*(-AB275)","v":-1.4009711803332086},{"$f":"+AF283","v":13.786192209548751}]
[{"$f":"+A274+1","v":2024},{"$f":"+B242","v":-1.0571428571428587},{"$f":"+C242","v":20.142857142857142},3.7285714285714282,13.585714285714287,3.8857142857142861,6.1300452985096551E-2,3.0800000000000001E-2,20.142857142857142,21.200000000000003,3.1285714285714277,1,{"$f":"(1+G275)/(1+H275)","v":1.0295891084449909},{"$f":"+PRODUCT(M274:M275)","v":1.0295891084449909},{"$f":"+'Multiplicatoria inversa'!F275","v":0},{"$f":"+C275-D275-F275-AC274","v":-1.269879323943627},{"$f":"+IF(L275=AB277,1,VLOOKUP(AB277,'Multiplicatoria inversa'!E275:AK304,L275+4,FALSE))*P275","v":-2.0248156439837484},{"$f":"IF(L275<25-Z273+1,(C275-D275-F275-AF280)*((1+AF276)/(1+AF275))^L275,0)","v":0.22200257043962304},{"$f":"+C275-D275-F275-AG274","v":-1.257620780977323},{"$f":"+M275*T274+B275","v":47.69135766621725},{"$f":"+M275*U274+AB274","v":47.47863834343331},{"$f":"+M275*V274+P275","v":47.47862119941648},{"$f":"+M275*W274+AF274","v":47.347529343026899},{"$f":"+M275*X274+S275","v":47.490879742382788},null,null,"b_0",{"$f":"+U274","v":47.347529343026899},{"$f":"+AB275","v":47.347529343026899},null,"r",{"$f":"+AF241","v":6.1300452985096551E-2}]
[{"$f":"+A275+1","v":2025},{"$f":"+B243","v":-1.0571428571428587},20.142857142857142,3.7285714285714282,13.585714285714287,3.8857142857142861,6.1300452985096551E-2,3.0800000000000001E-2,20.142857142857142,21.200000000000003,3.1285714285714277,{"$f":"+L275+1","v":2},{"$f":"(1+G276)/(1+H276)","v":1.0295891084449909},{"$f":"+PRODUCT(M274:M276)","v":1.060053732228551},{"$f":"+'Multiplicatoria inversa'!F276","v":1.0295891084449909},{"$f":"+C276-D276-F276-AC274","v":-1.269879323943627},{"$f":"+IF(L276=AB277,1,VLOOKUP(AB277,'Multiplicatoria inversa'!E275:AK304,L276+4,FALSE))*P276","v":-1.9666249646345502},{"$f":"IF(L276<25-Z273+1,(C276-D276-F276-AF280)*((1+AF276)/(1+AF275))^L276,0)","v":0.21562249310787485},{"$f":"+C276-D276-F276-AG274","v":-1.257620780977323},48.045359562948939,{"$f":"+M276*U275+AB274","v":47.61362674227086},47.61359194696103,{"$f":"+M276*W275+AF274","v":47.347529343026899},47.638471752250851,null,null,"b_T",{"$f":"+AB242","v":50.19},{"$f":"+AC242","v":50.19},null,"c_y",{"$f":"+AF242","v":3.0800000000000001E-2}]
[2026,{"$f":"+B244","v":-1.0571428571428587},20.142857142857142,3.7285714285714282,13.585714285714287,3.8857142857142861,6.1300452985096551E-2,3.0800000000000001E-2,20.142857142857142,21.200000000000003,3.1285714285714277,{"$f":"+L276+1","v":3},1.0295891084449909,{"$f":"+PRODUCT(M274:M277)","v":1.0914197770689789},{"$f":"+'Multiplicatoria inversa'!F277","v":2.0896428406735419},{"$f":"+C277-D277-F277-AC274","v":-1.269879323943627},{"$f":"+IF(L277=AB277,1,VLOOKUP(AB277,'Multiplicatoria inversa'!E275:AK304,L277+4,FALSE))*P277","v":-1.9101066129232693},{"$f":"IF(L277<25-Z273+1,(C277-D277-F277-AF280)*((1+AF276)/(1+AF275))^L277,0)","v":0.20942577125114875},{"$f":"+C277-D277-F277-AG274","v":-1.257620780977323},48.40983606019276,{"$f":"+M277*U276+AB274","v":47.752609327480435},47.752556358591576,{"$f":"+M277*W276+AF274","v":47.347529343026899},47.790430878104516,null,null,"T",{"$f":"+AB243-1","v":17},{"$f":"+AB277","v":17},null,"g ",{"$f":"+AF243","v":20.100000000000001}]
[2027,{"$f":"+B245","v":-1.0571428571428587},20.142857142857142,3.7285714285714282,13.585714285714287,3.8857142857142861,6.1300452985096551E-2,3.0800000000000001E-2,20.142857142857142,21.200000000000003,3.1285714285714277,4,1.0295891084449909,{"$f":"+PRODUCT(M274:M278)","v":1.1237139152116806},{"$f":"+'Multiplicatoria inversa'!F278","v":3.1810626177425205},{"$f":"+C278-D278-F278-AC274","v":-1.269879323943627},{"$f":"+IF(L278=AB277,1,VLOOKUP(AB277,'Multiplicatoria inversa'!E275:AK304,L278+4,FALSE))*P278","v":-1.855212528236766},{"$f":"IF(L278<25-Z273+1,(C278-D278-F278-AF280)*((1+AF276)/(1+AF275))^L278,0)","v":0.20340713546149369},{"$f":"+C278-D278-F278-AG274","v":-1.257620780977323},48.785097092039173,{"$f":"+M278*U277+AB274","v":47.895704283475737},47.895632603267856,{"$f":"+M278*W277+AF274","v":47.347529343026899},47.946886339012266,null,null,"Pi_t b_0",{"$f":"+VLOOKUP(AB277,L275:N304,3,FALSE)*AB275","v":77.729217744812502},{"$f":"+AB278","v":77.729217744812502},null,"ip",{"$f":"+AF244","v":3.9}]
[2028,{"$f":"+B246","v":-1.0571428571428587},20.142857142857142,3.7285714285714282,13.585714285714287,3.8857142857142861,6.1300452985096551E-2,3.0800000000000001E-2,20.142857142857142,21.200000000000003,3.1285714285714277,5,1.0295891084449909,{"$f":"+PRODUCT(M274:M279)","v":1.1569636081100243},{"$f":"+'Multiplicatoria inversa'!F279","v":4.3047765329542012},{"$f":"+C279-D279-F279-AC274","v":-1.269879323943627},{"$f":"+IF(L279=AB277,1,VLOOKUP(AB277,'Multiplicatoria inversa'!E275:AK304,L279+4,FALSE))*P279","v":-1.8018960311640542},{"$f":"IF(L279<25-Z273+1,(C279-D279-F279-AF280)*((1+AF276)/(1+AF275))^L279,0)","v":0.19756146776717906},{"$f":"+C279-D279-F279-AG274","v":-1.257620780977323},49.171461763252069,{"$f":"+M279*U278+AB274","v":48.043033291641919},48.042942346463761,{"$f":"+M279*W278+AF274","v":47.347529343026899},48.10797117751963,null,null,"sum dpt",{"$f":"+VLOOKUP(AB277,L275:O304,4,FALSE)","v":20.686162305322775},{"$f":"+SUM(Q275:Q303)","v":-27.53880912721505},null,"iotros",3.9000000000000021]
[2029,{"$f":"+B247","v":-1.0571428571428587},20.142857142857142,3.7285714285714282,13.585714285714287,3.8857142857142861,6.1300452985096551E-2,3.0800000000000001E-2,20.142857142857142,21.200000000000003,3.1285714285714277,6,1.0295891084449909,{"$f":"+PRODUCT(M274:M280)","v":1.1911971297772996},{"$f":"+'Multiplicatoria inversa'!F280","v":5.4617401410642259},{"$f":"+C280-D280-F280-AC274","v":-1.269879323943627},{"$f":"+IF(L280=AB277,1,VLOOKUP(AB277,'Multiplicatoria inversa'!E275:AK304,L280+4,FALSE))*P280","v":-1.7501117838022722},{"$f":"IF(L280<25-Z273+1,(C280-D280-F280-AF280)*((1+AF276)/(1+AF275))^L280,0)","v":0.19188379728060656},{"$f":"+C280-D280-F280-AG274","v":-1.257620780977323},49.569258620620801,{"$f":"+M280*U279+AB274","v":48.194721633807823},48.194610853626095,{"$f":"+M280*W279+AF274","v":47.347529343026899},48.273822372782433,null,null,"f",{"$f":"+AB278+AB274*(AB279+1)","v":50.190780405528997},{"$f":"+AC278+AC279","v":50.190408617597456},null,"omega",12.3]
[2030,{"$f":"+B248","v":-1.0571428571428587},20.142857142857142,3.7285714285714282,13.585714285714287,3.8857142857142861,6.1300452985096551E-2,3.0800000000000001E-2,20.142857142857142,21.200000000000003,3.1285714285714277,7,1.0295891084449909,{"$f":"+PRODUCT(M274:M281)","v":1.226443590829642},{"$f":"+'Multiplicatoria inversa'!F281","v":6.6529372708415249},{"$f":"+C281-D281-F281-AC274","v":-1.269879323943627},{"$f":"+IF(L281=AB277,1,VLOOKUP(AB277,'Multiplicatoria inversa'!E275:AK304,L281+4,FALSE))*P281","v":-1.6998157512034107},{"$f":"IF(L281<25-Z273+1,(C281-D281-F281-AF280)*((1+AF276)/(1+AF275))^L281,0)","v":0.18636929597129531},{"$f":"+C281-D281-F281-AG274","v":-1.257620780977323},49.978825932341287,{"$f":"+M281*U280+AB274","v":48.35089829877991},48.350767096694547,{"$f":"+M281*W280+AF274","v":47.347529343026899},48.444580957047592,null,null,"dif",{"$f":"+AB276-AB280","v":-7.8040552899949489E-4},{"$f":"+AC276-AC280","v":-4.0861759745780546E-4},null,"25 se vuelve constante"]
[2031,{"$f":"+B249","v":-1.0571428571428587},20.142857142857142,3.7285714285714282,13.585714285714287,3.8857142857142861,6.1300452985096551E-2,3.0800000000000001E-2,20.142857142857142,21.200000000000003,3.1285714285714277,8,1.0295891084449909,{"$f":"+PRODUCT(M274:M282)","v":1.2627329632403643},{"$f":"+'Multiplicatoria inversa'!F282","v":7.8793808616711676},{"$f":"+C282-D282-F282-AC274","v":-1.269879323943627},{"$f":"+IF(L282=AB277,1,VLOOKUP(AB277,'Multiplicatoria inversa'!E275:AK304,L282+4,FALSE))*P282","v":-1.650965163929013},{"$f":"IF(L282<25-Z273+1,(C282-D282-F282-AF280)*((1+AF276)/(1+AF275))^L282,0)","v":0.18101327456034635},{"$f":"+C282-D282-F282-AG274","v":-1.257620780977323},50.400511975663797,{"$f":"+M282*U281+AB274","v":48.511696092028437},48.511543863773511,{"$f":"+M282*W281+AF274","v":47.347529343026899},48.620392135580488,null,null,"Validar",{"$f":"+VLOOKUP(AB277,L275:U304,10,FALSE)","v":50.190780405529004},{"$f":"+VLOOKUP(AC277,L275:V304,11,FALSE)","v":50.190408617597456},null,"sum 1 a 24",{"$f":"+SUM(R275:R298)","v":2.8801485983931325}]
[2032,{"$f":"+B250","v":-1.0571428571428587},20.142857142857142,3.7285714285714282,13.585714285714287,3.8857142857142861,6.1300452985096551E-2,3.0800000000000001E-2,20.142857142857142,21.200000000000003,3.1285714285714277,9,1.0295891084449909,{"$f":"+PRODUCT(M274:M283)","v":1.3000961058267482},{"$f":"+'Multiplicatoria inversa'!F283","v":9.142113824911533},{"$f":"+C283-D283-F283-AC274","v":-1.269879323943627},{"$f":"+IF(L283=AB277,1,VLOOKUP(AB277,'Multiplicatoria inversa'!E275:AK304,L283+4,FALSE))*P283","v":-1.6035184816810066},{"$f":"IF(L283<25-Z273+1,(C283-D283-F283-AF280)*((1+AF276)/(1+AF275))^L283,0)","v":0.17581117853289488},{"$f":"+C283-D283-F283-AG274","v":-1.257620780977323},50.834675333051919,{"$f":"+M283*U282+AB274","v":48.677251748619106},48.677077872049011,{"$f":"+M283*W282+AF274","v":47.347529343026899},48.801405410140831,null,null,null,{"$f":"+IFERROR(ABS(AB282/AB276)-1,0)","v":1.5549024287908608E-5},{"$f":"+IFERROR(ABS(AC282/AC276)-1,0)","v":8.1414145738367694E-6},null,"f",{"$f":"+(AF282+AB275)*(AF275-AF276)/(1+AF276)+AF280","v":13.786192209548751}]
[2033,{"$f":"+B251","v":-1.0571428571428587},20.142857142857142,3.7285714285714282,13.585714285714287,3.8857142857142861,6.1300452985096551E-2,3.0800000000000001E-2,20.142857142857142,21.200000000000003,3.1285714285714277,10,1.0295891084449909,{"$f":"+PRODUCT(M274:M284)","v":1.3385647904909661},{"$f":"+'Multiplicatoria inversa'!F284","v":10.442209930738281},{"$f":"+C284-D284-F284-AC274","v":-1.269879323943627},{"$f":"+IF(L284=AB277,1,VLOOKUP(AB277,'Multiplicatoria inversa'!E275:AK304,L284+4,FALSE))*P284","v":-1.5574353579777402},{"$f":"IF(L284<25-Z273+1,(C284-D284-F284-AF280)*((1+AF276)/(1+AF275))^L284,0)","v":0.17075858426515994},{"$f":"+C284-D284-F284-AG274","v":-1.257620780977323},51.281685197104636,{"$f":"+M284*U283+AB274","v":48.84770604948632},48.847509884046708,{"$f":"+M284*W283+AF274","v":47.347529343026899},48.987774706112134]
[2034,{"$f":"+B252","v":-1.0571428571428587},20.142857142857142,3.7285714285714282,13.585714285714287,3.8857142857142861,6.1300452985096551E-2,3.0800000000000001E-2,20.142857142857142,21.200000000000003,3.1285714285714277,11,1.0295891084449909,{"$f":"+PRODUCT(M274:M285)","v":1.3781717292374498},{"$f":"+'Multiplicatoria inversa'!F285","v":11.780774721229246},{"$f":"+C285-D285-F285-AC274","v":-1.269879323943627},{"$f":"+IF(L285=AB277,1,VLOOKUP(AB277,'Multiplicatoria inversa'!E275:AK304,L285+4,FALSE))*P285","v":-1.5126766058451862},{"$f":"IF(L285<25-Z273+1,(C285-D285-F285-AF280)*((1+AF276)/(1+AF275))^L285,0)","v":0.16585119526279768},{"$f":"+C285-D285-F285-AG274","v":-1.257620780977323},51.741921684500788,{"$f":"+M285*U284+AB274","v":49.023203941146811},49.0229848273299,{"$f":"+M285*W284+AF274","v":47.347529343026899},49.179658503392744,null,null,"g",{"$f":"IFERROR(ABS(AB281)+ABS(AC281),0)","v":1.1890231264573004E-3}]
[2035,{"$f":"+B253","v":-1.0571428571428587},20.142857142857142,3.7285714285714282,13.585714285714287,3.8857142857142861,6.1300452985096551E-2,3.0800000000000001E-2,20.142857142857142,21.200000000000003,3.1285714285714277,12,1.0295891084449909,{"$f":"+PRODUCT(M274:M286)","v":1.4189506019896774},{"$f":"+'Multiplicatoria inversa'!F286","v":13.158946450466697},{"$f":"+C286-D286-F286-AC274","v":-1.269879323943627},{"$f":"+IF(L286=AB277,1,VLOOKUP(AB277,'Multiplicatoria inversa'!E275:AK304,L286+4,FALSE))*P286","v":-1.4692041644941372},{"$f":"IF(L286<25-Z273+1,(C286-D286-F286-AF280)*((1+AF276)/(1+AF275))^L286,0)","v":0.16108483850735961},{"$f":"+C286-D286-F286-AG274","v":-1.257620780977323},52.215776159232846,{"$f":"+M286*U285+AB274","v":49.203894658955512},49.203651917739279,{"$f":"+M286*W285+AF274","v":47.347529343026899},49.377219971159931,null,null,null,"Pronosticada"]
[2036,{"$f":"+B254","v":-1.0571428571428587},20.142857142857142,3.7285714285714282,13.585714285714287,3.8857142857142861,6.1300452985096551E-2,3.0800000000000001E-2,20.142857142857142,21.200000000000003,3.1285714285714277,13,1.0295891084449909,{"$f":"+PRODUCT(M274:M287)","v":1.460936085230035},{"$f":"+'Multiplicatoria inversa'!F287","v":14.577897052456374},{"$f":"+C287-D287-F287-AC274","v":-1.269879323943627},{"$f":"+IF(L287=AB277,1,VLOOKUP(AB277,'Multiplicatoria inversa'!E275:AK304,L287+4,FALSE))*P287","v":-1.4269810669550551},{"$f":"IF(L287<25-Z273+1,(C287-D287-F287-AF280)*((1+AF276)/(1+AF275))^L287,0)","v":0.15645546090774917},{"$f":"+C287-D287-F287-AG274","v":-1.257620780977323},52.703651565404897,{"$f":"+M287*U286+AB274","v":49.389931854008459},49.389664786279219,{"$f":"+M287*W286+AF274","v":47.347529343026899},49.580627106621421,null,null,"b_t_star dc (finito)","Ajuste al déficit primario"]
[2037,{"$f":"+B255","v":-1.0571428571428587},20.142857142857142,3.7285714285714282,13.585714285714287,3.8857142857142861,6.1300452985096551E-2,3.0800000000000001E-2,20.142857142857142,21.200000000000003,3.1285714285714277,14,1.0295891084449909,{"$f":"+PRODUCT(M274:M288)","v":1.504163881487107},{"$f":"+'Multiplicatoria inversa'!F288","v":16.038833137686407},{"$f":"+C288-D288-F288-AC274","v":-1.269879323943627},{"$f":"+IF(L288=AB277,1,VLOOKUP(AB277,'Multiplicatoria inversa'!E275:AK304,L288+4,FALSE))*P288","v":-1.385971408643059},{"$f":"IF(L288<25-Z273+1,(C288-D288-F288-AF280)*((1+AF276)/(1+AF275))^L288,0)","v":0.15195912585365925},{"$f":"+C288-D288-F288-AG274","v":-1.257620780977323},53.205962769877814,{"$f":"+M288*U287+AB274","v":49.581473723800627},49.581181609758552,{"$f":"+M288*W287+AF274","v":47.347529343026899},49.790052877872569,null,null,"b_t_star tau  (finito)","Ajuste al ingreso tributario"]
[2038,{"$f":"+B256","v":-1.0571428571428587},20.142857142857142,3.7285714285714282,13.585714285714287,3.8857142857142861,6.1300452985096551E-2,3.0800000000000001E-2,20.142857142857142,21.200000000000003,3.1285714285714277,15,1.0295891084449909,{"$f":"+PRODUCT(M274:M289)","v":1.5486707496954675},{"$f":"+'Multiplicatoria inversa'!F289","v":17.542997019173512},{"$f":"+C289-D289-F289-AC274","v":-1.269879323943627},{"$f":"+IF(L289=AB277,1,VLOOKUP(AB277,'Multiplicatoria inversa'!E275:AK304,L289+4,FALSE))*P289","v":-1.3461403168263111},{"$f":"IF(L289<25-Z273+1,(C289-D289-F289-AF280)*((1+AF276)/(1+AF275))^L289,0)","v":0.14759200986805909},{"$f":"+C289-D289-F289-AG274","v":-1.257620780977323},53.723136915053018,{"$f":"+M289*U288+AB274","v":49.778683146749835},49.778365245296854,{"$f":"+M289*W288+AF274","v":47.347529343026899},50.005675370980441,null,null,"b_t_star dc (infinito)","Ajuste al déficit primario"]
[2039,{"$f":"+B257","v":-1.0571428571428587},20.142857142857142,3.7285714285714282,13.585714285714287,3.8857142857142861,6.1300452985096551E-2,3.0800000000000001E-2,20.142857142857142,21.200000000000003,3.1285714285714277,16,1.0295891084449909,{"$f":"+PRODUCT(M274:M290)","v":1.5944945364537919},{"$f":"+'Multiplicatoria inversa'!F290","v":19.09166776886898},{"$f":"+C290-D290-F290-AC274","v":-1.269879323943627},{"$f":"+IF(L290=AB277,1,VLOOKUP(AB277,'Multiplicatoria inversa'!E275:AK304,L290+4,FALSE))*P290","v":-1.3074539209718468},{"$f":"IF(L290<25-Z273+1,(C290-D290-F290-AF280)*((1+AF276)/(1+AF275))^L290,0)","v":0.14335039935588509},{"$f":"+C290-D290-F290-AG274","v":-1.257620780977323},54.255613782094755,{"$f":"+M290*U289+AB274","v":49.98172782070106},49.981383368810683,{"$f":"+M290*W289+AF274","v":47.347529343026899},50.227677941420069,null,null,"b_t_star tau  (infinito)","Ajuste al ingreso tributario"]
[2040,{"$f":"+B258","v":-1.0571428571428587},20.142857142857142,3.7285714285714282,13.585714285714287,3.8857142857142861,6.1300452985096551E-2,3.0800000000000001E-2,20.142857142857142,21.200000000000003,3.1285714285714277,17,1.0295891084449909,{"$f":"+PRODUCT(M274:M291)","v":1.6416742082078686},{"$f":"+'Multiplicatoria inversa'!F291","v":20.686162305322775},{"$f":"+C291-D291-F291-AC274","v":-1.269879323943627},{"$f":"+IF(L291=AB277,1,VLOOKUP(AB277,'Multiplicatoria inversa'!E275:AK304,L291+4,FALSE))*P291","v":-1.269879323943627},{"$f":"IF(L291<25-Z273+1,(C291-D291-F291-AF280)*((1+AF276)/(1+AF275))^L291,0)","v":0},{"$f":"+C291-D291-F291-AG274","v":-1.257620780977323},54.803846164899838,{"$f":"+M291*U290+AB274","v":50.190780405529004},50.190408617597456,{"$f":"+M291*W290+AF274","v":47.347529343026899},50.456249369991497]
[2041,{"$f":"+B259","v":-1.0571428571428587},20.142857142857142,3.7285714285714282,13.585714285714287,3.8857142857142861,6.1300452985096551E-2,3.0800000000000001E-2,20.142857142857142,21.200000000000003,3.1285714285714277,18,1.0295891084449909,{"$f":"+PRODUCT(M274:M292)","v":1.6902498843858758},{"$f":"+'Multiplicatoria inversa'!F292","v":22.327836513530645},{"$f":"+C292-D292-F292-AC274","v":-1.269879323943627},{"$f":"+IF(L292=AB277,1,VLOOKUP(AB277,'Multiplicatoria inversa'!E275:AK304,L292+4,FALSE))*P292","v":0},{"$f":"IF(L292<25-Z273+1,(C292-D292-F292-AF280)*((1+AF276)/(1+AF275))^L292,0)","v":0},{"$f":"+C292-D292-F292-AG274","v":-1.257620780977323},55.368300255132802,{"$f":"+M292*U291+AB274","v":50.406018669960126},50.405618737138326,{"$f":"+M292*W291+AF274","v":47.347529343026899},50.691584023350359]
[2042,{"$f":"+B260","v":-1.0571428571428587},20.142857142857142,3.7285714285714282,13.585714285714287,3.8857142857142861,6.1300452985096551E-2,3.0800000000000001E-2,20.142857142857142,21.200000000000003,3.1285714285714277,19,1.0295891084449909,{"$f":"+PRODUCT(M274:M293)","v":1.7402628715141026},{"$f":"+'Multiplicatoria inversa'!F293","v":24.01808639791652},{"$f":"+C293-D293-F293-AC274","v":-1.269879323943627},{"$f":"+IF(L293=AB277,1,VLOOKUP(AB277,'Multiplicatoria inversa'!E275:AK304,L293+4,FALSE))*P293","v":0},{"$f":"IF(L293<25-Z273+1,(C293-D293-F293-AF280)*((1+AF276)/(1+AF275))^L293,0)","v":0},{"$f":"+C293-D293-F293-AG274","v":-1.257620780977323},55.949456038653885,{"$f":"+M293*U292+AB274","v":50.627625642739012},50.627196732244748,{"$f":"+M293*W292+AF274","v":47.347529343026899},50.933882019288319]
[2043,{"$f":"+B261","v":-1.0571428571428587},20.142857142857142,3.7285714285714282,13.585714285714287,3.8857142857142861,6.1300452985096551E-2,3.0800000000000001E-2,20.142857142857142,21.200000000000003,3.1285714285714277,20,1.0295891084449909,{"$f":"+PRODUCT(M274:M294)","v":1.7917556983421246},{"$f":"+'Multiplicatoria inversa'!F294","v":25.758349269430624},{"$f":"+C294-D294-F294-AC274","v":-1.269879323943627},{"$f":"+IF(L294=AB277,1,VLOOKUP(AB277,'Multiplicatoria inversa'!E275:AK304,L294+4,FALSE))*P294","v":0},{"$f":"IF(L294<25-Z273+1,(C294-D294-F294-AF280)*((1+AF276)/(1+AF275))^L294,0)","v":0},{"$f":"+C294-D294-F294-AG274","v":-1.257620780977323},56.547807703677009,{"$f":"+M294*U293+AB274","v":50.85578976826762},50.855331022677397,{"$f":"+M294*W293+AF274","v":47.347529343026899},51.183349396904092]
[2044,{"$f":"+B262","v":-1.0571428571428587},20.142857142857142,3.7285714285714282,13.585714285714287,3.8857142857142861,6.1300452985096551E-2,3.0800000000000001E-2,20.142857142857142,21.200000000000003,3.1285714285714277,21,1.0295891084449909,{"$f":"+PRODUCT(M274:M295)","v":1.8447721520072999},{"$f":"+'Multiplicatoria inversa'!F295","v":27.550104967772747},{"$f":"+C295-D295-F295-AC274","v":-1.269879323943627},{"$f":"+IF(L295=AB277,1,VLOOKUP(AB277,'Multiplicatoria inversa'!E275:AK304,L295+4,FALSE))*P295","v":0},{"$f":"IF(L295<25-Z273+1,(C295-D295-F295-AF280)*((1+AF276)/(1+AF275))^L295,0)","v":0},{"$f":"+C295-D295-F295-AG274","v":-1.257620780977323},57.163864061004737,{"$f":"+M295*U294+AB274","v":51.09070506684975},51.090215603369678,{"$f":"+M295*W294+AF274","v":47.347529343026899},51.440198291809622]
[2045,{"$f":"+B263","v":-1.0571428571428587},20.142857142857142,3.7285714285714282,13.585714285714287,3.8857142857142861,6.1300452985096551E-2,3.0800000000000001E-2,20.142857142857142,21.200000000000003,3.1285714285714277,22,1.0295891084449909,{"$f":"+PRODUCT(M274:M296)","v":1.899357315269343},{"$f":"+'Multiplicatoria inversa'!F296","v":29.394877119780048},{"$f":"+C296-D296-F296-AC274","v":-1.269879323943627},{"$f":"+IF(L296=AB277,1,VLOOKUP(AB277,'Multiplicatoria inversa'!E275:AK304,L296+4,FALSE))*P296","v":0},{"$f":"IF(L296<25-Z273+1,(C296-D296-F296-AF280)*((1+AF276)/(1+AF275))^L296,0)","v":0},{"$f":"+C296-D296-F296-AG274","v":-1.257620780977323},57.798148976697668,{"$f":"+M296*U295+AB274","v":51.332571299677014},51.332050209392122,{"$f":"+M296*W295+AF274","v":47.347529343026899},51.704647116520491]
[2046,{"$f":"+B264","v":0},0,0,0,0,0,0,0,0,0,23,1,{"$f":"+PRODUCT(M274:M297)","v":1.899357315269343},{"$f":"+'Multiplicatoria inversa'!F297","v":30.394877119780048},{"$f":"+C297-D297-F297-AC274","v":-13.798450752515055},{"$f":"+IF(L297=AB277,1,VLOOKUP(AB277,'Multiplicatoria inversa'!E275:AK304,L297+4,FALSE))*P297","v":0},{"$f":"IF(L297<25-Z273+1,(C297-D297-F297-AF280)*((1+AF276)/(1+AF275))^L297,0)","v":0},{"$f":"+C297-D297-F297-AG274","v":-13.786192209548751},57.798148976697668,{"$f":"+M297*U296+AB274","v":50.062709119750217},37.53359945687707,{"$f":"+M297*W296+AF274","v":45.946558162693691},37.918454906971739]
[2047,{"$f":"+B265","v":0},0,0,0,0,0,0,0,0,0,24,1,{"$f":"+PRODUCT(M274:M298)","v":1.899357315269343},{"$f":"+'Multiplicatoria inversa'!F298","v":31.394877119780048},{"$f":"+C298-D298-F298-AC274","v":-13.798450752515055},{"$f":"+IF(L298=AB277,1,VLOOKUP(AB277,'Multiplicatoria inversa'!E275:AK304,L298+4,FALSE))*P298","v":0},{"$f":"IF(L298<25-Z273+1,(C298-D298-F298-AF280)*((1+AF276)/(1+AF275))^L298,0)","v":0},{"$f":"+C298-D298-F298-AG274","v":-13.786192209548751},57.798148976697668,{"$f":"+M298*U297+AB274","v":48.79284693982342},23.735148704362015,{"$f":"+M298*W297+AF274","v":44.545586982360483},24.132262697422988]
[2048,{"$f":"+B266","v":0},0,0,0,0,0,0,0,0,0,25,1,{"$f":"+PRODUCT(M274:M299)","v":1.899357315269343},{"$f":"+'Multiplicatoria inversa'!F299","v":32.394877119780048},{"$f":"+C299-D299-F299-AC274","v":-13.798450752515055},{"$f":"+IF(L299=AB277,1,VLOOKUP(AB277,'Multiplicatoria inversa'!E275:AK304,L299+4,FALSE))*P299","v":0},{"$f":"IF(L299<25-Z273+1,(C299-D299-F299-AF280)*((1+AF276)/(1+AF275))^L299,0)","v":0},{"$f":"+C299-D299-F299-AG274","v":-13.786192209548751},57.798148976697668,{"$f":"+M299*U298+AB274","v":47.522984759896623},9.9366979518469591,{"$f":"+M299*W298+AF274","v":43.144615802027275},10.346070487874236]
[2049,{"$f":"+B267","v":0},0,0,0,0,0,0,0,0,0,26,1,{"$f":"+PRODUCT(M274:M300)","v":1.899357315269343},{"$f":"+'Multiplicatoria inversa'!F300","v":33.394877119780048},{"$f":"+C300-D300-F300-AC274","v":-13.798450752515055},{"$f":"+IF(L300=AB277,1,VLOOKUP(AB277,'Multiplicatoria inversa'!E275:AK304,L300+4,FALSE))*P300","v":0},{"$f":"IF(L300<25-Z273+1,(C300-D300-F300-AF280)*((1+AF276)/(1+AF275))^L300,0)","v":0},{"$f":"+C300-D300-F300-AG274","v":-13.786192209548751},57.798148976697668,{"$f":"+M300*U299+AB274","v":46.253122579969826},-3.8617528006680963,{"$f":"+M300*W299+AF274","v":41.743644621694067},-3.4401217216745152]
[2050,{"$f":"+B268","v":0},0,0,0,0,0,0,0,0,0,27,1,{"$f":"+PRODUCT(M274:M301)","v":1.899357315269343},{"$f":"+'Multiplicatoria inversa'!F301","v":34.394877119780048},{"$f":"+C301-D301-F301-AC274","v":-13.798450752515055},{"$f":"+IF(L301=AB277,1,VLOOKUP(AB277,'Multiplicatoria inversa'!E275:AK304,L301+4,FALSE))*P301","v":0},{"$f":"IF(L301<25-Z273+1,(C301-D301-F301-AF280)*((1+AF276)/(1+AF275))^L301,0)","v":0},{"$f":"+C301-D301-F301-AG274","v":-13.786192209548751},57.798148976697668,{"$f":"+M301*U300+AB274","v":44.983260400043029},-17.660203553183152,{"$f":"+M301*W300+AF274","v":40.342673441360859},-17.226313931223267]
[2051,{"$f":"+B269","v":0},0,0,0,0,0,0,0,0,0,28,1,{"$f":"+PRODUCT(M274:M302)","v":1.899357315269343},{"$f":"+'Multiplicatoria inversa'!F302","v":35.394877119780048},{"$f":"+C302-D302-F302-AC274","v":-13.798450752515055},{"$f":"+IF(L302=AB277,1,VLOOKUP(AB277,'Multiplicatoria inversa'!E275:AK304,L302+4,FALSE))*P302","v":0},{"$f":"IF(L302<25-Z273+1,(C302-D302-F302-AF280)*((1+AF276)/(1+AF275))^L302,0)","v":0},{"$f":"+C302-D302-F302-AG274","v":-13.786192209548751},57.798148976697668,{"$f":"+M302*U301+AB274","v":43.713398220116233},-31.458654305698207,{"$f":"+M302*W301+AF274","v":38.94170226102765},-31.012506140772018]
[2052,{"$f":"+B270","v":0},0,0,0,0,0,0,0,0,0,29,1,{"$f":"+PRODUCT(M274:M303)","v":1.899357315269343},{"$f":"+'Multiplicatoria inversa'!F303","v":36.394877119780048},{"$f":"+C303-D303-F303-AC274","v":-13.798450752515055},{"$f":"+IF(L303=AB277,1,VLOOKUP(AB277,'Multiplicatoria inversa'!E275:AK304,L303+4,FALSE))*P303","v":0},{"$f":"IF(L303<25-Z273+1,(C303-D303-F303-AF280)*((1+AF276)/(1+AF275))^L303,0)","v":0},{"$f":"+C303-D303-F303-AG274","v":-13.786192209548751},57.798148976697668,{"$f":"+M303*U302+AB274","v":42.443536040189436},-45.257105058213263,{"$f":"+M303*W302+AF274","v":37.540731080694442},-44.79869835032077]
[2053,{"$f":"+B271","v":0},0,0,0,0,0,0,0,0,0,30,1,{"$f":"+PRODUCT(M274:M304)","v":1.899357315269343},{"$f":"+'Multiplicatoria inversa'!F304","v":37.394877119780048},{"$f":"+C304-D304-F304-AC274","v":-13.798450752515055},null,{"$f":"IF(L304<25-Z273+1,(C304-D304-F304-AF280)*((1+AF276)/(1+AF275))^L304,0)","v":0},{"$f":"+C304-D304-F304-AG274","v":-13.786192209548751},57.798148976697668,{"$f":"+M304*U303+AB274","v":41.173673860262639},-59.055555810728322,{"$f":"+M304*W303+AF274","v":36.139759900361234},-58.584890559869521]
[]
[]
[" Fecha(Anual) ","dp_t","g_t","ip_t","tau_t","i_otros_t ","r_t","c_y_t","Gasto__neto","I_presupuestarios","Costo_finan","t","1+r_t / 1+c_y_t","Multiplicatoria simple","Multiplicatoria inversa","gt - ipt - iotros  - tau_s","(gt - ipt - iotros + tau_s)","(gt - ipt - iotros - omega)(1+r/1+c_y)^t","gt - ipt - iotros  - tau_s (inf)","b_t","b_t_star dc (finito)","b_t_star tau  (finito)","b_t_star dc (infinito)","b_t_star tau  (infinito)",null,10,"H Finito","pd_s","tau_s",null,"H infinito","pd_s","tau_s"]
[{"$f":"+A275","v":2024},null,null,null,null,null,null,null,null,null,null,0,{"$f":"(1+G308)/(1+H308)","v":1},null,null,null,null,null,null,{"$f":"+T275","v":47.69135766621725},{"$f":"+T308","v":47.69135766621725},{"$f":"+T308","v":47.69135766621725},{"$f":"+T308","v":47.69135766621725},{"$f":"+T308","v":47.69135766621725},null,null,null,{"$f":"+AN12","v":-1.2868115997937293},{"$f":"+AO12","v":13.815375896571208},null,null,{"$f":"+(AF309-AF310)/(1+AF310)*(-AB309)","v":-1.4111447538745472},{"$f":"+AF317","v":13.792124172577916}]
[{"$f":"+A308+1","v":2025},{"$f":"+B276","v":-1.0571428571428587},{"$f":"+C276","v":20.142857142857142},3.7285714285714282,13.585714285714287,3.8857142857142861,6.1300452985096551E-2,3.0800000000000001E-2,20.142857142857142,21.200000000000003,3.1285714285714277,1,{"$f":"(1+G309)/(1+H309)","v":1.0295891084449909},{"$f":"+PRODUCT(M308:M309)","v":1.0295891084449909},{"$f":"+'Multiplicatoria inversa'!F309","v":0},{"$f":"+C309-D309-F309-AC308","v":-1.2868044679997794},{"$f":"+IF(L309=AB311,1,VLOOKUP(AB311,'Multiplicatoria inversa'!E309:AK338,L309+4,FALSE))*P309","v":-1.9928364401686955},{"$f":"IF(L309<25-Z307+1,(C309-D309-F309-AF314)*((1+AF310)/(1+AF309))^L309,0)","v":0.22200257043962304},{"$f":"+C309-D309-F309-AG308","v":-1.2635527440064873},{"$f":"+M309*T308+B309","v":48.045359562948939},{"$f":"+M309*U308+AB308","v":47.815690820298066},{"$f":"+M309*V308+P309","v":47.815697952092016},{"$f":"+M309*W308+AF308","v":47.69135766621725},{"$f":"+M309*X308+S309","v":47.838949676085306},null,null,"b_0",{"$f":"+U308","v":47.69135766621725},{"$f":"+AB309","v":47.69135766621725},null,"r",{"$f":"+AF275","v":6.1300452985096551E-2}]
[{"$f":"+A309+1","v":2026},{"$f":"+B277","v":-1.0571428571428587},20.142857142857142,3.7285714285714282,13.585714285714287,3.8857142857142861,6.1300452985096551E-2,3.0800000000000001E-2,20.142857142857142,21.200000000000003,3.1285714285714277,{"$f":"+L309+1","v":2},{"$f":"(1+G310)/(1+H310)","v":1.0295891084449909},{"$f":"+PRODUCT(M308:M310)","v":1.060053732228551},{"$f":"+'Multiplicatoria inversa'!F310","v":1.0295891084449909},{"$f":"+C310-D310-F310-AC308","v":-1.2868044679997794},{"$f":"+IF(L310=AB311,1,VLOOKUP(AB311,'Multiplicatoria inversa'!E309:AK338,L310+4,FALSE))*P310","v":-1.9355648033015},{"$f":"IF(L310<25-Z307+1,(C310-D310-F310-AF314)*((1+AF310)/(1+AF309))^L310,0)","v":0.21562249310787485},{"$f":"+C310-D310-F310-AG308","v":-1.2635527440064873},48.40983606019276,{"$f":"+M310*U309+AB308","v":47.943702881558288},47.943717356169614,{"$f":"+M310*W309+AF308","v":47.69135766621725},47.990908801938964,null,null,"b_T",{"$f":"+AB276","v":50.19},{"$f":"+AC276","v":50.19},null,"c_y",{"$f":"+AF276","v":3.0800000000000001E-2}]
[2027,{"$f":"+B278","v":-1.0571428571428587},20.142857142857142,3.7285714285714282,13.585714285714287,3.8857142857142861,6.1300452985096551E-2,3.0800000000000001E-2,20.142857142857142,21.200000000000003,3.1285714285714277,{"$f":"+L310+1","v":3},1.0295891084449909,{"$f":"+PRODUCT(M308:M311)","v":1.0914197770689789},{"$f":"+'Multiplicatoria inversa'!F311","v":2.0896428406735419},{"$f":"+C311-D311-F311-AC308","v":-1.2868044679997794},{"$f":"+IF(L311=AB311,1,VLOOKUP(AB311,'Multiplicatoria inversa'!E309:AK338,L311+4,FALSE))*P311","v":-1.8799390819361157},{"$f":"IF(L311<25-Z307+1,(C311-D311-F311-AF314)*((1+AF310)/(1+AF309))^L311,0)","v":0.20942577125114875},{"$f":"+C311-D311-F311-AG308","v":-1.2635527440064873},48.785097092039173,{"$f":"+M311*U310+AB308","v":48.075502705581407},48.07552474027753,{"$f":"+M311*W310+AF308","v":47.69135766621725},48.147364262846715,null,null,"T",{"$f":"+AB277-1","v":16},{"$f":"+AB311","v":16},null,"g ",{"$f":"+AF277","v":20.100000000000001}]
[2028,{"$f":"+B279","v":-1.0571428571428587},20.142857142857142,3.7285714285714282,13.585714285714287,3.8857142857142861,6.1300452985096551E-2,3.0800000000000001E-2,20.142857142857142,21.200000000000003,3.1285714285714277,4,1.0295891084449909,{"$f":"+PRODUCT(M308:M312)","v":1.1237139152116806},{"$f":"+'Multiplicatoria inversa'!F312","v":3.1810626177425205},{"$f":"+C312-D312-F312-AC308","v":-1.2868044679997794},{"$f":"+IF(L312=AB311,1,VLOOKUP(AB311,'Multiplicatoria inversa'!E309:AK338,L312+4,FALSE))*P312","v":-1.8259119745112935},{"$f":"IF(L312<25-Z307+1,(C312-D312-F312-AF314)*((1+AF310)/(1+AF309))^L312,0)","v":0.20340713546149369},{"$f":"+C312-D312-F312-AG308","v":-1.2635527440064873},49.171461763252069,{"$f":"+M312*U311+AB308","v":48.211202368890575},48.211232187367663,{"$f":"+M312*W311+AF308","v":47.69135766621725},48.308449101354071,null,null,"Pi_t b_0",{"$f":"+VLOOKUP(AB311,L309:N338,3,FALSE)*AB309","v":76.043609234847068},{"$f":"+AB312","v":76.043609234847068},null,"ip",{"$f":"+AF278","v":3.9}]
[2029,{"$f":"+B280","v":-1.0571428571428587},20.142857142857142,3.7285714285714282,13.585714285714287,3.8857142857142861,6.1300452985096551E-2,3.0800000000000001E-2,20.142857142857142,21.200000000000003,3.1285714285714277,5,1.0295891084449909,{"$f":"+PRODUCT(M308:M313)","v":1.1569636081100243},{"$f":"+'Multiplicatoria inversa'!F313","v":4.3047765329542012},{"$f":"+C313-D313-F313-AC308","v":-1.2868044679997794},{"$f":"+IF(L313=AB311,1,VLOOKUP(AB311,'Multiplicatoria inversa'!E309:AK338,L313+4,FALSE))*P313","v":-1.7734375388537327},{"$f":"IF(L313<25-Z307+1,(C313-D313-F313-AF314)*((1+AF310)/(1+AF309))^L313,0)","v":0.19756146776717906},{"$f":"+C313-D313-F313-AG308","v":-1.2635527440064873},49.569258620620801,{"$f":"+M313*U312+AB308","v":48.350917264253347},48.350955096826539,{"$f":"+M313*W312+AF308","v":47.69135766621725},48.474300296616867,null,null,"sum dpt",{"$f":"+VLOOKUP(AB311,L309:O338,4,FALSE)","v":19.09166776886898},{"$f":"+SUM(Q309:Q337)","v":-25.854047854547769},null,"iotros",3.9000000000000021]
[2030,{"$f":"+B281","v":-1.0571428571428587},20.142857142857142,3.7285714285714282,13.585714285714287,3.8857142857142861,6.1300452985096551E-2,3.0800000000000001E-2,20.142857142857142,21.200000000000003,3.1285714285714277,6,1.0295891084449909,{"$f":"+PRODUCT(M308:M314)","v":1.1911971297772996},{"$f":"+'Multiplicatoria inversa'!F314","v":5.4617401410642259},{"$f":"+C314-D314-F314-AC308","v":-1.2868044679997794},{"$f":"+IF(L314=AB311,1,VLOOKUP(AB311,'Multiplicatoria inversa'!E309:AK338,L314+4,FALSE))*P314","v":-1.7224711531109638},{"$f":"IF(L314<25-Z307+1,(C314-D314-F314-AF314)*((1+AF310)/(1+AF309))^L314,0)","v":0.19188379728060656},{"$f":"+C314-D314-F314-AG308","v":-1.2635527440064873},49.978825932341287,{"$f":"+M314*U313+AB308","v":48.494766198806389},48.494812282605643,{"$f":"+M314*W313+AF308","v":47.69135766621725},48.645058880882026,null,null,"f",{"$f":"+AB312+AB308*(AB313+1)","v":50.189418090664667},{"$f":"+AC312+AC313","v":50.189561380299295},null,"omega",12.3]
[2031,{"$f":"+B282","v":-1.0571428571428587},20.142857142857142,3.7285714285714282,13.585714285714287,3.8857142857142861,6.1300452985096551E-2,3.0800000000000001E-2,20.142857142857142,21.200000000000003,3.1285714285714277,7,1.0295891084449909,{"$f":"+PRODUCT(M308:M315)","v":1.226443590829642},{"$f":"+'Multiplicatoria inversa'!F315","v":6.6529372708415249},{"$f":"+C315-D315-F315-AC308","v":-1.2868044679997794},{"$f":"+IF(L315=AB311,1,VLOOKUP(AB311,'Multiplicatoria inversa'!E309:AK338,L315+4,FALSE))*P315","v":-1.6729694778069737},{"$f":"IF(L315<25-Z307+1,(C315-D315-F315-AF314)*((1+AF310)/(1+AF309))^L315,0)","v":0.18636929597129531},{"$f":"+C315-D315-F315-AG308","v":-1.2635527440064873},50.400511975663797,{"$f":"+M315*U314+AB308","v":48.642871495083618},48.642926074255357,{"$f":"+M315*W314+AF308","v":47.69135766621725},48.820870059414922,null,null,"dif",{"$f":"+AB310-AB314","v":5.8190933533097677E-4},{"$f":"+AC310-AC314","v":4.3861970070224743E-4},null,"25 se vuelve constante"]
[2032,{"$f":"+B283","v":-1.0571428571428587},20.142857142857142,3.7285714285714282,13.585714285714287,3.8857142857142861,6.1300452985096551E-2,3.0800000000000001E-2,20.142857142857142,21.200000000000003,3.1285714285714277,8,1.0295891084449909,{"$f":"+PRODUCT(M308:M316)","v":1.2627329632403643},{"$f":"+'Multiplicatoria inversa'!F316","v":7.8793808616711676},{"$f":"+C316-D316-F316-AC308","v":-1.2868044679997794},{"$f":"+IF(L316=AB311,1,VLOOKUP(AB311,'Multiplicatoria inversa'!E309:AK338,L316+4,FALSE))*P316","v":-1.624890418988302},{"$f":"IF(L316<25-Z307+1,(C316-D316-F316-AF314)*((1+AF310)/(1+AF309))^L316,0)","v":0.18101327456034635},{"$f":"+C316-D316-F316-AG308","v":-1.2635527440064873},50.834675333051919,{"$f":"+M316*U315+AB308","v":48.795359095033675},48.795422420948391,{"$f":"+M316*W315+AF308","v":47.69135766621725},49.001883333975265,null,null,"Validar",{"$f":"+VLOOKUP(AB311,L309:U338,10,FALSE)","v":50.189418090664645},{"$f":"+VLOOKUP(AC311,L309:V338,11,FALSE)","v":50.189561380299295},null,"sum 1 a 24",{"$f":"+SUM(R309:R332)","v":2.7367981990372474}]
[2033,{"$f":"+B284","v":-1.0571428571428587},20.142857142857142,3.7285714285714282,13.585714285714287,3.8857142857142861,6.1300452985096551E-2,3.0800000000000001E-2,20.142857142857142,21.200000000000003,3.1285714285714277,9,1.0295891084449909,{"$f":"+PRODUCT(M308:M317)","v":1.3000961058267482},{"$f":"+'Multiplicatoria inversa'!F317","v":9.142113824911533},{"$f":"+C317-D317-F317-AC308","v":-1.2868044679997794},{"$f":"+IF(L317=AB311,1,VLOOKUP(AB311,'Multiplicatoria inversa'!E309:AK338,L317+4,FALSE))*P317","v":-1.5781930924292766},{"$f":"IF(L317<25-Z307+1,(C317-D317-F317-AF314)*((1+AF310)/(1+AF309))^L317,0)","v":0.17581117853289488},{"$f":"+C317-D317-F317-AG308","v":-1.2635527440064873},51.281685197104636,{"$f":"+M317*U316+AB308","v":48.95235866711517},48.952430998581193,{"$f":"+M317*W316+AF308","v":47.69135766621725},49.188252629946561,null,null,null,{"$f":"+IFERROR(ABS(AB316/AB310)-1,0)","v":-1.1594129016745391E-5},{"$f":"+IFERROR(ABS(AC316/AC310)-1,0)","v":-8.7391851105733664E-6},null,"f",{"$f":"+(AF316+AB309)*(AF309-AF310)/(1+AF310)+AF314","v":13.792124172577916}]
[2034,{"$f":"+B285","v":-1.0571428571428587},20.142857142857142,3.7285714285714282,13.585714285714287,3.8857142857142861,6.1300452985096551E-2,3.0800000000000001E-2,20.142857142857142,21.200000000000003,3.1285714285714277,10,1.0295891084449909,{"$f":"+PRODUCT(M308:M318)","v":1.3385647904909661},{"$f":"+'Multiplicatoria inversa'!F318","v":10.442209930738281},{"$f":"+C318-D318-F318-AC308","v":-1.2868044679997794},{"$f":"+IF(L318=AB311,1,VLOOKUP(AB311,'Multiplicatoria inversa'!E309:AK338,L318+4,FALSE))*P318","v":-1.5328377888659424},{"$f":"IF(L318<25-Z307+1,(C318-D318-F318-AF314)*((1+AF310)/(1+AF309))^L318,0)","v":0.17075858426515994},{"$f":"+C318-D318-F318-AG308","v":-1.2635527440064873},51.741921684500788,{"$f":"+M318*U317+AB308","v":49.114003716560802},49.114085320044367,{"$f":"+M318*W317+AF308","v":47.69135766621725},49.380136427227164]
[2035,{"$f":"+B286","v":-1.0571428571428587},20.142857142857142,3.7285714285714282,13.585714285714287,3.8857142857142861,6.1300452985096551E-2,3.0800000000000001E-2,20.142857142857142,21.200000000000003,3.1285714285714277,11,1.0295891084449909,{"$f":"+PRODUCT(M308:M319)","v":1.3781717292374498},{"$f":"+'Multiplicatoria inversa'!F319","v":11.780774721229246},{"$f":"+C319-D319-F319-AC308","v":-1.2868044679997794},{"$f":"+IF(L319=AB311,1,VLOOKUP(AB311,'Multiplicatoria inversa'!E309:AK338,L319+4,FALSE))*P319","v":-1.488785940229125},{"$f":"IF(L319<25-Z307+1,(C319-D319-F319-AF314)*((1+AF310)/(1+AF309))^L319,0)","v":0.16585119526279768},{"$f":"+C319-D319-F319-AG308","v":-1.2635527440064873},52.215776159232846,{"$f":"+M319*U318+AB308","v":49.280431698904074},49.280522848755915,{"$f":"+M319*W318+AF308","v":47.69135766621725},49.577697894994344,null,null,"g",{"$f":"IFERROR(ABS(AB315)+ABS(AC315),0)","v":1.0205290360332242E-3}]
[2036,{"$f":"+B287","v":-1.0571428571428587},20.142857142857142,3.7285714285714282,13.585714285714287,3.8857142857142861,6.1300452985096551E-2,3.0800000000000001E-2,20.142857142857142,21.200000000000003,3.1285714285714277,12,1.0295891084449909,{"$f":"+PRODUCT(M308:M320)","v":1.4189506019896774},{"$f":"+'Multiplicatoria inversa'!F320","v":13.158946450466697},{"$f":"+C320-D320-F320-AC308","v":-1.2868044679997794},{"$f":"+IF(L320=AB311,1,VLOOKUP(AB311,'Multiplicatoria inversa'!E309:AK338,L320+4,FALSE))*P320","v":-1.4460000868479159},{"$f":"IF(L320<25-Z307+1,(C320-D320-F320-AF314)*((1+AF310)/(1+AF309))^L320,0)","v":0.16108483850735961},{"$f":"+C320-D320-F320-AG308","v":-1.2635527440064873},52.703651565404897,{"$f":"+M320*U319+AB308","v":49.451784136865179},49.451885115553821,{"$f":"+M320*W319+AF308","v":47.69135766621725},49.781105030455841,null,null,null,"Pronosticada"]
[2037,{"$f":"+B288","v":-1.0571428571428587},20.142857142857142,3.7285714285714282,13.585714285714287,3.8857142857142861,6.1300452985096551E-2,3.0800000000000001E-2,20.142857142857142,21.200000000000003,3.1285714285714277,13,1.0295891084449909,{"$f":"+PRODUCT(M308:M321)","v":1.460936085230035},{"$f":"+'Multiplicatoria inversa'!F321","v":14.577897052456374},{"$f":"+C321-D321-F321-AC308","v":-1.2868044679997794},{"$f":"+IF(L321=AB311,1,VLOOKUP(AB311,'Multiplicatoria inversa'!E309:AK338,L321+4,FALSE))*P321","v":-1.4044438455956851},{"$f":"IF(L321<25-Z307+1,(C321-D321-F321-AF314)*((1+AF310)/(1+AF309))^L321,0)","v":0.15645546090774917},{"$f":"+C321-D321-F321-AG308","v":-1.2635527440064873},53.205962769877814,{"$f":"+M321*U320+AB308","v":49.628206740695433},49.628317839047391,{"$f":"+M321*W320+AF308","v":47.69135766621725},49.990530801706988,null,null,"b_t_star dc (finito)","Ajuste al déficit primario"]
[2038,{"$f":"+B289","v":-1.0571428571428587},20.142857142857142,3.7285714285714282,13.585714285714287,3.8857142857142861,6.1300452985096551E-2,3.0800000000000001E-2,20.142857142857142,21.200000000000003,3.1285714285714277,14,1.0295891084449909,{"$f":"+PRODUCT(M308:M322)","v":1.504163881487107},{"$f":"+'Multiplicatoria inversa'!F322","v":16.038833137686407},{"$f":"+C322-D322-F322-AC308","v":-1.2868044679997794},{"$f":"+IF(L322=AB311,1,VLOOKUP(AB311,'Multiplicatoria inversa'!E309:AK338,L322+4,FALSE))*P322","v":-1.3640818789515412},{"$f":"IF(L322<25-Z307+1,(C322-D322-F322-AF314)*((1+AF310)/(1+AF309))^L322,0)","v":0.15195912585365925},{"$f":"+C322-D322-F322-AG308","v":-1.2635527440064873},53.723136915053018,{"$f":"+M322*U321+AB308","v":49.809849532082566},49.809971049529658,{"$f":"+M322*W321+AF308","v":47.69135766621725},50.206153294814861,null,null,"b_t_star tau  (finito)","Ajuste al ingreso tributario"]
[2039,{"$f":"+B290","v":-1.0571428571428587},20.142857142857142,3.7285714285714282,13.585714285714287,3.8857142857142861,6.1300452985096551E-2,3.0800000000000001E-2,20.142857142857142,21.200000000000003,3.1285714285714277,15,1.0295891084449909,{"$f":"+PRODUCT(M308:M323)","v":1.5486707496954675},{"$f":"+'Multiplicatoria inversa'!F323","v":17.542997019173512},{"$f":"+C323-D323-F323-AC308","v":-1.2868044679997794},{"$f":"+IF(L323=AB311,1,VLOOKUP(AB311,'Multiplicatoria inversa'!E309:AK338,L323+4,FALSE))*P323","v":-1.3248798649509237},{"$f":"IF(L323<25-Z307+1,(C323-D323-F323-AF314)*((1+AF310)/(1+AF309))^L323,0)","v":0.14759200986805909},{"$f":"+C323-D323-F323-AG308","v":-1.2635527440064873},54.255613782094755,{"$f":"+M323*U322+AB308","v":49.996866971722305},49.996999216556269,{"$f":"+M323*W322+AF308","v":47.69135766621725},50.428155865254482,null,null,"b_t_star dc (infinito)","Ajuste al déficit primario"]
[2040,{"$f":"+B291","v":-1.0571428571428587},20.142857142857142,3.7285714285714282,13.585714285714287,3.8857142857142861,6.1300452985096551E-2,3.0800000000000001E-2,20.142857142857142,21.200000000000003,3.1285714285714277,16,1.0295891084449909,{"$f":"+PRODUCT(M308:M324)","v":1.5944945364537919},{"$f":"+'Multiplicatoria inversa'!F324","v":19.09166776886898},{"$f":"+C324-D324-F324-AC308","v":-1.2868044679997794},{"$f":"+IF(L324=AB311,1,VLOOKUP(AB311,'Multiplicatoria inversa'!E309:AK338,L324+4,FALSE))*P324","v":-1.2868044679997794},{"$f":"IF(L324<25-Z307+1,(C324-D324-F324-AF314)*((1+AF310)/(1+AF309))^L324,0)","v":0},{"$f":"+C324-D324-F324-AG308","v":-1.2635527440064873},54.803846164899838,{"$f":"+M324*U323+AB308","v":50.189418090664645},50.189561380299295,{"$f":"+M324*W323+AF308","v":47.69135766621725},50.656727293825909,null,null,"b_t_star tau  (infinito)","Ajuste al ingreso tributario"]
[2041,{"$f":"+B292","v":-1.0571428571428587},20.142857142857142,3.7285714285714282,13.585714285714287,3.8857142857142861,6.1300452985096551E-2,3.0800000000000001E-2,20.142857142857142,21.200000000000003,3.1285714285714277,17,1.0295891084449909,{"$f":"+PRODUCT(M308:M325)","v":1.6416742082078686},{"$f":"+'Multiplicatoria inversa'!F325","v":20.686162305322775},{"$f":"+C325-D325-F325-AC308","v":-1.2868044679997794},{"$f":"+IF(L325=AB311,1,VLOOKUP(AB311,'Multiplicatoria inversa'!E309:AK338,L325+4,FALSE))*P325","v":0},{"$f":"IF(L325<25-Z307+1,(C325-D325-F325-AF314)*((1+AF310)/(1+AF309))^L325,0)","v":0},{"$f":"+C325-D325-F325-AG308","v":-1.2635527440064873},55.368300255132802,{"$f":"+M325*U324+AB308","v":50.387666625546579},50.38782128678772,{"$f":"+M325*W324+AF308","v":47.69135766621725},50.892061947184764]
[2042,{"$f":"+B293","v":-1.0571428571428587},20.142857142857142,3.7285714285714282,13.585714285714287,3.8857142857142861,6.1300452985096551E-2,3.0800000000000001E-2,20.142857142857142,21.200000000000003,3.1285714285714277,18,1.0295891084449909,{"$f":"+PRODUCT(M308:M326)","v":1.6902498843858758},{"$f":"+'Multiplicatoria inversa'!F326","v":22.327836513530645},{"$f":"+C326-D326-F326-AC308","v":-1.2868044679997794},{"$f":"+IF(L326=AB311,1,VLOOKUP(AB311,'Multiplicatoria inversa'!E309:AK338,L326+4,FALSE))*P326","v":0},{"$f":"IF(L326<25-Z307+1,(C326-D326-F326-AF314)*((1+AF310)/(1+AF309))^L326,0)","v":0},{"$f":"+C326-D326-F326-AG308","v":-1.2635527440064873},55.949456038653885,{"$f":"+M326*U325+AB308","v":50.59178115782619},50.591947527149522,{"$f":"+M326*W325+AF308","v":47.69135766621725},51.134359943122718]
[2043,{"$f":"+B294","v":-1.0571428571428587},20.142857142857142,3.7285714285714282,13.585714285714287,3.8857142857142861,6.1300452985096551E-2,3.0800000000000001E-2,20.142857142857142,21.200000000000003,3.1285714285714277,19,1.0295891084449909,{"$f":"+PRODUCT(M308:M327)","v":1.7402628715141026},{"$f":"+'Multiplicatoria inversa'!F327","v":24.01808639791652},{"$f":"+C327-D327-F327-AC308","v":-1.2868044679997794},{"$f":"+IF(L327=AB311,1,VLOOKUP(AB311,'Multiplicatoria inversa'!E309:AK338,L327+4,FALSE))*P327","v":0},{"$f":"IF(L327<25-Z307+1,(C327-D327-F327-AF314)*((1+AF310)/(1+AF309))^L327,0)","v":0},{"$f":"+C327-D327-F327-AG308","v":-1.2635527440064873},56.547807703677009,{"$f":"+M327*U326+AB308","v":50.801935257136627},50.802113680973854,{"$f":"+M327*W326+AF308","v":47.69135766621725},51.383827320738483]
[2044,{"$f":"+B295","v":-1.0571428571428587},20.142857142857142,3.7285714285714282,13.585714285714287,3.8857142857142861,6.1300452985096551E-2,3.0800000000000001E-2,20.142857142857142,21.200000000000003,3.1285714285714277,20,1.0295891084449909,{"$f":"+PRODUCT(M308:M328)","v":1.7917556983421246},{"$f":"+'Multiplicatoria inversa'!F328","v":25.758349269430624},{"$f":"+C328-D328-F328-AC308","v":-1.2868044679997794},{"$f":"+IF(L328=AB311,1,VLOOKUP(AB311,'Multiplicatoria inversa'!E309:AK338,L328+4,FALSE))*P328","v":0},{"$f":"IF(L328<25-Z307+1,(C328-D328-F328-AF314)*((1+AF310)/(1+AF309))^L328,0)","v":0},{"$f":"+C328-D328-F328-AG308","v":-1.2635527440064873},57.163864061004737,{"$f":"+M328*U327+AB308","v":51.018307628881715},51.018498463915165,{"$f":"+M328*W327+AF308","v":47.69135766621725},51.640676215644007]
[2045,{"$f":"+B296","v":-1.0571428571428587},20.142857142857142,3.7285714285714282,13.585714285714287,3.8857142857142861,6.1300452985096551E-2,3.0800000000000001E-2,20.142857142857142,21.200000000000003,3.1285714285714277,21,1.0295891084449909,{"$f":"+PRODUCT(M308:M329)","v":1.8447721520072999},{"$f":"+'Multiplicatoria inversa'!F329","v":27.550104967772747},{"$f":"+C329-D329-F329-AC308","v":-1.2868044679997794},{"$f":"+IF(L329=AB311,1,VLOOKUP(AB311,'Multiplicatoria inversa'!E309:AK338,L329+4,FALSE))*P329","v":0},{"$f":"IF(L329<25-Z307+1,(C329-D329-F329-AF314)*((1+AF310)/(1+AF309))^L329,0)","v":0},{"$f":"+C329-D329-F329-AG308","v":-1.2635527440064873},57.798148976697668,{"$f":"+M329*U328+AB308","v":51.241082266198873},51.241285879664773,{"$f":"+M329*W328+AF308","v":47.69135766621725},51.905125040354868]
[2046,{"$f":"+B297","v":0},0,0,0,0,0,0,0,0,0,22,1,{"$f":"+PRODUCT(M308:M330)","v":1.8447721520072999},{"$f":"+'Multiplicatoria inversa'!F330","v":28.550104967772747},{"$f":"+C330-D330-F330-AC308","v":-13.815375896571208},{"$f":"+IF(L330=AB311,1,VLOOKUP(AB311,'Multiplicatoria inversa'!E309:AK338,L330+4,FALSE))*P330","v":0},{"$f":"IF(L330<25-Z307+1,(C330-D330-F330-AF314)*((1+AF310)/(1+AF309))^L330,0)","v":0},{"$f":"+C330-D330-F330-AG308","v":-13.792124172577916},57.798148976697668,{"$f":"+M330*U329+AB308","v":49.954270666405144},37.425909983093561,{"$f":"+M330*W329+AF308","v":46.280212912342705},38.113000867776954]
[2047,{"$f":"+B298","v":0},0,0,0,0,0,0,0,0,0,23,1,{"$f":"+PRODUCT(M308:M331)","v":1.8447721520072999},{"$f":"+'Multiplicatoria inversa'!F331","v":29.550104967772747},{"$f":"+C331-D331-F331-AC308","v":-13.815375896571208},{"$f":"+IF(L331=AB311,1,VLOOKUP(AB311,'Multiplicatoria inversa'!E309:AK338,L331+4,FALSE))*P331","v":0},{"$f":"IF(L331<25-Z307+1,(C331-D331-F331-AF314)*((1+AF310)/(1+AF309))^L331,0)","v":0},{"$f":"+C331-D331-F331-AG308","v":-13.792124172577916},57.798148976697668,{"$f":"+M331*U330+AB308","v":48.667459066611414},23.610534086522353,{"$f":"+M331*W330+AF308","v":44.86906815846816},24.32087669519904]
[2048,{"$f":"+B299","v":0},0,0,0,0,0,0,0,0,0,24,1,{"$f":"+PRODUCT(M308:M332)","v":1.8447721520072999},{"$f":"+'Multiplicatoria inversa'!F332","v":30.550104967772747},{"$f":"+C332-D332-F332-AC308","v":-13.815375896571208},{"$f":"+IF(L332=AB311,1,VLOOKUP(AB311,'Multiplicatoria inversa'!E309:AK338,L332+4,FALSE))*P332","v":0},{"$f":"IF(L332<25-Z307+1,(C332-D332-F332-AF314)*((1+AF310)/(1+AF309))^L332,0)","v":0},{"$f":"+C332-D332-F332-AG308","v":-13.792124172577916},57.798148976697668,{"$f":"+M332*U331+AB308","v":47.380647466817685},9.7951581899511453,{"$f":"+M332*W331+AF308","v":43.457923404593615},10.528752522621124]
[2049,{"$f":"+B300","v":0},0,0,0,0,0,0,0,0,0,25,1,{"$f":"+PRODUCT(M308:M333)","v":1.8447721520072999},{"$f":"+'Multiplicatoria inversa'!F333","v":31.550104967772747},{"$f":"+C333-D333-F333-AC308","v":-13.815375896571208},{"$f":"+IF(L333=AB311,1,VLOOKUP(AB311,'Multiplicatoria inversa'!E309:AK338,L333+4,FALSE))*P333","v":0},{"$f":"IF(L333<25-Z307+1,(C333-D333-F333-AF314)*((1+AF310)/(1+AF309))^L333,0)","v":0},{"$f":"+C333-D333-F333-AG308","v":-13.792124172577916},57.798148976697668,{"$f":"+M333*U332+AB308","v":46.093835867023955},-4.0202177066200626,{"$f":"+M333*W332+AF308","v":42.04677865071907},-3.2633716499567917]
[2050,{"$f":"+B301","v":0},0,0,0,0,0,0,0,0,0,26,1,{"$f":"+PRODUCT(M308:M334)","v":1.8447721520072999},{"$f":"+'Multiplicatoria inversa'!F334","v":32.550104967772747},{"$f":"+C334-D334-F334-AC308","v":-13.815375896571208},{"$f":"+IF(L334=AB311,1,VLOOKUP(AB311,'Multiplicatoria inversa'!E309:AK338,L334+4,FALSE))*P334","v":0},{"$f":"IF(L334<25-Z307+1,(C334-D334-F334-AF314)*((1+AF310)/(1+AF309))^L334,0)","v":0},{"$f":"+C334-D334-F334-AG308","v":-13.792124172577916},57.798148976697668,{"$f":"+M334*U333+AB308","v":44.807024267230226},-17.835593603191271,{"$f":"+M334*W333+AF308","v":40.635633896844524},-17.055495822534709]
[2051,{"$f":"+B302","v":0},0,0,0,0,0,0,0,0,0,27,1,{"$f":"+PRODUCT(M308:M335)","v":1.8447721520072999},{"$f":"+'Multiplicatoria inversa'!F335","v":33.550104967772747},{"$f":"+C335-D335-F335-AC308","v":-13.815375896571208},{"$f":"+IF(L335=AB311,1,VLOOKUP(AB311,'Multiplicatoria inversa'!E309:AK338,L335+4,FALSE))*P335","v":0},{"$f":"IF(L335<25-Z307+1,(C335-D335-F335-AF314)*((1+AF310)/(1+AF309))^L335,0)","v":0},{"$f":"+C335-D335-F335-AG308","v":-13.792124172577916},57.798148976697668,{"$f":"+M335*U334+AB308","v":43.520212667436496},-31.650969499762478,{"$f":"+M335*W334+AF308","v":39.224489142969979},-30.847619995112623]
[2052,{"$f":"+B303","v":0},0,0,0,0,0,0,0,0,0,28,1,{"$f":"+PRODUCT(M308:M336)","v":1.8447721520072999},{"$f":"+'Multiplicatoria inversa'!F336","v":34.550104967772747},{"$f":"+C336-D336-F336-AC308","v":-13.815375896571208},{"$f":"+IF(L336=AB311,1,VLOOKUP(AB311,'Multiplicatoria inversa'!E309:AK338,L336+4,FALSE))*P336","v":0},{"$f":"IF(L336<25-Z307+1,(C336-D336-F336-AF314)*((1+AF310)/(1+AF309))^L336,0)","v":0},{"$f":"+C336-D336-F336-AG308","v":-13.792124172577916},57.798148976697668,{"$f":"+M336*U335+AB308","v":42.233401067642767},-45.466345396333686,{"$f":"+M336*W335+AF308","v":37.813344389095434},-44.639744167690537]
[2053,{"$f":"+B304","v":0},0,0,0,0,0,0,0,0,0,29,1,{"$f":"+PRODUCT(M308:M337)","v":1.8447721520072999},{"$f":"+'Multiplicatoria inversa'!F337","v":35.550104967772747},{"$f":"+C337-D337-F337-AC308","v":-13.815375896571208},{"$f":"+IF(L337=AB311,1,VLOOKUP(AB311,'Multiplicatoria inversa'!E309:AK338,L337+4,FALSE))*P337","v":0},{"$f":"IF(L337<25-Z307+1,(C337-D337-F337-AF314)*((1+AF310)/(1+AF309))^L337,0)","v":0},{"$f":"+C337-D337-F337-AG308","v":-13.792124172577916},57.798148976697668,{"$f":"+M337*U336+AB308","v":40.946589467849037},-59.281721292904891,{"$f":"+M337*W336+AF308","v":36.402199635220889},-58.431868340268451]
[2054,{"$f":"+B305","v":0},0,0,0,0,0,0,0,0,0,30,1,{"$f":"+PRODUCT(M308:M338)","v":1.8447721520072999},{"$f":"+'Multiplicatoria inversa'!F338","v":36.550104967772747},{"$f":"+C338-D338-F338-AC308","v":-13.815375896571208},null,{"$f":"IF(L338<25-Z307+1,(C338-D338-F338-AF314)*((1+AF310)/(1+AF309))^L338,0)","v":0},{"$f":"+C338-D338-F338-AG308","v":-13.792124172577916},57.798148976697668,{"$f":"+M338*U337+AB308","v":39.659777868055308},-73.097097189476102,{"$f":"+M338*W337+AF308","v":34.991054881346344},-72.223992512846365]
[]
[]
[" Fecha(Anual) ","dp_t","g_t","ip_t","tau_t","i_otros_t ","r_t","c_y_t","Gasto__neto","I_presupuestarios","Costo_finan","t","1+r_t / 1+c_y_t","Multiplicatoria simple","Multiplicatoria inversa","gt - ipt - iotros  - tau_s","(gt - ipt - iotros + tau_s)","(gt - ipt - iotros - omega)(1+r/1+c_y)^t","gt - ipt - iotros  - tau_s (inf)","b_t","b_t_star dc (finito)","b_t_star tau  (finito)","b_t_star dc (infinito)","b_t_star tau  (infinito)",null,11,"H Finito","pd_s","tau_s",null,"H infinito","pd_s","tau_s"]
[{"$f":"+A309","v":2025},null,null,null,null,null,null,null,null,null,null,0,{"$f":"(1+G342)/(1+H342)","v":1},null,null,null,null,null,null,{"$f":"+T309","v":48.045359562948939},{"$f":"+T342","v":48.045359562948939},{"$f":"+T342","v":48.045359562948939},{"$f":"+T342","v":48.045359562948939},{"$f":"+T342","v":48.045359562948939},null,null,null,{"$f":"+AN13","v":-1.3059247364038853},{"$f":"+AO13","v":13.83453123757319},null,null,{"$f":"+(AF343-AF344)/(1+AF344)*(-AB343)","v":-1.4216193543866735},{"$f":"+AF351","v":13.798231657104443}]
[{"$f":"+A342+1","v":2026},{"$f":"+B310","v":-1.0571428571428587},{"$f":"+C310","v":20.142857142857142},3.7285714285714282,13.585714285714287,3.8857142857142861,6.1300452985096551E-2,3.0800000000000001E-2,20.142857142857142,21.200000000000003,3.1285714285714277,1,{"$f":"(1+G343)/(1+H343)","v":1.0295891084449909},{"$f":"+PRODUCT(M342:M343)","v":1.0295891084449909},{"$f":"+'Multiplicatoria inversa'!F343","v":0},{"$f":"+C343-D343-F343-AC342","v":-1.3059598090017612},{"$f":"+IF(L343=AB345,1,VLOOKUP(AB345,'Multiplicatoria inversa'!E343:AK372,L343+4,FALSE))*P343","v":-1.9643775753742501},{"$f":"IF(L343<25-Z341+1,(C343-D343-F343-AF348)*((1+AF344)/(1+AF343))^L343,0)","v":0.22200257043962304},{"$f":"+C343-D343-F343-AG342","v":-1.2696602285330147},{"$f":"+M343*T342+B343","v":48.40983606019276},{"$f":"+M343*U342+AB342","v":48.161054180931728},{"$f":"+M343*V342+P343","v":48.161019108333853},{"$f":"+M343*W342+AF342","v":48.045359562948946},{"$f":"+M343*X342+S343","v":48.197318688802604},null,null,"b_0",{"$f":"+U342","v":48.045359562948939},{"$f":"+AB343","v":48.045359562948939},null,"r",{"$f":"+AF309","v":6.1300452985096551E-2}]
[{"$f":"+A343+1","v":2027},{"$f":"+B311","v":-1.0571428571428587},20.142857142857142,3.7285714285714282,13.585714285714287,3.8857142857142861,6.1300452985096551E-2,3.0800000000000001E-2,20.142857142857142,21.200000000000003,3.1285714285714277,{"$f":"+L343+1","v":2},{"$f":"(1+G344)/(1+H344)","v":1.0295891084449909},{"$f":"+PRODUCT(M342:M344)","v":1.060053732228551},{"$f":"+'Multiplicatoria inversa'!F344","v":1.0295891084449909},{"$f":"+C344-D344-F344-AC342","v":-1.3059598090017612},{"$f":"+IF(L344=AB345,1,VLOOKUP(AB345,'Multiplicatoria inversa'!E343:AK372,L344+4,FALSE))*P344","v":-1.9079238108307974},{"$f":"IF(L344<25-Z341+1,(C344-D344-F344-AF348)*((1+AF344)/(1+AF343))^L344,0)","v":0.21562249310787485},{"$f":"+C344-D344-F344-AG342","v":-1.2696602285330147},48.785097092039173,{"$f":"+M344*U343+AB342","v":48.280172099512512},48.280100916549856,{"$f":"+M344*W343+AF342","v":48.045359562948953},48.353774149710354,null,null,"b_T",{"$f":"+AB310","v":50.19},{"$f":"+AC310","v":50.19},null,"c_y",{"$f":"+AF310","v":3.0800000000000001E-2}]
[2028,{"$f":"+B312","v":-1.0571428571428587},20.142857142857142,3.7285714285714282,13.585714285714287,3.8857142857142861,6.1300452985096551E-2,3.0800000000000001E-2,20.142857142857142,21.200000000000003,3.1285714285714277,{"$f":"+L344+1","v":3},1.0295891084449909,{"$f":"+PRODUCT(M342:M345)","v":1.0914197770689789},{"$f":"+'Multiplicatoria inversa'!F345","v":2.0896428406735419},{"$f":"+C345-D345-F345-AC342","v":-1.3059598090017612},{"$f":"+IF(L345=AB345,1,VLOOKUP(AB345,'Multiplicatoria inversa'!E343:AK372,L345+4,FALSE))*P345","v":-1.8530924571573733},{"$f":"IF(L345<25-Z341+1,(C345-D345-F345-AF348)*((1+AF344)/(1+AF343))^L345,0)","v":0.20942577125114875},{"$f":"+C345-D345-F345-AG342","v":-1.2696602285330147},49.171461763252069,{"$f":"+M345*U344+AB342","v":48.402814611103921},48.402706249302987,{"$f":"+M345*W344+AF342","v":48.04535956294896},48.514858988217718,null,null,"T",{"$f":"+AB311-1","v":15},{"$f":"+AB345","v":15},null,"g ",{"$f":"+AF311","v":20.100000000000001}]
[2029,{"$f":"+B313","v":-1.0571428571428587},20.142857142857142,3.7285714285714282,13.585714285714287,3.8857142857142861,6.1300452985096551E-2,3.0800000000000001E-2,20.142857142857142,21.200000000000003,3.1285714285714277,4,1.0295891084449909,{"$f":"+PRODUCT(M342:M346)","v":1.1237139152116806},{"$f":"+'Multiplicatoria inversa'!F346","v":3.1810626177425205},{"$f":"+C346-D346-F346-AC342","v":-1.3059598090017612},{"$f":"+IF(L346=AB345,1,VLOOKUP(AB345,'Multiplicatoria inversa'!E343:AK372,L346+4,FALSE))*P346","v":-1.799836888286567},{"$f":"IF(L346<25-Z341+1,(C346-D346-F346-AF348)*((1+AF344)/(1+AF343))^L346,0)","v":0.20340713546149369},{"$f":"+C346-D346-F346-AG342","v":-1.2696602285330147},49.569258620620801,{"$f":"+M346*U345+AB342","v":48.529086005270777},48.528939364542886,{"$f":"+M346*W345+AF342","v":48.045359562948967},48.680710183480521,null,null,"Pi_t b_0",{"$f":"+VLOOKUP(AB345,L343:N372,3,FALSE)*AB343","v":74.406443013740429},{"$f":"+AB346","v":74.406443013740429},null,"ip",{"$f":"+AF312","v":3.9}]
[2030,{"$f":"+B314","v":-1.0571428571428587},20.142857142857142,3.7285714285714282,13.585714285714287,3.8857142857142861,6.1300452985096551E-2,3.0800000000000001E-2,20.142857142857142,21.200000000000003,3.1285714285714277,5,1.0295891084449909,{"$f":"+PRODUCT(M342:M347)","v":1.1569636081100243},{"$f":"+'Multiplicatoria inversa'!F347","v":4.3047765329542012},{"$f":"+C347-D347-F347-AC342","v":-1.3059598090017612},{"$f":"+IF(L347=AB345,1,VLOOKUP(AB345,'Multiplicatoria inversa'!E343:AK372,L347+4,FALSE))*P347","v":-1.7481118181260646},{"$f":"IF(L347<25-Z341+1,(C347-D347-F347-AF348)*((1+AF344)/(1+AF343))^L347,0)","v":0.19756146776717906},{"$f":"+C347-D347-F347-AG342","v":-1.2696602285330147},49.978825932341287,{"$f":"+M347*U346+AB342","v":48.659093657413131},48.658907605118969,{"$f":"+M347*W346+AF342","v":48.045359562948974},48.851468767745686,null,null,"sum dpt",{"$f":"+VLOOKUP(AB345,L343:O372,4,FALSE)","v":17.542997019173512},{"$f":"+SUM(Q343:Q371)","v":-24.216408845480075},null,"iotros",3.9000000000000021]
[2031,{"$f":"+B315","v":-1.0571428571428587},20.142857142857142,3.7285714285714282,13.585714285714287,3.8857142857142861,6.1300452985096551E-2,3.0800000000000001E-2,20.142857142857142,21.200000000000003,3.1285714285714277,6,1.0295891084449909,{"$f":"+PRODUCT(M342:M348)","v":1.1911971297772996},{"$f":"+'Multiplicatoria inversa'!F348","v":5.4617401410642259},{"$f":"+C348-D348-F348-AC342","v":-1.3059598090017612},{"$f":"+IF(L348=AB345,1,VLOOKUP(AB345,'Multiplicatoria inversa'!E343:AK372,L348+4,FALSE))*P348","v":-1.6978732620494337},{"$f":"IF(L348<25-Z341+1,(C348-D348-F348-AF348)*((1+AF344)/(1+AF343))^L348,0)","v":0.19188379728060656},{"$f":"+C348-D348-F348-AG342","v":-1.2696602285330147},50.400511975663797,{"$f":"+M348*U347+AB342","v":48.792948120073405},48.792721490059861,{"$f":"+M348*W347+AF342","v":48.045359562948981},49.027279946278583,null,null,"f",{"$f":"+AB346+AB342*(AB347+1)","v":50.190684519338234},{"$f":"+AC346+AC347","v":50.190034168260354},null,"omega",12.3]
[2032,{"$f":"+B316","v":-1.0571428571428587},20.142857142857142,3.7285714285714282,13.585714285714287,3.8857142857142861,6.1300452985096551E-2,3.0800000000000001E-2,20.142857142857142,21.200000000000003,3.1285714285714277,7,1.0295891084449909,{"$f":"+PRODUCT(M342:M349)","v":1.226443590829642},{"$f":"+'Multiplicatoria inversa'!F349","v":6.6529372708415249},{"$f":"+C349-D349-F349-AC342","v":-1.3059598090017612},{"$f":"+IF(L349=AB345,1,VLOOKUP(AB345,'Multiplicatoria inversa'!E343:AK372,L349+4,FALSE))*P349","v":-1.6490784994936141},{"$f":"IF(L349<25-Z341+1,(C349-D349-F349-AF348)*((1+AF344)/(1+AF343))^L349,0)","v":0.18636929597129531},{"$f":"+C349-D349-F349-AG342","v":-1.2696602285330147},50.834675333051919,{"$f":"+M349*U348+AB342","v":48.930763216945181},48.930494808553718,{"$f":"+M349*W348+AF342","v":48.045359562948988},49.208293220838932,null,null,"dif",{"$f":"+AB344-AB348","v":-6.8451933823610034E-4},{"$f":"+AC344-AC348","v":-3.4168260356182145E-5},null,"25 se vuelve constante"]
[2033,{"$f":"+B317","v":-1.0571428571428587},20.142857142857142,3.7285714285714282,13.585714285714287,3.8857142857142861,6.1300452985096551E-2,3.0800000000000001E-2,20.142857142857142,21.200000000000003,3.1285714285714277,8,1.0295891084449909,{"$f":"+PRODUCT(M342:M350)","v":1.2627329632403643},{"$f":"+'Multiplicatoria inversa'!F350","v":7.8793808616711676},{"$f":"+C350-D350-F350-AC342","v":-1.3059598090017612},{"$f":"+IF(L350=AB345,1,VLOOKUP(AB345,'Multiplicatoria inversa'!E343:AK372,L350+4,FALSE))*P350","v":-1.6016860376313136},{"$f":"IF(L350<25-Z341+1,(C350-D350-F350-AF348)*((1+AF344)/(1+AF343))^L350,0)","v":0.18101327456034635},{"$f":"+C350-D350-F350-AG342","v":-1.2696602285330147},51.281685197104636,{"$f":"+M350*U349+AB342","v":49.07265613966365},49.07234471670931,{"$f":"+M350*W349+AF342","v":48.045359562948995},49.394662516810229,null,null,"Validar",{"$f":"+VLOOKUP(AB345,L343:U372,10,FALSE)","v":50.190684519338163},{"$f":"+VLOOKUP(AC345,L343:V372,11,FALSE)","v":50.190034168260333},null,"sum 1 a 24",{"$f":"+SUM(R343:R366)","v":2.5892061891691882}]
[2034,{"$f":"+B318","v":-1.0571428571428587},20.142857142857142,3.7285714285714282,13.585714285714287,3.8857142857142861,6.1300452985096551E-2,3.0800000000000001E-2,20.142857142857142,21.200000000000003,3.1285714285714277,9,1.0295891084449909,{"$f":"+PRODUCT(M342:M351)","v":1.3000961058267482},{"$f":"+'Multiplicatoria inversa'!F351","v":9.142113824911533},{"$f":"+C351-D351-F351-AC342","v":-1.3059598090017612},{"$f":"+IF(L351=AB345,1,VLOOKUP(AB345,'Multiplicatoria inversa'!E343:AK372,L351+4,FALSE))*P351","v":-1.5556555760874085},{"$f":"IF(L351<25-Z341+1,(C351-D351-F351-AF348)*((1+AF344)/(1+AF343))^L351,0)","v":0.17581117853289488},{"$f":"+C351-D351-F351-AG342","v":-1.2696602285330147},51.741921684500788,{"$f":"+M351*U350+AB342","v":49.218747547460012},49.218391837180235,{"$f":"+M351*W350+AF342","v":48.045359562949002},49.586546314090839,null,null,null,{"$f":"+IFERROR(ABS(AB350/AB344)-1,0)","v":1.3638560234507935E-5},{"$f":"+IFERROR(ABS(AC350/AC344)-1,0)","v":6.8077824932899489E-7},null,"f",{"$f":"+(AF350+AB343)*(AF343-AF344)/(1+AF344)+AF348","v":13.798231657104443}]
[2035,{"$f":"+B319","v":-1.0571428571428587},20.142857142857142,3.7285714285714282,13.585714285714287,3.8857142857142861,6.1300452985096551E-2,3.0800000000000001E-2,20.142857142857142,21.200000000000003,3.1285714285714277,10,1.0295891084449909,{"$f":"+PRODUCT(M342:M352)","v":1.3385647904909661},{"$f":"+'Multiplicatoria inversa'!F352","v":10.442209930738281},{"$f":"+C352-D352-F352-AC342","v":-1.3059598090017612},{"$f":"+IF(L352=AB345,1,VLOOKUP(AB345,'Multiplicatoria inversa'!E343:AK372,L352+4,FALSE))*P352","v":-1.5109479726693558},{"$f":"IF(L352<25-Z341+1,(C352-D352-F352-AF348)*((1+AF344)/(1+AF343))^L352,0)","v":0.17075858426515994},{"$f":"+C352-D352-F352-AG342","v":-1.2696602285330147},52.215776159232846,{"$f":"+M352*U351+AB342","v":49.369161669764544},49.368760361736854,{"$f":"+M352*W351+AF342","v":48.04535956294901},49.784107781858019]
[2036,{"$f":"+B320","v":-1.0571428571428587},20.142857142857142,3.7285714285714282,13.585714285714287,3.8857142857142861,6.1300452985096551E-2,3.0800000000000001E-2,20.142857142857142,21.200000000000003,3.1285714285714277,11,1.0295891084449909,{"$f":"+PRODUCT(M342:M353)","v":1.3781717292374498},{"$f":"+'Multiplicatoria inversa'!F353","v":11.780774721229246},{"$f":"+C353-D353-F353-AC342","v":-1.3059598090017612},{"$f":"+IF(L353=AB345,1,VLOOKUP(AB345,'Multiplicatoria inversa'!E343:AK372,L353+4,FALSE))*P353","v":-1.4675252100824678},{"$f":"IF(L353<25-Z341+1,(C353-D353-F353-AF348)*((1+AF344)/(1+AF343))^L353,0)","v":0.16585119526279768},{"$f":"+C353-D353-F353-AG342","v":-1.2696602285330147},52.703651565404897,{"$f":"+M353*U352+AB342","v":49.524026411845604},49.523578156873292,{"$f":"+M353*W352+AF342","v":48.045359562949017},49.987514917319515,null,null,"g",{"$f":"IFERROR(ABS(AB349)+ABS(AC349),0)","v":7.1868759859228248E-4}]
[2037,{"$f":"+B321","v":-1.0571428571428587},20.142857142857142,3.7285714285714282,13.585714285714287,3.8857142857142861,6.1300452985096551E-2,3.0800000000000001E-2,20.142857142857142,21.200000000000003,3.1285714285714277,12,1.0295891084449909,{"$f":"+PRODUCT(M342:M354)","v":1.4189506019896774},{"$f":"+'Multiplicatoria inversa'!F354","v":13.158946450466697},{"$f":"+C354-D354-F354-AC342","v":-1.3059598090017612},{"$f":"+IF(L354=AB345,1,VLOOKUP(AB345,'Multiplicatoria inversa'!E343:AK372,L354+4,FALSE))*P354","v":-1.4253503636017484},{"$f":"IF(L354<25-Z341+1,(C354-D354-F354-AF348)*((1+AF344)/(1+AF343))^L354,0)","v":0.16108483850735961},{"$f":"+C354-D354-F354-AG342","v":-1.2696602285330147},53.205962769877814,{"$f":"+M354*U353+AB342","v":49.683473463574408},49.682976872539236,{"$f":"+M354*W353+AF342","v":48.045359562949024},50.19694068857067,null,null,null,"Pronosticada"]
[2038,{"$f":"+B322","v":-1.0571428571428587},20.142857142857142,3.7285714285714282,13.585714285714287,3.8857142857142861,6.1300452985096551E-2,3.0800000000000001E-2,20.142857142857142,21.200000000000003,3.1285714285714277,13,1.0295891084449909,{"$f":"+PRODUCT(M342:M355)","v":1.460936085230035},{"$f":"+'Multiplicatoria inversa'!F355","v":14.577897052456374},{"$f":"+C355-D355-F355-AC342","v":-1.3059598090017612},{"$f":"+IF(L355=AB345,1,VLOOKUP(AB345,'Multiplicatoria inversa'!E343:AK372,L355+4,FALSE))*P355","v":-1.3843875696728027},{"$f":"IF(L355<25-Z341+1,(C355-D355-F355-AF348)*((1+AF344)/(1+AF343))^L355,0)","v":0.15645546090774917},{"$f":"+C355-D355-F355-AG342","v":-1.2696602285330147},53.723136915053018,{"$f":"+M355*U354+AB342","v":49.847638411408049},49.847092054089011,{"$f":"+M355*W354+AF342","v":48.045359562949031},50.41256318167855,null,null,"b_t_star dc (finito)","Ajuste al déficit primario"]
[2039,{"$f":"+B323","v":-1.0571428571428587},20.142857142857142,3.7285714285714282,13.585714285714287,3.8857142857142861,6.1300452985096551E-2,3.0800000000000001E-2,20.142857142857142,21.200000000000003,3.1285714285714277,14,1.0295891084449909,{"$f":"+PRODUCT(M342:M356)","v":1.504163881487107},{"$f":"+'Multiplicatoria inversa'!F356","v":16.038833137686407},{"$f":"+C356-D356-F356-AC342","v":-1.3059598090017612},{"$f":"+IF(L356=AB345,1,VLOOKUP(AB345,'Multiplicatoria inversa'!E343:AK372,L356+4,FALSE))*P356","v":-1.3446019954151138},{"$f":"IF(L356<25-Z341+1,(C356-D356-F356-AF348)*((1+AF344)/(1+AF343))^L356,0)","v":0.15195912585365925},{"$f":"+C356-D356-F356-AG342","v":-1.2696602285330147},54.255613782094755,{"$f":"+M356*U355+AB342","v":50.016660853686005},50.016063257543131,{"$f":"+M356*W355+AF342","v":48.045359562949038},50.634565752118178,null,null,"b_t_star tau  (finito)","Ajuste al ingreso tributario"]
[2040,{"$f":"+B324","v":-1.0571428571428587},20.142857142857142,3.7285714285714282,13.585714285714287,3.8857142857142861,6.1300452985096551E-2,3.0800000000000001E-2,20.142857142857142,21.200000000000003,3.1285714285714277,15,1.0295891084449909,{"$f":"+PRODUCT(M342:M357)","v":1.5486707496954675},{"$f":"+'Multiplicatoria inversa'!F357","v":17.542997019173512},{"$f":"+C357-D357-F357-AC342","v":-1.3059598090017612},{"$f":"+IF(L357=AB345,1,VLOOKUP(AB345,'Multiplicatoria inversa'!E343:AK372,L357+4,FALSE))*P357","v":-1.3059598090017612},{"$f":"IF(L357<25-Z341+1,(C357-D357-F357-AF348)*((1+AF344)/(1+AF343))^L357,0)","v":0},{"$f":"+C357-D357-F357-AG342","v":-1.2696602285330147},54.803846164899838,{"$f":"+M357*U356+AB342","v":50.190684519338163},50.190034168260333,{"$f":"+M357*W356+AF342","v":48.045359562949045},50.863137180689613,null,null,"b_t_star dc (infinito)","Ajuste al déficit primario"]
[2041,{"$f":"+B325","v":-1.0571428571428587},20.142857142857142,3.7285714285714282,13.585714285714287,3.8857142857142861,6.1300452985096551E-2,3.0800000000000001E-2,20.142857142857142,21.200000000000003,3.1285714285714277,16,1.0295891084449909,{"$f":"+PRODUCT(M342:M358)","v":1.5944945364537919},{"$f":"+'Multiplicatoria inversa'!F358","v":19.09166776886898},{"$f":"+C358-D358-F358-AC342","v":-1.3059598090017612},{"$f":"+IF(L358=AB345,1,VLOOKUP(AB345,'Multiplicatoria inversa'!E343:AK372,L358+4,FALSE))*P358","v":0},{"$f":"IF(L358<25-Z341+1,(C358-D358-F358-AF348)*((1+AF344)/(1+AF343))^L358,0)","v":0},{"$f":"+C358-D358-F358-AG342","v":-1.2696602285330147},55.368300255132802,{"$f":"+M358*U357+AB342","v":50.369857390105295},50.369152723121019,{"$f":"+M358*W357+AF342","v":48.045359562949052},51.098471834048468,null,null,"b_t_star tau  (infinito)","Ajuste al ingreso tributario"]
[2042,{"$f":"+B326","v":-1.0571428571428587},20.142857142857142,3.7285714285714282,13.585714285714287,3.8857142857142861,6.1300452985096551E-2,3.0800000000000001E-2,20.142857142857142,21.200000000000003,3.1285714285714277,17,1.0295891084449909,{"$f":"+PRODUCT(M342:M359)","v":1.6416742082078686},{"$f":"+'Multiplicatoria inversa'!F359","v":20.686162305322775},{"$f":"+C359-D359-F359-AC342","v":-1.3059598090017612},{"$f":"+IF(L359=AB345,1,VLOOKUP(AB345,'Multiplicatoria inversa'!E343:AK372,L359+4,FALSE))*P359","v":0},{"$f":"IF(L359<25-Z341+1,(C359-D359-F359-AF348)*((1+AF344)/(1+AF343))^L359,0)","v":0},{"$f":"+C359-D359-F359-AG342","v":-1.2696602285330147},55.949456038653885,{"$f":"+M359*U358+AB342","v":50.554331826375957},50.553571236325993,{"$f":"+M359*W358+AF342","v":48.045359562949059},51.340769829986428]
[2043,{"$f":"+B327","v":-1.0571428571428587},20.142857142857142,3.7285714285714282,13.585714285714287,3.8857142857142861,6.1300452985096551E-2,3.0800000000000001E-2,20.142857142857142,21.200000000000003,3.1285714285714277,18,1.0295891084449909,{"$f":"+PRODUCT(M342:M360)","v":1.6902498843858758},{"$f":"+'Multiplicatoria inversa'!F360","v":22.327836513530645},{"$f":"+C360-D360-F360-AC342","v":-1.3059598090017612},{"$f":"+IF(L360=AB345,1,VLOOKUP(AB345,'Multiplicatoria inversa'!E343:AK372,L360+4,FALSE))*P360","v":0},{"$f":"IF(L360<25-Z341+1,(C360-D360-F360-AF348)*((1+AF344)/(1+AF343))^L360,0)","v":0},{"$f":"+C360-D360-F360-AG342","v":-1.2696602285330147},56.547807703677009,{"$f":"+M360*U359+AB342","v":50.744264696746761},50.743446528917453,{"$f":"+M360*W359+AF342","v":48.045359562949066},51.5902372076022]
[2044,{"$f":"+B328","v":-1.0571428571428587},20.142857142857142,3.7285714285714282,13.585714285714287,3.8857142857142861,6.1300452985096551E-2,3.0800000000000001E-2,20.142857142857142,21.200000000000003,3.1285714285714277,19,1.0295891084449909,{"$f":"+PRODUCT(M342:M361)","v":1.7402628715141026},{"$f":"+'Multiplicatoria inversa'!F361","v":24.01808639791652},{"$f":"+C361-D361-F361-AC342","v":-1.3059598090017612},{"$f":"+IF(L361=AB345,1,VLOOKUP(AB345,'Multiplicatoria inversa'!E343:AK372,L361+4,FALSE))*P361","v":0},{"$f":"IF(L361<25-Z341+1,(C361-D361-F361-AF348)*((1+AF344)/(1+AF343))^L361,0)","v":0},{"$f":"+C361-D361-F361-AG342","v":-1.2696602285330147},57.163864061004737,{"$f":"+M361*U360+AB342","v":50.939817511416237},50.938940062132424,{"$f":"+M361*W360+AF342","v":48.045359562949074},51.847086102507731]
[2045,{"$f":"+B329","v":-1.0571428571428587},20.142857142857142,3.7285714285714282,13.585714285714287,3.8857142857142861,6.1300452985096551E-2,3.0800000000000001E-2,20.142857142857142,21.200000000000003,3.1285714285714277,20,1.0295891084449909,{"$f":"+PRODUCT(M342:M362)","v":1.7917556983421246},{"$f":"+'Multiplicatoria inversa'!F362","v":25.758349269430624},{"$f":"+C362-D362-F362-AC342","v":-1.3059598090017612},{"$f":"+IF(L362=AB345,1,VLOOKUP(AB345,'Multiplicatoria inversa'!E343:AK372,L362+4,FALSE))*P362","v":0},{"$f":"IF(L362<25-Z341+1,(C362-D362-F362-AF348)*((1+AF344)/(1+AF343))^L362,0)","v":0},{"$f":"+C362-D362-F362-AG342","v":-1.2696602285330147},57.798148976697668,{"$f":"+M362*U361+AB342","v":51.14115655952569},51.140218074701984,{"$f":"+M362*W361+AF342","v":48.045359562949081},52.111534927218599]
[2046,{"$f":"+B330","v":0},0,0,0,0,0,0,0,0,0,21,1,{"$f":"+PRODUCT(M342:M363)","v":1.7917556983421246},{"$f":"+'Multiplicatoria inversa'!F363","v":26.758349269430624},{"$f":"+C363-D363-F363-AC342","v":-13.83453123757319},{"$f":"+IF(L363=AB345,1,VLOOKUP(AB345,'Multiplicatoria inversa'!E343:AK372,L363+4,FALSE))*P363","v":0},{"$f":"IF(L363<25-Z341+1,(C363-D363-F363-AF348)*((1+AF344)/(1+AF343))^L363,0)","v":0},{"$f":"+C363-D363-F363-AG342","v":-13.798231657104443},57.798148976697668,{"$f":"+M363*U362+AB342","v":49.835231823121802},37.305686837128796,{"$f":"+M363*W362+AF342","v":46.62374020856241},38.313303270114154]
[2047,{"$f":"+B331","v":0},0,0,0,0,0,0,0,0,0,22,1,{"$f":"+PRODUCT(M342:M364)","v":1.7917556983421246},{"$f":"+'Multiplicatoria inversa'!F364","v":27.758349269430624},{"$f":"+C364-D364-F364-AC342","v":-13.83453123757319},{"$f":"+IF(L364=AB345,1,VLOOKUP(AB345,'Multiplicatoria inversa'!E343:AK372,L364+4,FALSE))*P364","v":0},{"$f":"IF(L364<25-Z341+1,(C364-D364-F364-AF348)*((1+AF344)/(1+AF343))^L364,0)","v":0},{"$f":"+C364-D364-F364-AG342","v":-13.798231657104443},57.798148976697668,{"$f":"+M364*U363+AB342","v":48.529307086717914},23.471155599555608,{"$f":"+M364*W363+AF342","v":45.202120854175739},24.515071613009709]
[2048,{"$f":"+B332","v":0},0,0,0,0,0,0,0,0,0,23,1,{"$f":"+PRODUCT(M342:M365)","v":1.7917556983421246},{"$f":"+'Multiplicatoria inversa'!F365","v":28.758349269430624},{"$f":"+C365-D365-F365-AC342","v":-13.83453123757319},{"$f":"+IF(L365=AB345,1,VLOOKUP(AB345,'Multiplicatoria inversa'!E343:AK372,L365+4,FALSE))*P365","v":0},{"$f":"IF(L365<25-Z341+1,(C365-D365-F365-AF348)*((1+AF344)/(1+AF343))^L365,0)","v":0},{"$f":"+C365-D365-F365-AG342","v":-13.798231657104443},57.798148976697668,{"$f":"+M365*U364+AB342","v":47.223382350314026},9.6366243619824186,{"$f":"+M365*W364+AF342","v":43.780501499789068},10.716839955905266]
[2049,{"$f":"+B333","v":0},0,0,0,0,0,0,0,0,0,24,1,{"$f":"+PRODUCT(M342:M366)","v":1.7917556983421246},{"$f":"+'Multiplicatoria inversa'!F366","v":29.758349269430624},{"$f":"+C366-D366-F366-AC342","v":-13.83453123757319},{"$f":"+IF(L366=AB345,1,VLOOKUP(AB345,'Multiplicatoria inversa'!E343:AK372,L366+4,FALSE))*P366","v":0},{"$f":"IF(L366<25-Z341+1,(C366-D366-F366-AF348)*((1+AF344)/(1+AF343))^L366,0)","v":0},{"$f":"+C366-D366-F366-AG342","v":-13.798231657104443},57.798148976697668,{"$f":"+M366*U365+AB342","v":45.917457613910138},-4.1979068755907711,{"$f":"+M366*W365+AF342","v":42.358882145402397},-3.0813917011991769]
[2050,{"$f":"+B334","v":0},0,0,0,0,0,0,0,0,0,25,1,{"$f":"+PRODUCT(M342:M367)","v":1.7917556983421246},{"$f":"+'Multiplicatoria inversa'!F367","v":30.758349269430624},{"$f":"+C367-D367-F367-AC342","v":-13.83453123757319},{"$f":"+IF(L367=AB345,1,VLOOKUP(AB345,'Multiplicatoria inversa'!E343:AK372,L367+4,FALSE))*P367","v":0},{"$f":"IF(L367<25-Z341+1,(C367-D367-F367-AF348)*((1+AF344)/(1+AF343))^L367,0)","v":0},{"$f":"+C367-D367-F367-AG342","v":-13.798231657104443},57.798148976697668,{"$f":"+M367*U366+AB342","v":44.611532877506249},-18.032438113163963,{"$f":"+M367*W366+AF342","v":40.937262791015726},-16.879623358303618]
[2051,{"$f":"+B335","v":0},0,0,0,0,0,0,0,0,0,26,1,{"$f":"+PRODUCT(M342:M368)","v":1.7917556983421246},{"$f":"+'Multiplicatoria inversa'!F368","v":31.758349269430624},{"$f":"+C368-D368-F368-AC342","v":-13.83453123757319},{"$f":"+IF(L368=AB345,1,VLOOKUP(AB345,'Multiplicatoria inversa'!E343:AK372,L368+4,FALSE))*P368","v":0},{"$f":"IF(L368<25-Z341+1,(C368-D368-F368-AF348)*((1+AF344)/(1+AF343))^L368,0)","v":0},{"$f":"+C368-D368-F368-AG342","v":-13.798231657104443},57.798148976697668,{"$f":"+M368*U367+AB342","v":43.305608141102361},-31.866969350737151,{"$f":"+M368*W367+AF342","v":39.515643436629055},-30.677855015408063]
[2052,{"$f":"+B336","v":0},0,0,0,0,0,0,0,0,0,27,1,{"$f":"+PRODUCT(M342:M369)","v":1.7917556983421246},{"$f":"+'Multiplicatoria inversa'!F369","v":32.758349269430624},{"$f":"+C369-D369-F369-AC342","v":-13.83453123757319},{"$f":"+IF(L369=AB345,1,VLOOKUP(AB345,'Multiplicatoria inversa'!E343:AK372,L369+4,FALSE))*P369","v":0},{"$f":"IF(L369<25-Z341+1,(C369-D369-F369-AF348)*((1+AF344)/(1+AF343))^L369,0)","v":0},{"$f":"+C369-D369-F369-AG342","v":-13.798231657104443},57.798148976697668,{"$f":"+M369*U368+AB342","v":41.999683404698473},-45.701500588310338,{"$f":"+M369*W368+AF342","v":38.094024082242385},-44.476086672512508]
[2053,{"$f":"+B337","v":0},0,0,0,0,0,0,0,0,0,28,1,{"$f":"+PRODUCT(M342:M370)","v":1.7917556983421246},{"$f":"+'Multiplicatoria inversa'!F370","v":33.758349269430624},{"$f":"+C370-D370-F370-AC342","v":-13.83453123757319},{"$f":"+IF(L370=AB345,1,VLOOKUP(AB345,'Multiplicatoria inversa'!E343:AK372,L370+4,FALSE))*P370","v":0},{"$f":"IF(L370<25-Z341+1,(C370-D370-F370-AF348)*((1+AF344)/(1+AF343))^L370,0)","v":0},{"$f":"+C370-D370-F370-AG342","v":-13.798231657104443},57.798148976697668,{"$f":"+M370*U369+AB342","v":40.693758668294585},-59.536031825883526,{"$f":"+M370*W369+AF342","v":36.672404727855714},-58.274318329616953]
[2054,{"$f":"+B338","v":0},0,0,0,0,0,0,0,0,0,29,1,{"$f":"+PRODUCT(M342:M371)","v":1.7917556983421246},{"$f":"+'Multiplicatoria inversa'!F371","v":34.758349269430624},{"$f":"+C371-D371-F371-AC342","v":-13.83453123757319},{"$f":"+IF(L371=AB345,1,VLOOKUP(AB345,'Multiplicatoria inversa'!E343:AK372,L371+4,FALSE))*P371","v":0},{"$f":"IF(L371<25-Z341+1,(C371-D371-F371-AF348)*((1+AF344)/(1+AF343))^L371,0)","v":0},{"$f":"+C371-D371-F371-AG342","v":-13.798231657104443},57.798148976697668,{"$f":"+M371*U370+AB342","v":39.387833931890697},-73.370563063456714,{"$f":"+M371*W370+AF342","v":35.250785373469043},-72.072549986721398]
[2055,{"$f":"+B339","v":0},0,0,0,0,0,0,0,0,0,30,1,{"$f":"+PRODUCT(M342:M372)","v":1.7917556983421246},{"$f":"+'Multiplicatoria inversa'!F372","v":35.758349269430624},{"$f":"+C372-D372-F372-AC342","v":-13.83453123757319},null,{"$f":"IF(L372<25-Z341+1,(C372-D372-F372-AF348)*((1+AF344)/(1+AF343))^L372,0)","v":0},{"$f":"+C372-D372-F372-AG342","v":-13.798231657104443},57.798148976697668,{"$f":"+M372*U371+AB342","v":38.081909195486809},-87.205094301029902,{"$f":"+M372*W371+AF342","v":33.829166019082372},-85.870781643825836]

{"sheet":"Multiplicatoria inversa","index":5,"n_rows":372,"n_cols":37,"rows_kept":372,"cut":false,"hidden":true,"merged":[]}
[" Fecha(Anual) ","r_t","c_y_t","1+r_t / 1+c_y_t","t","Multiplicatoria inversa",0,{"$f":"+G1+1","v":1},{"$f":"+H1+1","v":2},3,4,5,6,7,8,9,10,11,12,13,14,15,16,17,18,19,20,21,22,23,24,25,26,27,28,29,30]
[{"$f":"+T!A2","v":2015},null,null,1,0]
[{"$f":"+T!A3","v":2016},{"$f":"+T!G3","v":3.2399999999999998E-2},{"$f":"+T!H3","v":2.5999999999999999E-2},{"$f":"(1+B3)/(1+C3)","v":1.0062378167641326},1,null,null,1]
[{"$f":"+T!A4","v":2017},{"$f":"+T!G4","v":4.24E-2},{"$f":"+T!H4","v":0.03},{"$f":"(1+B4)/(1+C4)","v":1.0120388349514562},{"$f":"+E3+1","v":2},{"$f":"+SUM(I4:AK4)","v":1.0120388349514562},null,1,{"$f":"+PRODUCT(D4:D4)","v":1.0120388349514562}]
[{"$f":"+T!A5","v":2018},{"$f":"+T!G5","v":4.9599999999999998E-2},{"$f":"+T!H5","v":3.5000000000000003E-2},1.0141062801932368,{"$f":"+E4+1","v":3},{"$f":"+SUM(I5:AK5)","v":2.040421218516955},null,1,{"$f":"+PRODUCT(D4:D5)","v":1.0263149383237185},{"$f":"+PRODUCT(D5:D5)","v":1.0141062801932368}]
[{"$f":"+T!A6","v":2019},{"$f":"+T!G6","v":5.1799999999999999E-2},{"$f":"+T!H6","v":3.5000000000000003E-2},1.0162318840579712,4,3.0897729832233178,null,1,{"$f":"+PRODUCT(D4:D6)","v":1.042973963409553},{"$f":"+PRODUCT(D5:D6)","v":1.0305671357557937},{"$f":"+PRODUCT(D6:D6)","v":1.0162318840579712},{"$f":"+IF(L1>E6,\"\",1)","v":""}]
[{"$f":"+T!A7","v":2020},{"$f":"+T!G7","v":5.3495934959349345E-2},{"$f":"+T!H7","v":4.4999999999999998E-2},1.0081300813008129,5,4.1230231700787918,null,1,{"$f":"+PRODUCT(D4:D7)","v":1.0514534265267037},{"$f":"+PRODUCT(D5:D7)","v":1.0389457303554344},{"$f":"+PRODUCT(D6:D7)","v":1.0244939318958408},{"$f":"+PRODUCT(D7:D7)","v":1.0081300813008129}]
[{"$f":"+T!A8","v":2021},{"$f":"+T!G8","v":6.0199999999999997E-2},{"$f":"+T!H8","v":4.4999999999999998E-2},1.0145454545454546,6,5.1975398707344835,null,1,{"$f":"+PRODUCT(D4:D8)","v":1.0667472945489105},{"$f":"+PRODUCT(D5:D8)","v":1.0540576682515135},{"$f":"+PRODUCT(D6:D8)","v":1.0393956618143259},{"$f":"+PRODUCT(D7:D8)","v":1.0227937915742793},{"$f":"+PRODUCT(D8:D8)","v":1.0145454545454546}]
[{"$f":"+T!A9","v":2022},{"$f":"+T!G9","v":6.0199999999999997E-2},{"$f":"+T!H9","v":4.4999999999999998E-2},1.0145454545454546,7,6.2876859052178959,null,1,{"$f":"+PRODUCT(D4:D9)","v":1.0822636188332584},{"$f":"+PRODUCT(D5:D9)","v":1.0693894161533537},{"$f":"+PRODUCT(D6:D9)","v":1.0545141441679888},{"$f":"+PRODUCT(D7:D9)","v":1.0376707921789963},{"$f":"+PRODUCT(D8:D9)","v":1.0293024793388432},{"$f":"+PRODUCT(D9:D9)","v":1.0145454545454546}]
[{"$f":"+T!A10","v":2023},{"$f":"+T!G10","v":6.1300452985096551E-2},{"$f":"+T!H10","v":3.0800000000000001E-2},1.0295891084449909,8,7.5033220337804192,null,1,{"$f":"+PRODUCT(D4:D10)","v":1.1142868344169838},{"$f":"+PRODUCT(D5:D10)","v":1.1010316955578408},{"$f":"+PRODUCT(D6:D10)","v":1.0857162775365521},{"$f":"+PRODUCT(D7:D10)","v":1.0683745457789802},{"$f":"+PRODUCT(D8:D10)","v":1.0597586220226982},{"$f":"+PRODUCT(D9:D10)","v":1.0445649500223726},{"$f":"+PRODUCT(D10:D10)","v":1.0295891084449909}]
[{"$f":"+T!A11","v":2024},{"$f":"+T!G11","v":6.1300452985096551E-2},{"$f":"+T!H11","v":3.0800000000000001E-2},1.0295891084449909,9,8.7549277515806274,null,1,{"$f":"+PRODUCT(D4:D11)","v":1.1472575883993736},{"$f":"+PRODUCT(D5:D11)","v":1.1336102417990739},{"$f":"+PRODUCT(D6:D11)","v":1.1178416542130729},{"$f":"+PRODUCT(D7:D11)","v":1.0999867960739023},{"$f":"+PRODUCT(D8:D11)","v":1.0911159348152419},{"$f":"+PRODUCT(D9:D11)","v":1.0754726956064211},{"$f":"+PRODUCT(D10:D11)","v":1.060053732228551},{"$f":"+PRODUCT(D11:D11)","v":1.0295891084449909}]
[{"$f":"+T!A12","v":2025},{"$f":"+T!G12","v":6.1300452985096551E-2},{"$f":"+T!H12","v":3.0800000000000001E-2},1.0295891084449909,10,10.043567366695198,null,1,{"$f":"+PRODUCT(D4:D12)","v":1.1812039175968614},{"$f":"+PRODUCT(D5:D12)","v":1.167152758178019},{"$f":"+PRODUCT(D6:D12)","v":1.1509175921439114},{"$f":"+PRODUCT(D7:D12)","v":1.132534424670991},{"$f":"+PRODUCT(D8:D12)","v":1.1234010825365477},{"$f":"+PRODUCT(D9:D12)","v":1.1072949738263462},{"$f":"+PRODUCT(D10:D12)","v":1.0914197770689789},{"$f":"+PRODUCT(D11:D12)","v":1.060053732228551},{"$f":"+PRODUCT(D12:D12)","v":1.0295891084449909}]
[{"$f":"+T!A13","v":2026},{"$f":"+T!G13","v":6.1300452985096551E-2},{"$f":"+T!H13","v":3.0800000000000001E-2},1.0295891084449909,11,11.370336679127904,null,1,{"$f":"+PRODUCT(D4:D13)","v":1.216154688410283},{"$f":"+PRODUCT(D5:D13)","v":1.2016877677116187},{"$f":"+PRODUCT(D6:D13)","v":1.1849722175891053},{"$f":"+PRODUCT(D7:D13)","v":1.1660451085802663},{"$f":"+PRODUCT(D8:D13)","v":1.1566415189949417},{"$f":"+PRODUCT(D9:D13)","v":1.1400588448874873},{"$f":"+PRODUCT(D10:D13)","v":1.1237139152116806},{"$f":"+PRODUCT(D11:D13)","v":1.0914197770689789},{"$f":"+PRODUCT(D12:D13)","v":1.060053732228551},{"$f":"+PRODUCT(D13:D13)","v":1.0295891084449909}]
[{"$f":"+T!A14","v":2027},{"$f":"+T!G14","v":6.1300452985096551E-2},{"$f":"+T!H14","v":3.0800000000000001E-2},1.0295891084449909,12,12.736363912627668,null,1,{"$f":"+PRODUCT(D4:D14)","v":1.2521396213715388},{"$f":"+PRODUCT(D5:D14)","v":1.2372446373874568},{"$f":"+PRODUCT(D6:D14)","v":1.2200344890396506},{"$f":"+PRODUCT(D7:D14)","v":1.2005473437497989},{"$f":"+PRODUCT(D8:D14)","v":1.1908655103324619},{"$f":"+PRODUCT(D9:D14)","v":1.1737921696825342},{"$f":"+PRODUCT(D10:D14)","v":1.1569636081100243},{"$f":"+PRODUCT(D11:D14)","v":1.1237139152116806},{"$f":"+PRODUCT(D12:D14)","v":1.0914197770689789},{"$f":"+PRODUCT(D13:D14)","v":1.060053732228551},{"$f":"+PRODUCT(D14:D14)","v":1.0295891084449909}]
[{"$f":"+T!A15","v":2028},{"$f":"+T!G15","v":6.1300452985096551E-2},{"$f":"+T!H15","v":3.0800000000000001E-2},1.0295891084449909,13,14.142810674078266,null,1,{"$f":"+PRODUCT(D4:D15)","v":1.2891893164165711},{"$f":"+PRODUCT(D5:D15)","v":1.2738536031360976},{"$f":"+PRODUCT(D6:D15)","v":1.2561342218424738},{"$f":"+PRODUCT(D7:D15)","v":1.2360704692973574},{"$f":"+PRODUCT(D8:D15)","v":1.2261021590610885},{"$f":"+PRODUCT(D9:D15)","v":1.2085236334831517},{"$f":"+PRODUCT(D10:D15)","v":1.1911971297772996},{"$f":"+PRODUCT(D11:D15)","v":1.1569636081100243},{"$f":"+PRODUCT(D12:D15)","v":1.1237139152116806},{"$f":"+PRODUCT(D13:D15)","v":1.0914197770689789},{"$f":"+PRODUCT(D14:D15)","v":1.060053732228551},{"$f":"+PRODUCT(D15:D15)","v":1.0295891084449909}]
[{"$f":"+T!A16","v":2029},{"$f":"+T!G16","v":6.1300452985096551E-2},{"$f":"+T!H16","v":3.0800000000000001E-2},1.0295891084449909,14,15.590872941275531,null,1,{"$f":"+PRODUCT(D4:D16)","v":1.3273352789061446},{"$f":"+PRODUCT(D5:D16)","v":1.311545795542334},{"$f":"+PRODUCT(D6:D16)","v":1.293302113554035},{"$f":"+PRODUCT(D7:D16)","v":1.2726446924590478},{"$f":"+PRODUCT(D8:D16)","v":1.2623814288101844},{"$f":"+PRODUCT(D9:D16)","v":1.2442827703326191},{"$f":"+PRODUCT(D10:D16)","v":1.226443590829642},{"$f":"+PRODUCT(D11:D16)","v":1.1911971297772996},{"$f":"+PRODUCT(D12:D16)","v":1.1569636081100243},{"$f":"+PRODUCT(D13:D16)","v":1.1237139152116806},{"$f":"+PRODUCT(D14:D16)","v":1.0914197770689789},{"$f":"+PRODUCT(D15:D16)","v":1.060053732228551},{"$f":"+PRODUCT(D16:D16)","v":1.0295891084449909}]
[{"$f":"+T!A17","v":2030},{"$f":"+T!G17","v":6.1300452985096551E-2},{"$f":"+T!H17","v":3.0800000000000001E-2},1.0295891084449909,15,17.081782079931997,null,1,{"$f":"+PRODUCT(D4:D17)","v":1.3666099464165606},{"$f":"+PRODUCT(D5:D17)","v":1.350353266317208},{"$f":"+PRODUCT(D6:D17)","v":1.3315697700441211},{"$f":"+PRODUCT(D7:D17)","v":1.3103011142761605},{"$f":"+PRODUCT(D8:D17)","v":1.2997341698061915},{"$f":"+PRODUCT(D9:D17)","v":1.2810999881602247},{"$f":"+PRODUCT(D10:D17)","v":1.2627329632403643},{"$f":"+PRODUCT(D11:D17)","v":1.226443590829642},{"$f":"+PRODUCT(D12:D17)","v":1.1911971297772996},{"$f":"+PRODUCT(D13:D17)","v":1.1569636081100243},{"$f":"+PRODUCT(D14:D17)","v":1.1237139152116806},{"$f":"+PRODUCT(D15:D17)","v":1.0914197770689789},{"$f":"+PRODUCT(D16:D17)","v":1.060053732228551},{"$f":"+PRODUCT(D17:D17)","v":1.0295891084449909}]
[{"$f":"+T!A18","v":2031},{"$f":"+T!G18","v":6.1300452985096551E-2},{"$f":"+T!H18","v":3.0800000000000001E-2},1.0295891084449909,16,18.616805890773797,null,1,{"$f":"+PRODUCT(D4:D18)","v":1.4070467163230833},{"$f":"+PRODUCT(D5:D18)","v":1.3903090155533155},{"$f":"+PRODUCT(D6:D18)","v":1.3709697323720282},{"$f":"+PRODUCT(D7:D18)","v":1.3490717560420702},{"$f":"+PRODUCT(D8:D18)","v":1.3381921451062471},{"$f":"+PRODUCT(D9:D18)","v":1.3190065946387741},{"$f":"+PRODUCT(D10:D18)","v":1.3000961058267482},{"$f":"+PRODUCT(D11:D18)","v":1.2627329632403643},{"$f":"+PRODUCT(D12:D18)","v":1.226443590829642},{"$f":"+PRODUCT(D13:D18)","v":1.1911971297772996},{"$f":"+PRODUCT(D14:D18)","v":1.1569636081100243},{"$f":"+PRODUCT(D15:D18)","v":1.1237139152116806},{"$f":"+PRODUCT(D16:D18)","v":1.0914197770689789},{"$f":"+PRODUCT(D17:D18)","v":1.060053732228551},{"$f":"+PRODUCT(D18:D18)","v":1.0295891084449909}]
[{"$f":"+T!A19","v":2032},{"$f":"+T!G19","v":6.1300452985096551E-2},{"$f":"+T!H19","v":3.0800000000000001E-2},1.0295891084449909,17,20.197249687620239,null,1,{"$f":"+PRODUCT(D4:D19)","v":1.4486799741995353},{"$f":"+PRODUCT(D5:D19)","v":1.431447019786571},{"$f":"+PRODUCT(D6:D19)","v":1.4115355044579843},{"$f":"+PRODUCT(D7:D19)","v":1.3889895865316733},{"$f":"+PRODUCT(D8:D19)","v":1.3777880576080308},{"$f":"+PRODUCT(D9:D19)","v":1.3580348238071989},{"$f":"+PRODUCT(D10:D19)","v":1.3385647904909661},{"$f":"+PRODUCT(D11:D19)","v":1.3000961058267482},{"$f":"+PRODUCT(D12:D19)","v":1.2627329632403643},{"$f":"+PRODUCT(D13:D19)","v":1.226443590829642},{"$f":"+PRODUCT(D14:D19)","v":1.1911971297772996},{"$f":"+PRODUCT(D15:D19)","v":1.1569636081100243},{"$f":"+PRODUCT(D16:D19)","v":1.1237139152116806},{"$f":"+PRODUCT(D17:D19)","v":1.0914197770689789},{"$f":"+PRODUCT(D18:D19)","v":1.060053732228551},{"$f":"+PRODUCT(D19:D19)","v":1.0295891084449909}]
[{"$f":"+T!A20","v":2033},{"$f":"+T!G20","v":6.1300452985096551E-2},{"$f":"+T!H20","v":3.0800000000000001E-2},1.0295891084449909,18,21.824457407362782,null,1,{"$f":"+PRODUCT(D4:D20)","v":1.491545123058212},{"$f":"+PRODUCT(D5:D20)","v":1.4738022608882948},{"$f":"+PRODUCT(D6:D20)","v":1.4533015815733463},{"$f":"+PRODUCT(D7:D20)","v":1.4300885500365219},{"$f":"+PRODUCT(D8:D20)","v":1.4185555778588081},{"$f":"+PRODUCT(D9:D20)","v":1.3982178634809042},{"$f":"+PRODUCT(D10:D20)","v":1.3781717292374498},{"$f":"+PRODUCT(D11:D20)","v":1.3385647904909661},{"$f":"+PRODUCT(D12:D20)","v":1.3000961058267482},{"$f":"+PRODUCT(D13:D20)","v":1.2627329632403643},{"$f":"+PRODUCT(D14:D20)","v":1.226443590829642},{"$f":"+PRODUCT(D15:D20)","v":1.1911971297772996},{"$f":"+PRODUCT(D16:D20)","v":1.1569636081100243},{"$f":"+PRODUCT(D17:D20)","v":1.1237139152116806},{"$f":"+PRODUCT(D18:D20)","v":1.0914197770689789},{"$f":"+PRODUCT(D19:D20)","v":1.060053732228551},{"$f":"+PRODUCT(D20:D20)","v":1.0295891084449909}]
[{"$f":"+T!A21","v":2034},{"$f":"+T!G21","v":6.1300452985096551E-2},{"$f":"+T!H21","v":3.0800000000000001E-2},1.0295891084449909,19,23.499812752787317,null,1,{"$f":"+PRODUCT(D4:D21)","v":1.5356786134549787},{"$f":"+PRODUCT(D5:D21)","v":1.5174107558121912},{"$f":"+PRODUCT(D6:D21)","v":1.4963034796737968},{"$f":"+PRODUCT(D7:D21)","v":1.4724035952294923},{"$f":"+PRODUCT(D8:D21)","v":1.4605293726873192},{"$f":"+PRODUCT(D9:D21)","v":1.439589883473164},{"$f":"+PRODUCT(D10:D21)","v":1.4189506019896774},{"$f":"+PRODUCT(D11:D21)","v":1.3781717292374498},{"$f":"+PRODUCT(D12:D21)","v":1.3385647904909661},{"$f":"+PRODUCT(D13:D21)","v":1.3000961058267482},{"$f":"+PRODUCT(D14:D21)","v":1.2627329632403643},{"$f":"+PRODUCT(D15:D21)","v":1.226443590829642},{"$f":"+PRODUCT(D16:D21)","v":1.1911971297772996},{"$f":"+PRODUCT(D17:D21)","v":1.1569636081100243},{"$f":"+PRODUCT(D18:D21)","v":1.1237139152116806},{"$f":"+PRODUCT(D19:D21)","v":1.0914197770689789},{"$f":"+PRODUCT(D20:D21)","v":1.060053732228551},{"$f":"+PRODUCT(D21:D21)","v":1.0295891084449909}]
[{"$f":"+T!A22","v":2035},{"$f":"+T!G22","v":6.1300452985096551E-2},{"$f":"+T!H22","v":3.0800000000000001E-2},1.0295891084449909,20,25.22474036921151,null,1,{"$f":"+PRODUCT(D4:D22)","v":1.5811179744851513},{"$f":"+PRODUCT(D5:D22)","v":1.5623095872215136},{"$f":"+PRODUCT(D6:D22)","v":1.540577765600482},{"$f":"+PRODUCT(D7:D22)","v":1.515970704883532},{"$f":"+PRODUCT(D8:D22)","v":1.5037451346828588},{"$f":"+PRODUCT(D9:D22)","v":1.4821860646515632},{"$f":"+PRODUCT(D10:D22)","v":1.460936085230035},{"$f":"+PRODUCT(D11:D22)","v":1.4189506019896774},{"$f":"+PRODUCT(D12:D22)","v":1.3781717292374498},{"$f":"+PRODUCT(D13:D22)","v":1.3385647904909661},{"$f":"+PRODUCT(D14:D22)","v":1.3000961058267482},{"$f":"+PRODUCT(D15:D22)","v":1.2627329632403643},{"$f":"+PRODUCT(D16:D22)","v":1.226443590829642},{"$f":"+PRODUCT(D17:D22)","v":1.1911971297772996},{"$f":"+PRODUCT(D18:D22)","v":1.1569636081100243},{"$f":"+PRODUCT(D19:D22)","v":1.1237139152116806},{"$f":"+PRODUCT(D20:D22)","v":1.0914197770689789},{"$f":"+PRODUCT(D21:D22)","v":1.060053732228551},{"$f":"+PRODUCT(D22:D22)","v":1.0295891084449909}]
[{"$f":"+T!A23","v":2036},{"$f":"+T!G23","v":6.1300452985096551E-2},{"$f":"+T!H23","v":3.0800000000000001E-2},1.0295891084449909,21,27.000707055937838,null,1,{"$f":"+PRODUCT(D4:D23)","v":1.6279018456965169},{"$f":"+PRODUCT(D5:D23)","v":1.6085369350224599},{"$f":"+PRODUCT(D6:D23)","v":1.5861620881747764},{"$f":"+PRODUCT(D7:D23)","v":1.5608269264697601},{"$f":"+PRODUCT(D8:D23)","v":1.5482396125466171},{"$f":"+PRODUCT(D9:D23)","v":1.5260426288541926},{"$f":"+PRODUCT(D10:D23)","v":1.504163881487107},{"$f":"+PRODUCT(D11:D23)","v":1.460936085230035},{"$f":"+PRODUCT(D12:D23)","v":1.4189506019896774},{"$f":"+PRODUCT(D13:D23)","v":1.3781717292374498},{"$f":"+PRODUCT(D14:D23)","v":1.3385647904909661},{"$f":"+PRODUCT(D15:D23)","v":1.3000961058267482},{"$f":"+PRODUCT(D16:D23)","v":1.2627329632403643},{"$f":"+PRODUCT(D17:D23)","v":1.226443590829642},{"$f":"+PRODUCT(D18:D23)","v":1.1911971297772996},{"$f":"+PRODUCT(D19:D23)","v":1.1569636081100243},{"$f":"+PRODUCT(D20:D23)","v":1.1237139152116806},{"$f":"+PRODUCT(D21:D23)","v":1.0914197770689789},{"$f":"+PRODUCT(D22:D23)","v":1.060053732228551},{"$f":"+PRODUCT(D23:D23)","v":1.0295891084449909}]
[{"$f":"+T!A24","v":2037},{"$f":"+T!G24","v":6.1300452985096551E-2},{"$f":"+T!H24","v":3.0800000000000001E-2},1.0295891084449909,22,28.829223013552408,null,1,{"$f":"+PRODUCT(D4:D24)","v":1.6760700099466319},{"$f":"+PRODUCT(D5:D24)","v":1.6561321088306127},{"$f":"+PRODUCT(D6:D24)","v":1.6330952102131131},{"$f":"+PRODUCT(D7:D24)","v":1.6070104036609356},{"$f":"+PRODUCT(D8:D24)","v":1.5940506423410896},{"$f":"+PRODUCT(D9:D24)","v":1.5711968696910383},{"$f":"+PRODUCT(D10:D24)","v":1.5486707496954675},{"$f":"+PRODUCT(D11:D24)","v":1.504163881487107},{"$f":"+PRODUCT(D12:D24)","v":1.460936085230035},{"$f":"+PRODUCT(D13:D24)","v":1.4189506019896774},{"$f":"+PRODUCT(D14:D24)","v":1.3781717292374498},{"$f":"+PRODUCT(D15:D24)","v":1.3385647904909661},{"$f":"+PRODUCT(D16:D24)","v":1.3000961058267482},{"$f":"+PRODUCT(D17:D24)","v":1.2627329632403643},{"$f":"+PRODUCT(D18:D24)","v":1.226443590829642},{"$f":"+PRODUCT(D19:D24)","v":1.1911971297772996},{"$f":"+PRODUCT(D20:D24)","v":1.1569636081100243},{"$f":"+PRODUCT(D21:D24)","v":1.1237139152116806},{"$f":"+PRODUCT(D22:D24)","v":1.0914197770689789},{"$f":"+PRODUCT(D23:D24)","v":1.060053732228551},{"$f":"+PRODUCT(D24:D24)","v":1.0295891084449909}]
[{"$f":"+T!A25","v":2038},{"$f":"+T!G25","v":6.1300452985096551E-2},{"$f":"+T!H25","v":3.0800000000000001E-2},1.0295891084449909,23,30.711843128130226,null,1,{"$f":"+PRODUCT(D4:D25)","v":1.7256634272323397},{"$f":"+PRODUCT(D5:D25)","v":1.7051355813980331},{"$f":"+PRODUCT(D6:D25)","v":1.6814170414891041},{"$f":"+PRODUCT(D7:D25)","v":1.6545604087670875},{"$f":"+PRODUCT(D8:D25)","v":1.6412171796641275},{"$f":"+PRODUCT(D9:D25)","v":1.6176871842567566},{"$f":"+PRODUCT(D10:D25)","v":1.5944945364537919},{"$f":"+PRODUCT(D11:D25)","v":1.5486707496954675},{"$f":"+PRODUCT(D12:D25)","v":1.504163881487107},{"$f":"+PRODUCT(D13:D25)","v":1.460936085230035},{"$f":"+PRODUCT(D14:D25)","v":1.4189506019896774},{"$f":"+PRODUCT(D15:D25)","v":1.3781717292374498},{"$f":"+PRODUCT(D16:D25)","v":1.3385647904909661},{"$f":"+PRODUCT(D17:D25)","v":1.3000961058267482},{"$f":"+PRODUCT(D18:D25)","v":1.2627329632403643},{"$f":"+PRODUCT(D19:D25)","v":1.226443590829642},{"$f":"+PRODUCT(D20:D25)","v":1.1911971297772996},{"$f":"+PRODUCT(D21:D25)","v":1.1569636081100243},{"$f":"+PRODUCT(D22:D25)","v":1.1237139152116806},{"$f":"+PRODUCT(D23:D25)","v":1.0914197770689789},{"$f":"+PRODUCT(D24:D25)","v":1.060053732228551},{"$f":"+PRODUCT(D25:D25)","v":1.0295891084449909}]
[{"$f":"+T!A26","v":2039},{"$f":"+T!G26","v":6.1300452985096551E-2},{"$f":"+T!H26","v":3.0800000000000001E-2},1.0295891084449909,24,32.650168293439009,null,1,{"$f":"+PRODUCT(D4:D26)","v":1.7767242695202718},{"$f":"+PRODUCT(D5:D26)","v":1.755589023029432},{"$f":"+PRODUCT(D6:D26)","v":1.731168672670981},{"$f":"+PRODUCT(D7:D26)","v":1.7035173761308853},{"$f":"+PRODUCT(D8:D26)","v":1.6897793327749915},{"$f":"+PRODUCT(D9:D26)","v":1.6655531057818016},{"$f":"+PRODUCT(D10:D26)","v":1.6416742082078686},{"$f":"+PRODUCT(D11:D26)","v":1.5944945364537919},{"$f":"+PRODUCT(D12:D26)","v":1.5486707496954675},{"$f":"+PRODUCT(D13:D26)","v":1.504163881487107},{"$f":"+PRODUCT(D14:D26)","v":1.460936085230035},{"$f":"+PRODUCT(D15:D26)","v":1.4189506019896774},{"$f":"+PRODUCT(D16:D26)","v":1.3781717292374498},{"$f":"+PRODUCT(D17:D26)","v":1.3385647904909661},{"$f":"+PRODUCT(D18:D26)","v":1.3000961058267482},{"$f":"+PRODUCT(D19:D26)","v":1.2627329632403643},{"$f":"+PRODUCT(D20:D26)","v":1.226443590829642},{"$f":"+PRODUCT(D21:D26)","v":1.1911971297772996},{"$f":"+PRODUCT(D22:D26)","v":1.1569636081100243},{"$f":"+PRODUCT(D23:D26)","v":1.1237139152116806},{"$f":"+PRODUCT(D24:D26)","v":1.0914197770689789},{"$f":"+PRODUCT(D25:D26)","v":1.060053732228551},{"$f":"+PRODUCT(D26:D26)","v":1.0295891084449909}]
[{"$f":"+T!A27","v":2040},{"$f":"+T!G27","v":6.1300452985096551E-2},{"$f":"+T!H27","v":3.0800000000000001E-2},1.0295891084449909,25,34.64584677226577,null,1,{"$f":"+PRODUCT(D4:D27)","v":1.8292959566079543},{"$f":"+PRODUCT(D5:D27)","v":1.8075353370166853},{"$f":"+PRODUCT(D6:D27)","v":1.7823924102632134},{"$f":"+PRODUCT(D7:D27)","v":1.7539229365111484},{"$f":"+PRODUCT(D8:D27)","v":1.7397783967005749},{"$f":"+PRODUCT(D9:D27)","v":1.7148353372496707},{"$f":"+PRODUCT(D10:D27)","v":1.6902498843858758},{"$f":"+PRODUCT(D11:D27)","v":1.6416742082078686},{"$f":"+PRODUCT(D12:D27)","v":1.5944945364537919},{"$f":"+PRODUCT(D13:D27)","v":1.5486707496954675},{"$f":"+PRODUCT(D14:D27)","v":1.504163881487107},{"$f":"+PRODUCT(D15:D27)","v":1.460936085230035},{"$f":"+PRODUCT(D16:D27)","v":1.4189506019896774},{"$f":"+PRODUCT(D17:D27)","v":1.3781717292374498},{"$f":"+PRODUCT(D18:D27)","v":1.3385647904909661},{"$f":"+PRODUCT(D19:D27)","v":1.3000961058267482},{"$f":"+PRODUCT(D20:D27)","v":1.2627329632403643},{"$f":"+PRODUCT(D21:D27)","v":1.226443590829642},{"$f":"+PRODUCT(D22:D27)","v":1.1911971297772996},{"$f":"+PRODUCT(D23:D27)","v":1.1569636081100243},{"$f":"+PRODUCT(D24:D27)","v":1.1237139152116806},{"$f":"+PRODUCT(D25:D27)","v":1.0914197770689789},{"$f":"+PRODUCT(D26:D27)","v":1.060053732228551},{"$f":"+PRODUCT(D27:D27)","v":1.0295891084449909}]
[{"$f":"+T!A28","v":2041},{"$f":"+T!G28","v":6.1300452985096551E-2},{"$f":"+T!H28","v":3.0800000000000001E-2},1.0295891084449909,26,36.700575598023867,null,1,{"$f":"+PRODUCT(D4:D28)","v":1.8834231930460104},{"$f":"+PRODUCT(D5:D28)","v":1.8610186961218251},{"$f":"+PRODUCT(D6:D28)","v":1.8351318125820202},{"$f":"+PRODUCT(D7:D28)","v":1.8058199524837335},{"$f":"+PRODUCT(D8:D28)","v":1.7912568883508004},{"$f":"+PRODUCT(D9:D28)","v":1.7655757860088537},{"$f":"+PRODUCT(D10:D28)","v":1.7402628715141026},{"$f":"+PRODUCT(D11:D28)","v":1.6902498843858758},{"$f":"+PRODUCT(D12:D28)","v":1.6416742082078686},{"$f":"+PRODUCT(D13:D28)","v":1.5944945364537919},{"$f":"+PRODUCT(D14:D28)","v":1.5486707496954675},{"$f":"+PRODUCT(D15:D28)","v":1.504163881487107},{"$f":"+PRODUCT(D16:D28)","v":1.460936085230035},{"$f":"+PRODUCT(D17:D28)","v":1.4189506019896774},{"$f":"+PRODUCT(D18:D28)","v":1.3781717292374498},{"$f":"+PRODUCT(D19:D28)","v":1.3385647904909661},{"$f":"+PRODUCT(D20:D28)","v":1.3000961058267482},{"$f":"+PRODUCT(D21:D28)","v":1.2627329632403643},{"$f":"+PRODUCT(D22:D28)","v":1.226443590829642},{"$f":"+PRODUCT(D23:D28)","v":1.1911971297772996},{"$f":"+PRODUCT(D24:D28)","v":1.1569636081100243},{"$f":"+PRODUCT(D25:D28)","v":1.1237139152116806},{"$f":"+PRODUCT(D26:D28)","v":1.0914197770689789},{"$f":"+PRODUCT(D27:D28)","v":1.060053732228551},{"$f":"+PRODUCT(D28:D28)","v":1.0295891084449909}]
[{"$f":"+T!A29","v":2042},{"$f":"+T!G29","v":6.1300452985096551E-2},{"$f":"+T!H29","v":3.0800000000000001E-2},1.0295891084449909,27,38.816102017832364,null,1,{"$f":"+PRODUCT(D4:D29)","v":1.9391520061528598},{"$f":"+PRODUCT(D5:D29)","v":1.9160845801395292},{"$f":"+PRODUCT(D6:D29)","v":1.8894317267953622},{"$f":"+PRODUCT(D7:D29)","v":1.8592525548899028},{"$f":"+PRODUCT(D8:D29)","v":1.8442585826730491},{"$f":"+PRODUCT(D9:D29)","v":1.8178175994089196},{"$f":"+PRODUCT(D10:D29)","v":1.7917556983421246},{"$f":"+PRODUCT(D11:D29)","v":1.7402628715141026},{"$f":"+PRODUCT(D12:D29)","v":1.6902498843858758},{"$f":"+PRODUCT(D13:D29)","v":1.6416742082078686},{"$f":"+PRODUCT(D14:D29)","v":1.5944945364537919},{"$f":"+PRODUCT(D15:D29)","v":1.5486707496954675},{"$f":"+PRODUCT(D16:D29)","v":1.504163881487107},{"$f":"+PRODUCT(D17:D29)","v":1.460936085230035},{"$f":"+PRODUCT(D18:D29)","v":1.4189506019896774},{"$f":"+PRODUCT(D19:D29)","v":1.3781717292374498},{"$f":"+PRODUCT(D20:D29)","v":1.3385647904909661},{"$f":"+PRODUCT(D21:D29)","v":1.3000961058267482},{"$f":"+PRODUCT(D22:D29)","v":1.2627329632403643},{"$f":"+PRODUCT(D23:D29)","v":1.226443590829642},{"$f":"+PRODUCT(D24:D29)","v":1.1911971297772996},{"$f":"+PRODUCT(D25:D29)","v":1.1569636081100243},{"$f":"+PRODUCT(D26:D29)","v":1.1237139152116806},{"$f":"+PRODUCT(D27:D29)","v":1.0914197770689789},{"$f":"+PRODUCT(D28:D29)","v":1.060053732228551},{"$f":"+PRODUCT(D29:D29)","v":1.0295891084449909}]
[{"$f":"+T!A30","v":2043},{"$f":"+T!G30","v":6.1300452985096551E-2},{"$f":"+T!H30","v":3.0800000000000001E-2},1.0295891084449909,28,40.994224978294831,null,1,{"$f":"+PRODUCT(D4:D30)","v":1.9965297851542383},{"$f":"+PRODUCT(D5:D30)","v":1.9727798145710524},{"$f":"+PRODUCT(D6:D30)","v":1.9453383270589164},{"$f":"+PRODUCT(D7:D30)","v":1.9142661803631664},{"$f":"+PRODUCT(D8:D30)","v":1.8988285498763671},{"$f":"+PRODUCT(D9:D30)","v":1.8716052014910431},{"$f":"+PRODUCT(D10:D30)","v":1.8447721520072999},{"$f":"+PRODUCT(D11:D30)","v":1.7917556983421246},{"$f":"+PRODUCT(D12:D30)","v":1.7402628715141026},{"$f":"+PRODUCT(D13:D30)","v":1.6902498843858758},{"$f":"+PRODUCT(D14:D30)","v":1.6416742082078686},{"$f":"+PRODUCT(D15:D30)","v":1.5944945364537919},{"$f":"+PRODUCT(D16:D30)","v":1.5486707496954675},{"$f":"+PRODUCT(D17:D30)","v":1.504163881487107},{"$f":"+PRODUCT(D18:D30)","v":1.460936085230035},{"$f":"+PRODUCT(D19:D30)","v":1.4189506019896774},{"$f":"+PRODUCT(D20:D30)","v":1.3781717292374498},{"$f":"+PRODUCT(D21:D30)","v":1.3385647904909661},{"$f":"+PRODUCT(D22:D30)","v":1.3000961058267482},{"$f":"+PRODUCT(D23:D30)","v":1.2627329632403643},{"$f":"+PRODUCT(D24:D30)","v":1.226443590829642},{"$f":"+PRODUCT(D25:D30)","v":1.1911971297772996},{"$f":"+PRODUCT(D26:D30)","v":1.1569636081100243},{"$f":"+PRODUCT(D27:D30)","v":1.1237139152116806},{"$f":"+PRODUCT(D28:D30)","v":1.0914197770689789},{"$f":"+PRODUCT(D29:D30)","v":1.060053732228551},{"$f":"+PRODUCT(D30:D30)","v":1.0295891084449909}]
[{"$f":"+T!A31","v":2044},{"$f":"+T!G31","v":6.1300452985096551E-2},{"$f":"+T!H31","v":3.0800000000000001E-2},1.0295891084449909,29,43.236796655240937,null,1,{"$f":"+PRODUCT(D4:D31)","v":2.0556053214808214},{"$f":"+PRODUCT(D5:D31)","v":2.0311526104424842},{"$f":"+PRODUCT(D6:D31)","v":2.0028991537804597},{"$f":"+PRODUCT(D7:D31)","v":1.9709076099665106},{"$f":"+PRODUCT(D8:D31)","v":1.9550131937571036},{"$f":"+PRODUCT(D9:D31)","v":1.9269843307641705},{"$f":"+PRODUCT(D10:D31)","v":1.899357315269343},{"$f":"+PRODUCT(D11:D31)","v":1.8447721520072999},{"$f":"+PRODUCT(D12:D31)","v":1.7917556983421246},{"$f":"+PRODUCT(D13:D31)","v":1.7402628715141026},{"$f":"+PRODUCT(D14:D31)","v":1.6902498843858758},{"$f":"+PRODUCT(D15:D31)","v":1.6416742082078686},{"$f":"+PRODUCT(D16:D31)","v":1.5944945364537919},{"$f":"+PRODUCT(D17:D31)","v":1.5486707496954675},{"$f":"+PRODUCT(D18:D31)","v":1.504163881487107},{"$f":"+PRODUCT(D19:D31)","v":1.460936085230035},{"$f":"+PRODUCT(D20:D31)","v":1.4189506019896774},{"$f":"+PRODUCT(D21:D31)","v":1.3781717292374498},{"$f":"+PRODUCT(D22:D31)","v":1.3385647904909661},{"$f":"+PRODUCT(D23:D31)","v":1.3000961058267482},{"$f":"+PRODUCT(D24:D31)","v":1.2627329632403643},{"$f":"+PRODUCT(D25:D31)","v":1.226443590829642},{"$f":"+PRODUCT(D26:D31)","v":1.1911971297772996},{"$f":"+PRODUCT(D27:D31)","v":1.1569636081100243},{"$f":"+PRODUCT(D28:D31)","v":1.1237139152116806},{"$f":"+PRODUCT(D29:D31)","v":1.0914197770689789},{"$f":"+PRODUCT(D30:D31)","v":1.060053732228551},{"$f":"+PRODUCT(D31:D31)","v":1.0295891084449909}]
[{"$f":"+T!A32","v":2045},{"$f":"+T!G32","v":6.1300452985096551E-2},{"$f":"+T!H32","v":3.0800000000000001E-2},1.0295891084449909,30,45.545724028731861,null,1,{"$f":"+PRODUCT(D4:D32)","v":2.1164288502582176},{"$f":"+PRODUCT(D5:D32)","v":2.0912526053011931},{"$f":"+PRODUCT(D6:D32)","v":2.0621631540460501},{"$f":"+PRODUCT(D7:D32)","v":2.0292250089728676},{"$f":"+PRODUCT(D8:D32)","v":2.0128602911585705},{"$f":"+PRODUCT(D9:D32)","v":1.9840020790989497},{"$f":"+PRODUCT(D10:D32)","v":1.9555576048466343},{"$f":"+PRODUCT(D11:D32)","v":1.899357315269343},{"$f":"+PRODUCT(D12:D32)","v":1.8447721520072999},{"$f":"+PRODUCT(D13:D32)","v":1.7917556983421246},{"$f":"+PRODUCT(D14:D32)","v":1.7402628715141026},{"$f":"+PRODUCT(D15:D32)","v":1.6902498843858758},{"$f":"+PRODUCT(D16:D32)","v":1.6416742082078686},{"$f":"+PRODUCT(D17:D32)","v":1.5944945364537919},{"$f":"+PRODUCT(D18:D32)","v":1.5486707496954675},{"$f":"+PRODUCT(D19:D32)","v":1.504163881487107},{"$f":"+PRODUCT(D20:D32)","v":1.460936085230035},{"$f":"+PRODUCT(D21:D32)","v":1.4189506019896774},{"$f":"+PRODUCT(D22:D32)","v":1.3781717292374498},{"$f":"+PRODUCT(D23:D32)","v":1.3385647904909661},{"$f":"+PRODUCT(D24:D32)","v":1.3000961058267482},{"$f":"+PRODUCT(D25:D32)","v":1.2627329632403643},{"$f":"+PRODUCT(D26:D32)","v":1.226443590829642},{"$f":"+PRODUCT(D27:D32)","v":1.1911971297772996},{"$f":"+PRODUCT(D28:D32)","v":1.1569636081100243},{"$f":"+PRODUCT(D29:D32)","v":1.1237139152116806},{"$f":"+PRODUCT(D30:D32)","v":1.0914197770689789},{"$f":"+PRODUCT(D31:D32)","v":1.060053732228551},{"$f":"+PRODUCT(D32:D32)","v":1.0295891084449909}]
[]
[]
[" Fecha(Anual) ","r_t","c_y_t","1+r_t / 1+c_y_t","t","Multiplicatoria inversa",0,{"$f":"+G35+1","v":1},{"$f":"+H35+1","v":2},{"$f":"+I35+1","v":3},{"$f":"+J35+1","v":4},{"$f":"+K35+1","v":5},{"$f":"+L35+1","v":6},{"$f":"+M35+1","v":7},{"$f":"+N35+1","v":8},{"$f":"+O35+1","v":9},{"$f":"+P35+1","v":10},{"$f":"+Q35+1","v":11},{"$f":"+R35+1","v":12},{"$f":"+S35+1","v":13},{"$f":"+T35+1","v":14},{"$f":"+U35+1","v":15},{"$f":"+V35+1","v":16},{"$f":"+W35+1","v":17},{"$f":"+X35+1","v":18},{"$f":"+Y35+1","v":19},{"$f":"+Z35+1","v":20},{"$f":"+AA35+1","v":21},{"$f":"+AB35+1","v":22},{"$f":"+AC35+1","v":23},{"$f":"+AD35+1","v":24},{"$f":"+AE35+1","v":25},{"$f":"+AF35+1","v":26},{"$f":"+AG35+1","v":27},{"$f":"+AH35+1","v":28},{"$f":"+AI35+1","v":29},{"$f":"+AJ35+1","v":30}]
[{"$f":"+A3","v":2016},null,null,1,0]
[{"$f":"+A36+1","v":2017},{"$f":"+B4","v":4.24E-2},{"$f":"+C4","v":0.03},{"$f":"(1+B37)/(1+C37)","v":1.0120388349514562},1,null,null,1]
[{"$f":"+A37+1","v":2018},{"$f":"+B5","v":4.9599999999999998E-2},3.5000000000000003E-2,{"$f":"(1+B38)/(1+C38)","v":1.0141062801932368},{"$f":"+E37+1","v":2},{"$f":"+SUM(I38:AK38)","v":1.0141062801932368},null,1,{"$f":"+PRODUCT(D38:D38)","v":1.0141062801932368}]
[2019,{"$f":"+B6","v":5.1799999999999999E-2},3.5000000000000003E-2,1.0162318840579712,{"$f":"+E38+1","v":3},{"$f":"+SUM(I39:AK39)","v":2.0467990198137649},null,1,{"$f":"+PRODUCT(D38:D39)","v":1.0305671357557937},{"$f":"+PRODUCT(D39:D39)","v":1.0162318840579712}]
[2020,{"$f":"+B7","v":5.3495934959349345E-2},4.4999999999999998E-2,1.0081300813008129,4,3.0715697435520877,null,1,{"$f":"+PRODUCT(D38:D40)","v":1.0389457303554344},{"$f":"+PRODUCT(D39:D40)","v":1.0244939318958408},{"$f":"+PRODUCT(D40:D40)","v":1.0081300813008129},{"$f":"+IF(L35>E40,\"\",1)","v":""}]
[2021,{"$f":"+B8","v":6.0199999999999997E-2},4.4999999999999998E-2,1.0145454545454546,5,4.1307925761855735,null,1,{"$f":"+PRODUCT(D38:D41)","v":1.0540576682515135},{"$f":"+PRODUCT(D39:D41)","v":1.0393956618143259},{"$f":"+PRODUCT(D40:D41)","v":1.0227937915742793},{"$f":"+PRODUCT(D41:D41)","v":1.0145454545454546}]
[2022,{"$f":"+B9","v":6.0199999999999997E-2},4.4999999999999998E-2,1.0145454545454546,6,5.2054222863846364,null,1,{"$f":"+PRODUCT(D38:D42)","v":1.0693894161533537},{"$f":"+PRODUCT(D39:D42)","v":1.0545141441679888},{"$f":"+PRODUCT(D40:D42)","v":1.0376707921789963},{"$f":"+PRODUCT(D41:D42)","v":1.0293024793388432},{"$f":"+PRODUCT(D42:D42)","v":1.0145454545454546}]
[2023,{"$f":"+B10","v":6.1300452985096551E-2},3.0800000000000001E-2,1.0295891084449909,7,6.3890351993634358,null,1,{"$f":"+PRODUCT(D38:D43)","v":1.1010316955578408},{"$f":"+PRODUCT(D39:D43)","v":1.0857162775365521},{"$f":"+PRODUCT(D40:D43)","v":1.0683745457789802},{"$f":"+PRODUCT(D41:D43)","v":1.0597586220226982},{"$f":"+PRODUCT(D42:D43)","v":1.0445649500223726},{"$f":"+PRODUCT(D43:D43)","v":1.0295891084449909}]
[2024,{"$f":"+B11","v":6.1300452985096551E-2},3.0800000000000001E-2,1.0295891084449909,8,7.607670163181254,null,1,{"$f":"+PRODUCT(D38:D44)","v":1.1336102417990739},{"$f":"+PRODUCT(D39:D44)","v":1.1178416542130729},{"$f":"+PRODUCT(D40:D44)","v":1.0999867960739023},{"$f":"+PRODUCT(D41:D44)","v":1.0911159348152419},{"$f":"+PRODUCT(D42:D44)","v":1.0754726956064211},{"$f":"+PRODUCT(D43:D44)","v":1.060053732228551},{"$f":"+PRODUCT(D44:D44)","v":1.0295891084449909}]
[2025,{"$f":"+B12","v":6.1300452985096551E-2},3.0800000000000001E-2,1.0295891084449909,9,8.8623634490983374,null,1,{"$f":"+PRODUCT(D38:D45)","v":1.167152758178019},{"$f":"+PRODUCT(D39:D45)","v":1.1509175921439114},{"$f":"+PRODUCT(D40:D45)","v":1.132534424670991},{"$f":"+PRODUCT(D41:D45)","v":1.1234010825365477},{"$f":"+PRODUCT(D42:D45)","v":1.1072949738263462},{"$f":"+PRODUCT(D43:D45)","v":1.0914197770689789},{"$f":"+PRODUCT(D44:D45)","v":1.060053732228551},{"$f":"+PRODUCT(D45:D45)","v":1.0295891084449909}]
[2026,{"$f":"+B13","v":6.1300452985096551E-2},3.0800000000000001E-2,1.0295891084449909,10,10.154181990717621,null,1,{"$f":"+PRODUCT(D38:D46)","v":1.2016877677116187},{"$f":"+PRODUCT(D39:D46)","v":1.1849722175891053},{"$f":"+PRODUCT(D40:D46)","v":1.1660451085802663},{"$f":"+PRODUCT(D41:D46)","v":1.1566415189949417},{"$f":"+PRODUCT(D42:D46)","v":1.1400588448874873},{"$f":"+PRODUCT(D43:D46)","v":1.1237139152116806},{"$f":"+PRODUCT(D44:D46)","v":1.0914197770689789},{"$f":"+PRODUCT(D45:D46)","v":1.060053732228551},{"$f":"+PRODUCT(D46:D46)","v":1.0295891084449909}]
[2027,{"$f":"+B14","v":6.1300452985096551E-2},3.0800000000000001E-2,1.0295891084449909,11,11.48422429125613,null,1,{"$f":"+PRODUCT(D38:D47)","v":1.2372446373874568},{"$f":"+PRODUCT(D39:D47)","v":1.2200344890396506},{"$f":"+PRODUCT(D40:D47)","v":1.2005473437497989},{"$f":"+PRODUCT(D41:D47)","v":1.1908655103324619},{"$f":"+PRODUCT(D42:D47)","v":1.1737921696825342},{"$f":"+PRODUCT(D43:D47)","v":1.1569636081100243},{"$f":"+PRODUCT(D44:D47)","v":1.1237139152116806},{"$f":"+PRODUCT(D45:D47)","v":1.0914197770689789},{"$f":"+PRODUCT(D46:D47)","v":1.060053732228551},{"$f":"+PRODUCT(D47:D47)","v":1.0295891084449909}]
[2028,{"$f":"+B15","v":6.1300452985096551E-2},3.0800000000000001E-2,1.0295891084449909,12,12.853621357661696,null,1,{"$f":"+PRODUCT(D38:D48)","v":1.2738536031360976},{"$f":"+PRODUCT(D39:D48)","v":1.2561342218424738},{"$f":"+PRODUCT(D40:D48)","v":1.2360704692973574},{"$f":"+PRODUCT(D41:D48)","v":1.2261021590610885},{"$f":"+PRODUCT(D42:D48)","v":1.2085236334831517},{"$f":"+PRODUCT(D43:D48)","v":1.1911971297772996},{"$f":"+PRODUCT(D44:D48)","v":1.1569636081100243},{"$f":"+PRODUCT(D45:D48)","v":1.1237139152116806},{"$f":"+PRODUCT(D46:D48)","v":1.0914197770689789},{"$f":"+PRODUCT(D47:D48)","v":1.060053732228551},{"$f":"+PRODUCT(D48:D48)","v":1.0295891084449909}]
[2029,{"$f":"+B16","v":6.1300452985096551E-2},3.0800000000000001E-2,1.0295891084449909,13,14.263537662369387,null,1,{"$f":"+PRODUCT(D38:D49)","v":1.311545795542334},{"$f":"+PRODUCT(D39:D49)","v":1.293302113554035},{"$f":"+PRODUCT(D40:D49)","v":1.2726446924590478},{"$f":"+PRODUCT(D41:D49)","v":1.2623814288101844},{"$f":"+PRODUCT(D42:D49)","v":1.2442827703326191},{"$f":"+PRODUCT(D43:D49)","v":1.226443590829642},{"$f":"+PRODUCT(D44:D49)","v":1.1911971297772996},{"$f":"+PRODUCT(D45:D49)","v":1.1569636081100243},{"$f":"+PRODUCT(D46:D49)","v":1.1237139152116806},{"$f":"+PRODUCT(D47:D49)","v":1.0914197770689789},{"$f":"+PRODUCT(D48:D49)","v":1.060053732228551},{"$f":"+PRODUCT(D49:D49)","v":1.0295891084449909}]
[2030,{"$f":"+B17","v":6.1300452985096551E-2},3.0800000000000001E-2,1.0295891084449909,14,15.715172133515438,null,1,{"$f":"+PRODUCT(D38:D50)","v":1.350353266317208},{"$f":"+PRODUCT(D39:D50)","v":1.3315697700441211},{"$f":"+PRODUCT(D40:D50)","v":1.3103011142761605},{"$f":"+PRODUCT(D41:D50)","v":1.2997341698061915},{"$f":"+PRODUCT(D42:D50)","v":1.2810999881602247},{"$f":"+PRODUCT(D43:D50)","v":1.2627329632403643},{"$f":"+PRODUCT(D44:D50)","v":1.226443590829642},{"$f":"+PRODUCT(D45:D50)","v":1.1911971297772996},{"$f":"+PRODUCT(D46:D50)","v":1.1569636081100243},{"$f":"+PRODUCT(D47:D50)","v":1.1237139152116806},{"$f":"+PRODUCT(D48:D50)","v":1.0914197770689789},{"$f":"+PRODUCT(D49:D50)","v":1.060053732228551},{"$f":"+PRODUCT(D50:D50)","v":1.0295891084449909}]
[2031,{"$f":"+B18","v":6.1300452985096551E-2},3.0800000000000001E-2,1.0295891084449909,15,17.209759174450713,null,1,{"$f":"+PRODUCT(D38:D51)","v":1.3903090155533155},{"$f":"+PRODUCT(D39:D51)","v":1.3709697323720282},{"$f":"+PRODUCT(D40:D51)","v":1.3490717560420702},{"$f":"+PRODUCT(D41:D51)","v":1.3381921451062471},{"$f":"+PRODUCT(D42:D51)","v":1.3190065946387741},{"$f":"+PRODUCT(D43:D51)","v":1.3000961058267482},{"$f":"+PRODUCT(D44:D51)","v":1.2627329632403643},{"$f":"+PRODUCT(D45:D51)","v":1.226443590829642},{"$f":"+PRODUCT(D46:D51)","v":1.1911971297772996},{"$f":"+PRODUCT(D47:D51)","v":1.1569636081100243},{"$f":"+PRODUCT(D48:D51)","v":1.1237139152116806},{"$f":"+PRODUCT(D49:D51)","v":1.0914197770689789},{"$f":"+PRODUCT(D50:D51)","v":1.060053732228551},{"$f":"+PRODUCT(D51:D51)","v":1.0295891084449909}]
[2032,{"$f":"+B19","v":6.1300452985096551E-2},3.0800000000000001E-2,1.0295891084449909,16,18.748569713420704,null,1,{"$f":"+PRODUCT(D38:D52)","v":1.431447019786571},{"$f":"+PRODUCT(D39:D52)","v":1.4115355044579843},{"$f":"+PRODUCT(D40:D52)","v":1.3889895865316733},{"$f":"+PRODUCT(D41:D52)","v":1.3777880576080308},{"$f":"+PRODUCT(D42:D52)","v":1.3580348238071989},{"$f":"+PRODUCT(D43:D52)","v":1.3385647904909661},{"$f":"+PRODUCT(D44:D52)","v":1.3000961058267482},{"$f":"+PRODUCT(D45:D52)","v":1.2627329632403643},{"$f":"+PRODUCT(D46:D52)","v":1.226443590829642},{"$f":"+PRODUCT(D47:D52)","v":1.1911971297772996},{"$f":"+PRODUCT(D48:D52)","v":1.1569636081100243},{"$f":"+PRODUCT(D49:D52)","v":1.1237139152116806},{"$f":"+PRODUCT(D50:D52)","v":1.0914197770689789},{"$f":"+PRODUCT(D51:D52)","v":1.060053732228551},{"$f":"+PRODUCT(D52:D52)","v":1.0295891084449909}]
[2033,{"$f":"+B20","v":6.1300452985096551E-2},3.0800000000000001E-2,1.0295891084449909,17,20.33291228430457,null,1,{"$f":"+PRODUCT(D38:D53)","v":1.4738022608882948},{"$f":"+PRODUCT(D39:D53)","v":1.4533015815733463},{"$f":"+PRODUCT(D40:D53)","v":1.4300885500365219},{"$f":"+PRODUCT(D41:D53)","v":1.4185555778588081},{"$f":"+PRODUCT(D42:D53)","v":1.3982178634809042},{"$f":"+PRODUCT(D43:D53)","v":1.3781717292374498},{"$f":"+PRODUCT(D44:D53)","v":1.3385647904909661},{"$f":"+PRODUCT(D45:D53)","v":1.3000961058267482},{"$f":"+PRODUCT(D46:D53)","v":1.2627329632403643},{"$f":"+PRODUCT(D47:D53)","v":1.226443590829642},{"$f":"+PRODUCT(D48:D53)","v":1.1911971297772996},{"$f":"+PRODUCT(D49:D53)","v":1.1569636081100243},{"$f":"+PRODUCT(D50:D53)","v":1.1237139152116806},{"$f":"+PRODUCT(D51:D53)","v":1.0914197770689789},{"$f":"+PRODUCT(D52:D53)","v":1.060053732228551},{"$f":"+PRODUCT(D53:D53)","v":1.0295891084449909}]
[2034,{"$f":"+B21","v":6.1300452985096551E-2},3.0800000000000001E-2,1.0295891084449909,18,21.964134139332337,null,1,{"$f":"+PRODUCT(D38:D54)","v":1.5174107558121912},{"$f":"+PRODUCT(D39:D54)","v":1.4963034796737968},{"$f":"+PRODUCT(D40:D54)","v":1.4724035952294923},{"$f":"+PRODUCT(D41:D54)","v":1.4605293726873192},{"$f":"+PRODUCT(D42:D54)","v":1.439589883473164},{"$f":"+PRODUCT(D43:D54)","v":1.4189506019896774},{"$f":"+PRODUCT(D44:D54)","v":1.3781717292374498},{"$f":"+PRODUCT(D45:D54)","v":1.3385647904909661},{"$f":"+PRODUCT(D46:D54)","v":1.3000961058267482},{"$f":"+PRODUCT(D47:D54)","v":1.2627329632403643},{"$f":"+PRODUCT(D48:D54)","v":1.226443590829642},{"$f":"+PRODUCT(D49:D54)","v":1.1911971297772996},{"$f":"+PRODUCT(D50:D54)","v":1.1569636081100243},{"$f":"+PRODUCT(D51:D54)","v":1.1237139152116806},{"$f":"+PRODUCT(D52:D54)","v":1.0914197770689789},{"$f":"+PRODUCT(D53:D54)","v":1.060053732228551},{"$f":"+PRODUCT(D54:D54)","v":1.0295891084449909}]
[2035,{"$f":"+B22","v":6.1300452985096551E-2},3.0800000000000001E-2,1.0295891084449909,19,23.643622394726361,null,1,{"$f":"+PRODUCT(D38:D55)","v":1.5623095872215136},{"$f":"+PRODUCT(D39:D55)","v":1.540577765600482},{"$f":"+PRODUCT(D40:D55)","v":1.515970704883532},{"$f":"+PRODUCT(D41:D55)","v":1.5037451346828588},{"$f":"+PRODUCT(D42:D55)","v":1.4821860646515632},{"$f":"+PRODUCT(D43:D55)","v":1.460936085230035},{"$f":"+PRODUCT(D44:D55)","v":1.4189506019896774},{"$f":"+PRODUCT(D45:D55)","v":1.3781717292374498},{"$f":"+PRODUCT(D46:D55)","v":1.3385647904909661},{"$f":"+PRODUCT(D47:D55)","v":1.3000961058267482},{"$f":"+PRODUCT(D48:D55)","v":1.2627329632403643},{"$f":"+PRODUCT(D49:D55)","v":1.226443590829642},{"$f":"+PRODUCT(D50:D55)","v":1.1911971297772996},{"$f":"+PRODUCT(D51:D55)","v":1.1569636081100243},{"$f":"+PRODUCT(D52:D55)","v":1.1237139152116806},{"$f":"+PRODUCT(D53:D55)","v":1.0914197770689789},{"$f":"+PRODUCT(D54:D55)","v":1.060053732228551},{"$f":"+PRODUCT(D55:D55)","v":1.0295891084449909}]
[2036,{"$f":"+B23","v":6.1300452985096551E-2},3.0800000000000001E-2,1.0295891084449909,20,25.372805210241321,null,1,{"$f":"+PRODUCT(D38:D56)","v":1.6085369350224599},{"$f":"+PRODUCT(D39:D56)","v":1.5861620881747764},{"$f":"+PRODUCT(D40:D56)","v":1.5608269264697601},{"$f":"+PRODUCT(D41:D56)","v":1.5482396125466171},{"$f":"+PRODUCT(D42:D56)","v":1.5260426288541926},{"$f":"+PRODUCT(D43:D56)","v":1.504163881487107},{"$f":"+PRODUCT(D44:D56)","v":1.460936085230035},{"$f":"+PRODUCT(D45:D56)","v":1.4189506019896774},{"$f":"+PRODUCT(D46:D56)","v":1.3781717292374498},{"$f":"+PRODUCT(D47:D56)","v":1.3385647904909661},{"$f":"+PRODUCT(D48:D56)","v":1.3000961058267482},{"$f":"+PRODUCT(D49:D56)","v":1.2627329632403643},{"$f":"+PRODUCT(D50:D56)","v":1.226443590829642},{"$f":"+PRODUCT(D51:D56)","v":1.1911971297772996},{"$f":"+PRODUCT(D52:D56)","v":1.1569636081100243},{"$f":"+PRODUCT(D53:D56)","v":1.1237139152116806},{"$f":"+PRODUCT(D54:D56)","v":1.0914197770689789},{"$f":"+PRODUCT(D55:D56)","v":1.060053732228551},{"$f":"+PRODUCT(D56:D56)","v":1.0295891084449909}]
[2037,{"$f":"+B24","v":6.1300452985096551E-2},3.0800000000000001E-2,1.0295891084449909,21,27.153153003605773,null,1,{"$f":"+PRODUCT(D38:D57)","v":1.6561321088306127},{"$f":"+PRODUCT(D39:D57)","v":1.6330952102131131},{"$f":"+PRODUCT(D40:D57)","v":1.6070104036609356},{"$f":"+PRODUCT(D41:D57)","v":1.5940506423410896},{"$f":"+PRODUCT(D42:D57)","v":1.5711968696910383},{"$f":"+PRODUCT(D43:D57)","v":1.5486707496954675},{"$f":"+PRODUCT(D44:D57)","v":1.504163881487107},{"$f":"+PRODUCT(D45:D57)","v":1.460936085230035},{"$f":"+PRODUCT(D46:D57)","v":1.4189506019896774},{"$f":"+PRODUCT(D47:D57)","v":1.3781717292374498},{"$f":"+PRODUCT(D48:D57)","v":1.3385647904909661},{"$f":"+PRODUCT(D49:D57)","v":1.3000961058267482},{"$f":"+PRODUCT(D50:D57)","v":1.2627329632403643},{"$f":"+PRODUCT(D51:D57)","v":1.226443590829642},{"$f":"+PRODUCT(D52:D57)","v":1.1911971297772996},{"$f":"+PRODUCT(D53:D57)","v":1.1569636081100243},{"$f":"+PRODUCT(D54:D57)","v":1.1237139152116806},{"$f":"+PRODUCT(D55:D57)","v":1.0914197770689789},{"$f":"+PRODUCT(D56:D57)","v":1.060053732228551},{"$f":"+PRODUCT(D57:D57)","v":1.0295891084449909}]
[2038,{"$f":"+B25","v":6.1300452985096551E-2},3.0800000000000001E-2,1.0295891084449909,22,28.986179700897885,null,1,{"$f":"+PRODUCT(D38:D58)","v":1.7051355813980331},{"$f":"+PRODUCT(D39:D58)","v":1.6814170414891041},{"$f":"+PRODUCT(D40:D58)","v":1.6545604087670875},{"$f":"+PRODUCT(D41:D58)","v":1.6412171796641275},{"$f":"+PRODUCT(D42:D58)","v":1.6176871842567566},{"$f":"+PRODUCT(D43:D58)","v":1.5944945364537919},{"$f":"+PRODUCT(D44:D58)","v":1.5486707496954675},{"$f":"+PRODUCT(D45:D58)","v":1.504163881487107},{"$f":"+PRODUCT(D46:D58)","v":1.460936085230035},{"$f":"+PRODUCT(D47:D58)","v":1.4189506019896774},{"$f":"+PRODUCT(D48:D58)","v":1.3781717292374498},{"$f":"+PRODUCT(D49:D58)","v":1.3385647904909661},{"$f":"+PRODUCT(D50:D58)","v":1.3000961058267482},{"$f":"+PRODUCT(D51:D58)","v":1.2627329632403643},{"$f":"+PRODUCT(D52:D58)","v":1.226443590829642},{"$f":"+PRODUCT(D53:D58)","v":1.1911971297772996},{"$f":"+PRODUCT(D54:D58)","v":1.1569636081100243},{"$f":"+PRODUCT(D55:D58)","v":1.1237139152116806},{"$f":"+PRODUCT(D56:D58)","v":1.0914197770689789},{"$f":"+PRODUCT(D57:D58)","v":1.060053732228551},{"$f":"+PRODUCT(D58:D58)","v":1.0295891084449909}]
[2039,{"$f":"+B26","v":6.1300452985096551E-2},3.0800000000000001E-2,1.0295891084449909,23,30.873444023918744,null,1,{"$f":"+PRODUCT(D38:D59)","v":1.755589023029432},{"$f":"+PRODUCT(D39:D59)","v":1.731168672670981},{"$f":"+PRODUCT(D40:D59)","v":1.7035173761308853},{"$f":"+PRODUCT(D41:D59)","v":1.6897793327749915},{"$f":"+PRODUCT(D42:D59)","v":1.6655531057818016},{"$f":"+PRODUCT(D43:D59)","v":1.6416742082078686},{"$f":"+PRODUCT(D44:D59)","v":1.5944945364537919},{"$f":"+PRODUCT(D45:D59)","v":1.5486707496954675},{"$f":"+PRODUCT(D46:D59)","v":1.504163881487107},{"$f":"+PRODUCT(D47:D59)","v":1.460936085230035},{"$f":"+PRODUCT(D48:D59)","v":1.4189506019896774},{"$f":"+PRODUCT(D49:D59)","v":1.3781717292374498},{"$f":"+PRODUCT(D50:D59)","v":1.3385647904909661},{"$f":"+PRODUCT(D51:D59)","v":1.3000961058267482},{"$f":"+PRODUCT(D52:D59)","v":1.2627329632403643},{"$f":"+PRODUCT(D53:D59)","v":1.226443590829642},{"$f":"+PRODUCT(D54:D59)","v":1.1911971297772996},{"$f":"+PRODUCT(D55:D59)","v":1.1569636081100243},{"$f":"+PRODUCT(D56:D59)","v":1.1237139152116806},{"$f":"+PRODUCT(D57:D59)","v":1.0914197770689789},{"$f":"+PRODUCT(D58:D59)","v":1.060053732228551},{"$f":"+PRODUCT(D59:D59)","v":1.0295891084449909}]
[2040,{"$f":"+B27","v":6.1300452985096551E-2},3.0800000000000001E-2,1.0295891084449909,24,32.81655081565782,null,1,{"$f":"+PRODUCT(D38:D60)","v":1.8075353370166853},{"$f":"+PRODUCT(D39:D60)","v":1.7823924102632134},{"$f":"+PRODUCT(D40:D60)","v":1.7539229365111484},{"$f":"+PRODUCT(D41:D60)","v":1.7397783967005749},{"$f":"+PRODUCT(D42:D60)","v":1.7148353372496707},{"$f":"+PRODUCT(D43:D60)","v":1.6902498843858758},{"$f":"+PRODUCT(D44:D60)","v":1.6416742082078686},{"$f":"+PRODUCT(D45:D60)","v":1.5944945364537919},{"$f":"+PRODUCT(D46:D60)","v":1.5486707496954675},{"$f":"+PRODUCT(D47:D60)","v":1.504163881487107},{"$f":"+PRODUCT(D48:D60)","v":1.460936085230035},{"$f":"+PRODUCT(D49:D60)","v":1.4189506019896774},{"$f":"+PRODUCT(D50:D60)","v":1.3781717292374498},{"$f":"+PRODUCT(D51:D60)","v":1.3385647904909661},{"$f":"+PRODUCT(D52:D60)","v":1.3000961058267482},{"$f":"+PRODUCT(D53:D60)","v":1.2627329632403643},{"$f":"+PRODUCT(D54:D60)","v":1.226443590829642},{"$f":"+PRODUCT(D55:D60)","v":1.1911971297772996},{"$f":"+PRODUCT(D56:D60)","v":1.1569636081100243},{"$f":"+PRODUCT(D57:D60)","v":1.1237139152116806},{"$f":"+PRODUCT(D58:D60)","v":1.0914197770689789},{"$f":"+PRODUCT(D59:D60)","v":1.060053732228551},{"$f":"+PRODUCT(D60:D60)","v":1.0295891084449909}]
[2041,{"$f":"+B28","v":6.1300452985096551E-2},3.0800000000000001E-2,1.0295891084449909,25,34.817152404977861,null,1,{"$f":"+PRODUCT(D38:D61)","v":1.8610186961218251},{"$f":"+PRODUCT(D39:D61)","v":1.8351318125820202},{"$f":"+PRODUCT(D40:D61)","v":1.8058199524837335},{"$f":"+PRODUCT(D41:D61)","v":1.7912568883508004},{"$f":"+PRODUCT(D42:D61)","v":1.7655757860088537},{"$f":"+PRODUCT(D43:D61)","v":1.7402628715141026},{"$f":"+PRODUCT(D44:D61)","v":1.6902498843858758},{"$f":"+PRODUCT(D45:D61)","v":1.6416742082078686},{"$f":"+PRODUCT(D46:D61)","v":1.5944945364537919},{"$f":"+PRODUCT(D47:D61)","v":1.5486707496954675},{"$f":"+PRODUCT(D48:D61)","v":1.504163881487107},{"$f":"+PRODUCT(D49:D61)","v":1.460936085230035},{"$f":"+PRODUCT(D50:D61)","v":1.4189506019896774},{"$f":"+PRODUCT(D51:D61)","v":1.3781717292374498},{"$f":"+PRODUCT(D52:D61)","v":1.3385647904909661},{"$f":"+PRODUCT(D53:D61)","v":1.3000961058267482},{"$f":"+PRODUCT(D54:D61)","v":1.2627329632403643},{"$f":"+PRODUCT(D55:D61)","v":1.226443590829642},{"$f":"+PRODUCT(D56:D61)","v":1.1911971297772996},{"$f":"+PRODUCT(D57:D61)","v":1.1569636081100243},{"$f":"+PRODUCT(D58:D61)","v":1.1237139152116806},{"$f":"+PRODUCT(D59:D61)","v":1.0914197770689789},{"$f":"+PRODUCT(D60:D61)","v":1.060053732228551},{"$f":"+PRODUCT(D61:D61)","v":1.0295891084449909}]
[2042,{"$f":"+B29","v":6.1300452985096551E-2},3.0800000000000001E-2,1.0295891084449909,26,36.876950011679511,null,1,{"$f":"+PRODUCT(D38:D62)","v":1.9160845801395292},{"$f":"+PRODUCT(D39:D62)","v":1.8894317267953622},{"$f":"+PRODUCT(D40:D62)","v":1.8592525548899028},{"$f":"+PRODUCT(D41:D62)","v":1.8442585826730491},{"$f":"+PRODUCT(D42:D62)","v":1.8178175994089196},{"$f":"+PRODUCT(D43:D62)","v":1.7917556983421246},{"$f":"+PRODUCT(D44:D62)","v":1.7402628715141026},{"$f":"+PRODUCT(D45:D62)","v":1.6902498843858758},{"$f":"+PRODUCT(D46:D62)","v":1.6416742082078686},{"$f":"+PRODUCT(D47:D62)","v":1.5944945364537919},{"$f":"+PRODUCT(D48:D62)","v":1.5486707496954675},{"$f":"+PRODUCT(D49:D62)","v":1.504163881487107},{"$f":"+PRODUCT(D50:D62)","v":1.460936085230035},{"$f":"+PRODUCT(D51:D62)","v":1.4189506019896774},{"$f":"+PRODUCT(D52:D62)","v":1.3781717292374498},{"$f":"+PRODUCT(D53:D62)","v":1.3385647904909661},{"$f":"+PRODUCT(D54:D62)","v":1.3000961058267482},{"$f":"+PRODUCT(D55:D62)","v":1.2627329632403643},{"$f":"+PRODUCT(D56:D62)","v":1.226443590829642},{"$f":"+PRODUCT(D57:D62)","v":1.1911971297772996},{"$f":"+PRODUCT(D58:D62)","v":1.1569636081100243},{"$f":"+PRODUCT(D59:D62)","v":1.1237139152116806},{"$f":"+PRODUCT(D60:D62)","v":1.0914197770689789},{"$f":"+PRODUCT(D61:D62)","v":1.060053732228551},{"$f":"+PRODUCT(D62:D62)","v":1.0295891084449909}]
[2043,{"$f":"+B30","v":6.1300452985096551E-2},3.0800000000000001E-2,1.0295891084449909,27,38.997695193140594,null,1,{"$f":"+PRODUCT(D38:D63)","v":1.9727798145710524},{"$f":"+PRODUCT(D39:D63)","v":1.9453383270589164},{"$f":"+PRODUCT(D40:D63)","v":1.9142661803631664},{"$f":"+PRODUCT(D41:D63)","v":1.8988285498763671},{"$f":"+PRODUCT(D42:D63)","v":1.8716052014910431},{"$f":"+PRODUCT(D43:D63)","v":1.8447721520072999},{"$f":"+PRODUCT(D44:D63)","v":1.7917556983421246},{"$f":"+PRODUCT(D45:D63)","v":1.7402628715141026},{"$f":"+PRODUCT(D46:D63)","v":1.6902498843858758},{"$f":"+PRODUCT(D47:D63)","v":1.6416742082078686},{"$f":"+PRODUCT(D48:D63)","v":1.5944945364537919},{"$f":"+PRODUCT(D49:D63)","v":1.5486707496954675},{"$f":"+PRODUCT(D50:D63)","v":1.504163881487107},{"$f":"+PRODUCT(D51:D63)","v":1.460936085230035},{"$f":"+PRODUCT(D52:D63)","v":1.4189506019896774},{"$f":"+PRODUCT(D53:D63)","v":1.3781717292374498},{"$f":"+PRODUCT(D54:D63)","v":1.3385647904909661},{"$f":"+PRODUCT(D55:D63)","v":1.3000961058267482},{"$f":"+PRODUCT(D56:D63)","v":1.2627329632403643},{"$f":"+PRODUCT(D57:D63)","v":1.226443590829642},{"$f":"+PRODUCT(D58:D63)","v":1.1911971297772996},{"$f":"+PRODUCT(D59:D63)","v":1.1569636081100243},{"$f":"+PRODUCT(D60:D63)","v":1.1237139152116806},{"$f":"+PRODUCT(D61:D63)","v":1.0914197770689789},{"$f":"+PRODUCT(D62:D63)","v":1.060053732228551},{"$f":"+PRODUCT(D63:D63)","v":1.0295891084449909}]
[2044,{"$f":"+B31","v":6.1300452985096551E-2},3.0800000000000001E-2,1.0295891084449909,28,41.181191333760118,null,1,{"$f":"+PRODUCT(D38:D64)","v":2.0311526104424842},{"$f":"+PRODUCT(D39:D64)","v":2.0028991537804597},{"$f":"+PRODUCT(D40:D64)","v":1.9709076099665106},{"$f":"+PRODUCT(D41:D64)","v":1.9550131937571036},{"$f":"+PRODUCT(D42:D64)","v":1.9269843307641705},{"$f":"+PRODUCT(D43:D64)","v":1.899357315269343},{"$f":"+PRODUCT(D44:D64)","v":1.8447721520072999},{"$f":"+PRODUCT(D45:D64)","v":1.7917556983421246},{"$f":"+PRODUCT(D46:D64)","v":1.7402628715141026},{"$f":"+PRODUCT(D47:D64)","v":1.6902498843858758},{"$f":"+PRODUCT(D48:D64)","v":1.6416742082078686},{"$f":"+PRODUCT(D49:D64)","v":1.5944945364537919},{"$f":"+PRODUCT(D50:D64)","v":1.5486707496954675},{"$f":"+PRODUCT(D51:D64)","v":1.504163881487107},{"$f":"+PRODUCT(D52:D64)","v":1.460936085230035},{"$f":"+PRODUCT(D53:D64)","v":1.4189506019896774},{"$f":"+PRODUCT(D54:D64)","v":1.3781717292374498},{"$f":"+PRODUCT(D55:D64)","v":1.3385647904909661},{"$f":"+PRODUCT(D56:D64)","v":1.3000961058267482},{"$f":"+PRODUCT(D57:D64)","v":1.2627329632403643},{"$f":"+PRODUCT(D58:D64)","v":1.226443590829642},{"$f":"+PRODUCT(D59:D64)","v":1.1911971297772996},{"$f":"+PRODUCT(D60:D64)","v":1.1569636081100243},{"$f":"+PRODUCT(D61:D64)","v":1.1237139152116806},{"$f":"+PRODUCT(D62:D64)","v":1.0914197770689789},{"$f":"+PRODUCT(D63:D64)","v":1.060053732228551},{"$f":"+PRODUCT(D64:D64)","v":1.0295891084449909}]
[2045,{"$f":"+B32","v":6.1300452985096551E-2},3.0800000000000001E-2,1.0295891084449909,29,43.429295178473652,null,1,{"$f":"+PRODUCT(D38:D65)","v":2.0912526053011931},{"$f":"+PRODUCT(D39:D65)","v":2.0621631540460501},{"$f":"+PRODUCT(D40:D65)","v":2.0292250089728676},{"$f":"+PRODUCT(D41:D65)","v":2.0128602911585705},{"$f":"+PRODUCT(D42:D65)","v":1.9840020790989497},{"$f":"+PRODUCT(D43:D65)","v":1.9555576048466343},{"$f":"+PRODUCT(D44:D65)","v":1.899357315269343},{"$f":"+PRODUCT(D45:D65)","v":1.8447721520072999},{"$f":"+PRODUCT(D46:D65)","v":1.7917556983421246},{"$f":"+PRODUCT(D47:D65)","v":1.7402628715141026},{"$f":"+PRODUCT(D48:D65)","v":1.6902498843858758},{"$f":"+PRODUCT(D49:D65)","v":1.6416742082078686},{"$f":"+PRODUCT(D50:D65)","v":1.5944945364537919},{"$f":"+PRODUCT(D51:D65)","v":1.5486707496954675},{"$f":"+PRODUCT(D52:D65)","v":1.504163881487107},{"$f":"+PRODUCT(D53:D65)","v":1.460936085230035},{"$f":"+PRODUCT(D54:D65)","v":1.4189506019896774},{"$f":"+PRODUCT(D55:D65)","v":1.3781717292374498},{"$f":"+PRODUCT(D56:D65)","v":1.3385647904909661},{"$f":"+PRODUCT(D57:D65)","v":1.3000961058267482},{"$f":"+PRODUCT(D58:D65)","v":1.2627329632403643},{"$f":"+PRODUCT(D59:D65)","v":1.226443590829642},{"$f":"+PRODUCT(D60:D65)","v":1.1911971297772996},{"$f":"+PRODUCT(D61:D65)","v":1.1569636081100243},{"$f":"+PRODUCT(D62:D65)","v":1.1237139152116806},{"$f":"+PRODUCT(D63:D65)","v":1.0914197770689789},{"$f":"+PRODUCT(D64:D65)","v":1.060053732228551},{"$f":"+PRODUCT(D65:D65)","v":1.0295891084449909}]
[2046,{"$f":"+B33","v":0},0,1,30,44.429295178473652,null,1,{"$f":"+PRODUCT(D38:D66)","v":2.0912526053011931},{"$f":"+PRODUCT(D39:D66)","v":2.0621631540460501},{"$f":"+PRODUCT(D40:D66)","v":2.0292250089728676},{"$f":"+PRODUCT(D41:D66)","v":2.0128602911585705},{"$f":"+PRODUCT(D42:D66)","v":1.9840020790989497},{"$f":"+PRODUCT(D43:D66)","v":1.9555576048466343},{"$f":"+PRODUCT(D44:D66)","v":1.899357315269343},{"$f":"+PRODUCT(D45:D66)","v":1.8447721520072999},{"$f":"+PRODUCT(D46:D66)","v":1.7917556983421246},{"$f":"+PRODUCT(D47:D66)","v":1.7402628715141026},{"$f":"+PRODUCT(D48:D66)","v":1.6902498843858758},{"$f":"+PRODUCT(D49:D66)","v":1.6416742082078686},{"$f":"+PRODUCT(D50:D66)","v":1.5944945364537919},{"$f":"+PRODUCT(D51:D66)","v":1.5486707496954675},{"$f":"+PRODUCT(D52:D66)","v":1.504163881487107},{"$f":"+PRODUCT(D53:D66)","v":1.460936085230035},{"$f":"+PRODUCT(D54:D66)","v":1.4189506019896774},{"$f":"+PRODUCT(D55:D66)","v":1.3781717292374498},{"$f":"+PRODUCT(D56:D66)","v":1.3385647904909661},{"$f":"+PRODUCT(D57:D66)","v":1.3000961058267482},{"$f":"+PRODUCT(D58:D66)","v":1.2627329632403643},{"$f":"+PRODUCT(D59:D66)","v":1.226443590829642},{"$f":"+PRODUCT(D60:D66)","v":1.1911971297772996},{"$f":"+PRODUCT(D61:D66)","v":1.1569636081100243},{"$f":"+PRODUCT(D62:D66)","v":1.1237139152116806},{"$f":"+PRODUCT(D63:D66)","v":1.0914197770689789},{"$f":"+PRODUCT(D64:D66)","v":1.060053732228551},{"$f":"+PRODUCT(D65:D66)","v":1.0295891084449909},{"$f":"+PRODUCT(D66:D66)","v":1}]
[]
[]
[" Fecha(Anual) ","r_t","c_y_t","1+r_t / 1+c_y_t","t","Multiplicatoria inversa",0,{"$f":"+G69+1","v":1},{"$f":"+H69+1","v":2},{"$f":"+I69+1","v":3},{"$f":"+J69+1","v":4},{"$f":"+K69+1","v":5},{"$f":"+L69+1","v":6},{"$f":"+M69+1","v":7},{"$f":"+N69+1","v":8},{"$f":"+O69+1","v":9},{"$f":"+P69+1","v":10},{"$f":"+Q69+1","v":11},{"$f":"+R69+1","v":12},{"$f":"+S69+1","v":13},{"$f":"+T69+1","v":14},{"$f":"+U69+1","v":15},{"$f":"+V69+1","v":16},{"$f":"+W69+1","v":17},{"$f":"+X69+1","v":18},{"$f":"+Y69+1","v":19},{"$f":"+Z69+1","v":20},{"$f":"+AA69+1","v":21},{"$f":"+AB69+1","v":22},{"$f":"+AC69+1","v":23},{"$f":"+AD69+1","v":24},{"$f":"+AE69+1","v":25},{"$f":"+AF69+1","v":26},{"$f":"+AG69+1","v":27},{"$f":"+AH69+1","v":28},{"$f":"+AI69+1","v":29},{"$f":"+AJ69+1","v":30}]
[{"$f":"+A37","v":2017},null,null,1,0]
[{"$f":"+A70+1","v":2018},{"$f":"+B38","v":4.9599999999999998E-2},{"$f":"+C38","v":3.5000000000000003E-2},{"$f":"(1+B71)/(1+C71)","v":1.0141062801932368},1,null,null,1]
[{"$f":"+A71+1","v":2019},{"$f":"+B39","v":5.1799999999999999E-2},3.5000000000000003E-2,{"$f":"(1+B72)/(1+C72)","v":1.0162318840579712},{"$f":"+E71+1","v":2},{"$f":"+SUM(I72:AK72)","v":1.0162318840579712},null,1,{"$f":"+PRODUCT(D72:D72)","v":1.0162318840579712}]
[2020,{"$f":"+B40","v":5.3495934959349345E-2},4.4999999999999998E-2,1.0081300813008129,{"$f":"+E72+1","v":3},{"$f":"+SUM(I73:AK73)","v":2.0326240131966538},null,1,{"$f":"+PRODUCT(D72:D73)","v":1.0244939318958408},{"$f":"+PRODUCT(D73:D73)","v":1.0081300813008129}]
[2021,{"$f":"+B41","v":6.0199999999999997E-2},4.4999999999999998E-2,1.0145454545454546,4,3.0767349079340596,null,1,{"$f":"+PRODUCT(D72:D74)","v":1.0393956618143259},{"$f":"+PRODUCT(D73:D74)","v":1.0227937915742793},{"$f":"+PRODUCT(D74:D74)","v":1.0145454545454546},{"$f":"+IF(L69>E74,\"\",1)","v":""}]
[2022,{"$f":"+B42","v":6.0199999999999997E-2},4.4999999999999998E-2,1.0145454545454546,5,4.1360328702312827,null,1,{"$f":"+PRODUCT(D72:D75)","v":1.0545141441679888},{"$f":"+PRODUCT(D73:D75)","v":1.0376707921789963},{"$f":"+PRODUCT(D74:D75)","v":1.0293024793388432},{"$f":"+PRODUCT(D75:D75)","v":1.0145454545454546}]
[2023,{"$f":"+B43","v":6.1300452985096551E-2},3.0800000000000001E-2,1.0295891084449909,6,5.2880035038055944,null,1,{"$f":"+PRODUCT(D72:D76)","v":1.0857162775365521},{"$f":"+PRODUCT(D73:D76)","v":1.0683745457789802},{"$f":"+PRODUCT(D74:D76)","v":1.0597586220226982},{"$f":"+PRODUCT(D75:D76)","v":1.0445649500223726},{"$f":"+PRODUCT(D76:D76)","v":1.0295891084449909}]
[2024,{"$f":"+B44","v":6.1300452985096551E-2},3.0800000000000001E-2,1.0295891084449909,7,6.4740599213821799,null,1,{"$f":"+PRODUCT(D72:D77)","v":1.1178416542130729},{"$f":"+PRODUCT(D73:D77)","v":1.0999867960739023},{"$f":"+PRODUCT(D74:D77)","v":1.0911159348152419},{"$f":"+PRODUCT(D75:D77)","v":1.0754726956064211},{"$f":"+PRODUCT(D76:D77)","v":1.060053732228551},{"$f":"+PRODUCT(D77:D77)","v":1.0295891084449909}]
[2025,{"$f":"+B45","v":6.1300452985096551E-2},3.0800000000000001E-2,1.0295891084449909,8,7.6952106909203177,null,1,{"$f":"+PRODUCT(D72:D78)","v":1.1509175921439114},{"$f":"+PRODUCT(D73:D78)","v":1.132534424670991},{"$f":"+PRODUCT(D74:D78)","v":1.1234010825365477},{"$f":"+PRODUCT(D75:D78)","v":1.1072949738263462},{"$f":"+PRODUCT(D76:D78)","v":1.0914197770689789},{"$f":"+PRODUCT(D77:D78)","v":1.060053732228551},{"$f":"+PRODUCT(D78:D78)","v":1.0295891084449909}]
[2026,{"$f":"+B46","v":6.1300452985096551E-2},3.0800000000000001E-2,1.0295891084449909,9,8.9524942230060027,null,1,{"$f":"+PRODUCT(D72:D79)","v":1.1849722175891053},{"$f":"+PRODUCT(D73:D79)","v":1.1660451085802663},{"$f":"+PRODUCT(D74:D79)","v":1.1566415189949417},{"$f":"+PRODUCT(D75:D79)","v":1.1400588448874873},{"$f":"+PRODUCT(D76:D79)","v":1.1237139152116806},{"$f":"+PRODUCT(D77:D79)","v":1.0914197770689789},{"$f":"+PRODUCT(D78:D79)","v":1.060053732228551},{"$f":"+PRODUCT(D79:D79)","v":1.0295891084449909}]
[2027,{"$f":"+B47","v":6.1300452985096551E-2},3.0800000000000001E-2,1.0295891084449909,10,10.246979653868673,null,1,{"$f":"+PRODUCT(D72:D80)","v":1.2200344890396506},{"$f":"+PRODUCT(D73:D80)","v":1.2005473437497989},{"$f":"+PRODUCT(D74:D80)","v":1.1908655103324619},{"$f":"+PRODUCT(D75:D80)","v":1.1737921696825342},{"$f":"+PRODUCT(D76:D80)","v":1.1569636081100243},{"$f":"+PRODUCT(D77:D80)","v":1.1237139152116806},{"$f":"+PRODUCT(D78:D80)","v":1.0914197770689789},{"$f":"+PRODUCT(D79:D80)","v":1.060053732228551},{"$f":"+PRODUCT(D80:D80)","v":1.0295891084449909}]
[2028,{"$f":"+B48","v":6.1300452985096551E-2},3.0800000000000001E-2,1.0295891084449909,11,11.579767754525598,null,1,{"$f":"+PRODUCT(D72:D81)","v":1.2561342218424738},{"$f":"+PRODUCT(D73:D81)","v":1.2360704692973574},{"$f":"+PRODUCT(D74:D81)","v":1.2261021590610885},{"$f":"+PRODUCT(D75:D81)","v":1.2085236334831517},{"$f":"+PRODUCT(D76:D81)","v":1.1911971297772996},{"$f":"+PRODUCT(D77:D81)","v":1.1569636081100243},{"$f":"+PRODUCT(D78:D81)","v":1.1237139152116806},{"$f":"+PRODUCT(D79:D81)","v":1.0914197770689789},{"$f":"+PRODUCT(D80:D81)","v":1.060053732228551},{"$f":"+PRODUCT(D81:D81)","v":1.0295891084449909}]
[2029,{"$f":"+B49","v":6.1300452985096551E-2},3.0800000000000001E-2,1.0295891084449909,12,12.951991866827054,null,1,{"$f":"+PRODUCT(D72:D82)","v":1.293302113554035},{"$f":"+PRODUCT(D73:D82)","v":1.2726446924590478},{"$f":"+PRODUCT(D74:D82)","v":1.2623814288101844},{"$f":"+PRODUCT(D75:D82)","v":1.2442827703326191},{"$f":"+PRODUCT(D76:D82)","v":1.226443590829642},{"$f":"+PRODUCT(D77:D82)","v":1.1911971297772996},{"$f":"+PRODUCT(D78:D82)","v":1.1569636081100243},{"$f":"+PRODUCT(D79:D82)","v":1.1237139152116806},{"$f":"+PRODUCT(D80:D82)","v":1.0914197770689789},{"$f":"+PRODUCT(D81:D82)","v":1.060053732228551},{"$f":"+PRODUCT(D82:D82)","v":1.0295891084449909}]
[2030,{"$f":"+B50","v":6.1300452985096551E-2},3.0800000000000001E-2,1.0295891084449909,13,14.364818867198229,null,1,{"$f":"+PRODUCT(D72:D83)","v":1.3315697700441211},{"$f":"+PRODUCT(D73:D83)","v":1.3103011142761605},{"$f":"+PRODUCT(D74:D83)","v":1.2997341698061915},{"$f":"+PRODUCT(D75:D83)","v":1.2810999881602247},{"$f":"+PRODUCT(D76:D83)","v":1.2627329632403643},{"$f":"+PRODUCT(D77:D83)","v":1.226443590829642},{"$f":"+PRODUCT(D78:D83)","v":1.1911971297772996},{"$f":"+PRODUCT(D79:D83)","v":1.1569636081100243},{"$f":"+PRODUCT(D80:D83)","v":1.1237139152116806},{"$f":"+PRODUCT(D81:D83)","v":1.0914197770689789},{"$f":"+PRODUCT(D82:D83)","v":1.060053732228551},{"$f":"+PRODUCT(D83:D83)","v":1.0295891084449909}]
[2031,{"$f":"+B51","v":6.1300452985096551E-2},3.0800000000000001E-2,1.0295891084449909,14,15.8194501588974,null,1,{"$f":"+PRODUCT(D72:D84)","v":1.3709697323720282},{"$f":"+PRODUCT(D73:D84)","v":1.3490717560420702},{"$f":"+PRODUCT(D74:D84)","v":1.3381921451062471},{"$f":"+PRODUCT(D75:D84)","v":1.3190065946387741},{"$f":"+PRODUCT(D76:D84)","v":1.3000961058267482},{"$f":"+PRODUCT(D77:D84)","v":1.2627329632403643},{"$f":"+PRODUCT(D78:D84)","v":1.226443590829642},{"$f":"+PRODUCT(D79:D84)","v":1.1911971297772996},{"$f":"+PRODUCT(D80:D84)","v":1.1569636081100243},{"$f":"+PRODUCT(D81:D84)","v":1.1237139152116806},{"$f":"+PRODUCT(D82:D84)","v":1.0914197770689789},{"$f":"+PRODUCT(D83:D84)","v":1.060053732228551},{"$f":"+PRODUCT(D84:D84)","v":1.0295891084449909}]
[2032,{"$f":"+B52","v":6.1300452985096551E-2},3.0800000000000001E-2,1.0295891084449909,15,17.317122693634129,null,1,{"$f":"+PRODUCT(D72:D85)","v":1.4115355044579843},{"$f":"+PRODUCT(D73:D85)","v":1.3889895865316733},{"$f":"+PRODUCT(D74:D85)","v":1.3777880576080308},{"$f":"+PRODUCT(D75:D85)","v":1.3580348238071989},{"$f":"+PRODUCT(D76:D85)","v":1.3385647904909661},{"$f":"+PRODUCT(D77:D85)","v":1.3000961058267482},{"$f":"+PRODUCT(D78:D85)","v":1.2627329632403643},{"$f":"+PRODUCT(D79:D85)","v":1.226443590829642},{"$f":"+PRODUCT(D80:D85)","v":1.1911971297772996},{"$f":"+PRODUCT(D81:D85)","v":1.1569636081100243},{"$f":"+PRODUCT(D82:D85)","v":1.1237139152116806},{"$f":"+PRODUCT(D83:D85)","v":1.0914197770689789},{"$f":"+PRODUCT(D84:D85)","v":1.060053732228551},{"$f":"+PRODUCT(D85:D85)","v":1.0295891084449909}]
[2033,{"$f":"+B53","v":6.1300452985096551E-2},3.0800000000000001E-2,1.0295891084449909,16,18.859110023416275,null,1,{"$f":"+PRODUCT(D72:D86)","v":1.4533015815733463},{"$f":"+PRODUCT(D73:D86)","v":1.4300885500365219},{"$f":"+PRODUCT(D74:D86)","v":1.4185555778588081},{"$f":"+PRODUCT(D75:D86)","v":1.3982178634809042},{"$f":"+PRODUCT(D76:D86)","v":1.3781717292374498},{"$f":"+PRODUCT(D77:D86)","v":1.3385647904909661},{"$f":"+PRODUCT(D78:D86)","v":1.3000961058267482},{"$f":"+PRODUCT(D79:D86)","v":1.2627329632403643},{"$f":"+PRODUCT(D80:D86)","v":1.226443590829642},{"$f":"+PRODUCT(D81:D86)","v":1.1911971297772996},{"$f":"+PRODUCT(D82:D86)","v":1.1569636081100243},{"$f":"+PRODUCT(D83:D86)","v":1.1237139152116806},{"$f":"+PRODUCT(D84:D86)","v":1.0914197770689789},{"$f":"+PRODUCT(D85:D86)","v":1.060053732228551},{"$f":"+PRODUCT(D86:D86)","v":1.0295891084449909}]
[2034,{"$f":"+B54","v":6.1300452985096551E-2},3.0800000000000001E-2,1.0295891084449909,17,20.446723383520144,null,1,{"$f":"+PRODUCT(D72:D87)","v":1.4963034796737968},{"$f":"+PRODUCT(D73:D87)","v":1.4724035952294923},{"$f":"+PRODUCT(D74:D87)","v":1.4605293726873192},{"$f":"+PRODUCT(D75:D87)","v":1.439589883473164},{"$f":"+PRODUCT(D76:D87)","v":1.4189506019896774},{"$f":"+PRODUCT(D77:D87)","v":1.3781717292374498},{"$f":"+PRODUCT(D78:D87)","v":1.3385647904909661},{"$f":"+PRODUCT(D79:D87)","v":1.3000961058267482},{"$f":"+PRODUCT(D80:D87)","v":1.2627329632403643},{"$f":"+PRODUCT(D81:D87)","v":1.226443590829642},{"$f":"+PRODUCT(D82:D87)","v":1.1911971297772996},{"$f":"+PRODUCT(D83:D87)","v":1.1569636081100243},{"$f":"+PRODUCT(D84:D87)","v":1.1237139152116806},{"$f":"+PRODUCT(D85:D87)","v":1.0914197770689789},{"$f":"+PRODUCT(D86:D87)","v":1.060053732228551},{"$f":"+PRODUCT(D87:D87)","v":1.0295891084449909}]
[2035,{"$f":"+B55","v":6.1300452985096551E-2},3.0800000000000001E-2,1.0295891084449909,18,22.081312807504844,null,1,{"$f":"+PRODUCT(D72:D88)","v":1.540577765600482},{"$f":"+PRODUCT(D73:D88)","v":1.515970704883532},{"$f":"+PRODUCT(D74:D88)","v":1.5037451346828588},{"$f":"+PRODUCT(D75:D88)","v":1.4821860646515632},{"$f":"+PRODUCT(D76:D88)","v":1.460936085230035},{"$f":"+PRODUCT(D77:D88)","v":1.4189506019896774},{"$f":"+PRODUCT(D78:D88)","v":1.3781717292374498},{"$f":"+PRODUCT(D79:D88)","v":1.3385647904909661},{"$f":"+PRODUCT(D80:D88)","v":1.3000961058267482},{"$f":"+PRODUCT(D81:D88)","v":1.2627329632403643},{"$f":"+PRODUCT(D82:D88)","v":1.226443590829642},{"$f":"+PRODUCT(D83:D88)","v":1.1911971297772996},{"$f":"+PRODUCT(D84:D88)","v":1.1569636081100243},{"$f":"+PRODUCT(D85:D88)","v":1.1237139152116806},{"$f":"+PRODUCT(D86:D88)","v":1.0914197770689789},{"$f":"+PRODUCT(D87:D88)","v":1.060053732228551},{"$f":"+PRODUCT(D88:D88)","v":1.0295891084449909}]
[2036,{"$f":"+B56","v":6.1300452985096551E-2},3.0800000000000001E-2,1.0295891084449909,19,23.764268275218864,null,1,{"$f":"+PRODUCT(D72:D89)","v":1.5861620881747764},{"$f":"+PRODUCT(D73:D89)","v":1.5608269264697601},{"$f":"+PRODUCT(D74:D89)","v":1.5482396125466171},{"$f":"+PRODUCT(D75:D89)","v":1.5260426288541926},{"$f":"+PRODUCT(D76:D89)","v":1.504163881487107},{"$f":"+PRODUCT(D77:D89)","v":1.460936085230035},{"$f":"+PRODUCT(D78:D89)","v":1.4189506019896774},{"$f":"+PRODUCT(D79:D89)","v":1.3781717292374498},{"$f":"+PRODUCT(D80:D89)","v":1.3385647904909661},{"$f":"+PRODUCT(D81:D89)","v":1.3000961058267482},{"$f":"+PRODUCT(D82:D89)","v":1.2627329632403643},{"$f":"+PRODUCT(D83:D89)","v":1.226443590829642},{"$f":"+PRODUCT(D84:D89)","v":1.1911971297772996},{"$f":"+PRODUCT(D85:D89)","v":1.1569636081100243},{"$f":"+PRODUCT(D86:D89)","v":1.1237139152116806},{"$f":"+PRODUCT(D87:D89)","v":1.0914197770689789},{"$f":"+PRODUCT(D88:D89)","v":1.060053732228551},{"$f":"+PRODUCT(D89:D89)","v":1.0295891084449909}]
[2037,{"$f":"+B57","v":6.1300452985096551E-2},3.0800000000000001E-2,1.0295891084449909,20,25.497020894775162,null,1,{"$f":"+PRODUCT(D72:D90)","v":1.6330952102131131},{"$f":"+PRODUCT(D73:D90)","v":1.6070104036609356},{"$f":"+PRODUCT(D74:D90)","v":1.5940506423410896},{"$f":"+PRODUCT(D75:D90)","v":1.5711968696910383},{"$f":"+PRODUCT(D76:D90)","v":1.5486707496954675},{"$f":"+PRODUCT(D77:D90)","v":1.504163881487107},{"$f":"+PRODUCT(D78:D90)","v":1.460936085230035},{"$f":"+PRODUCT(D79:D90)","v":1.4189506019896774},{"$f":"+PRODUCT(D80:D90)","v":1.3781717292374498},{"$f":"+PRODUCT(D81:D90)","v":1.3385647904909661},{"$f":"+PRODUCT(D82:D90)","v":1.3000961058267482},{"$f":"+PRODUCT(D83:D90)","v":1.2627329632403643},{"$f":"+PRODUCT(D84:D90)","v":1.226443590829642},{"$f":"+PRODUCT(D85:D90)","v":1.1911971297772996},{"$f":"+PRODUCT(D86:D90)","v":1.1569636081100243},{"$f":"+PRODUCT(D87:D90)","v":1.1237139152116806},{"$f":"+PRODUCT(D88:D90)","v":1.0914197770689789},{"$f":"+PRODUCT(D89:D90)","v":1.060053732228551},{"$f":"+PRODUCT(D90:D90)","v":1.0295891084449909}]
[2038,{"$f":"+B58","v":6.1300452985096551E-2},3.0800000000000001E-2,1.0295891084449909,21,27.281044119499853,null,1,{"$f":"+PRODUCT(D72:D91)","v":1.6814170414891041},{"$f":"+PRODUCT(D73:D91)","v":1.6545604087670875},{"$f":"+PRODUCT(D74:D91)","v":1.6412171796641275},{"$f":"+PRODUCT(D75:D91)","v":1.6176871842567566},{"$f":"+PRODUCT(D76:D91)","v":1.5944945364537919},{"$f":"+PRODUCT(D77:D91)","v":1.5486707496954675},{"$f":"+PRODUCT(D78:D91)","v":1.504163881487107},{"$f":"+PRODUCT(D79:D91)","v":1.460936085230035},{"$f":"+PRODUCT(D80:D91)","v":1.4189506019896774},{"$f":"+PRODUCT(D81:D91)","v":1.3781717292374498},{"$f":"+PRODUCT(D82:D91)","v":1.3385647904909661},{"$f":"+PRODUCT(D83:D91)","v":1.3000961058267482},{"$f":"+PRODUCT(D84:D91)","v":1.2627329632403643},{"$f":"+PRODUCT(D85:D91)","v":1.226443590829642},{"$f":"+PRODUCT(D86:D91)","v":1.1911971297772996},{"$f":"+PRODUCT(D87:D91)","v":1.1569636081100243},{"$f":"+PRODUCT(D88:D91)","v":1.1237139152116806},{"$f":"+PRODUCT(D89:D91)","v":1.0914197770689789},{"$f":"+PRODUCT(D90:D91)","v":1.060053732228551},{"$f":"+PRODUCT(D91:D91)","v":1.0295891084449909}]
[2039,{"$f":"+B59","v":6.1300452985096551E-2},3.0800000000000001E-2,1.0295891084449909,22,29.117855000889307,null,1,{"$f":"+PRODUCT(D72:D92)","v":1.731168672670981},{"$f":"+PRODUCT(D73:D92)","v":1.7035173761308853},{"$f":"+PRODUCT(D74:D92)","v":1.6897793327749915},{"$f":"+PRODUCT(D75:D92)","v":1.6655531057818016},{"$f":"+PRODUCT(D76:D92)","v":1.6416742082078686},{"$f":"+PRODUCT(D77:D92)","v":1.5944945364537919},{"$f":"+PRODUCT(D78:D92)","v":1.5486707496954675},{"$f":"+PRODUCT(D79:D92)","v":1.504163881487107},{"$f":"+PRODUCT(D80:D92)","v":1.460936085230035},{"$f":"+PRODUCT(D81:D92)","v":1.4189506019896774},{"$f":"+PRODUCT(D82:D92)","v":1.3781717292374498},{"$f":"+PRODUCT(D83:D92)","v":1.3385647904909661},{"$f":"+PRODUCT(D84:D92)","v":1.3000961058267482},{"$f":"+PRODUCT(D85:D92)","v":1.2627329632403643},{"$f":"+PRODUCT(D86:D92)","v":1.226443590829642},{"$f":"+PRODUCT(D87:D92)","v":1.1911971297772996},{"$f":"+PRODUCT(D88:D92)","v":1.1569636081100243},{"$f":"+PRODUCT(D89:D92)","v":1.1237139152116806},{"$f":"+PRODUCT(D90:D92)","v":1.0914197770689789},{"$f":"+PRODUCT(D91:D92)","v":1.060053732228551},{"$f":"+PRODUCT(D92:D92)","v":1.0295891084449909}]
[2040,{"$f":"+B60","v":6.1300452985096551E-2},3.0800000000000001E-2,1.0295891084449909,23,31.009015478641132,null,1,{"$f":"+PRODUCT(D72:D93)","v":1.7823924102632134},{"$f":"+PRODUCT(D73:D93)","v":1.7539229365111484},{"$f":"+PRODUCT(D74:D93)","v":1.7397783967005749},{"$f":"+PRODUCT(D75:D93)","v":1.7148353372496707},{"$f":"+PRODUCT(D76:D93)","v":1.6902498843858758},{"$f":"+PRODUCT(D77:D93)","v":1.6416742082078686},{"$f":"+PRODUCT(D78:D93)","v":1.5944945364537919},{"$f":"+PRODUCT(D79:D93)","v":1.5486707496954675},{"$f":"+PRODUCT(D80:D93)","v":1.504163881487107},{"$f":"+PRODUCT(D81:D93)","v":1.460936085230035},{"$f":"+PRODUCT(D82:D93)","v":1.4189506019896774},{"$f":"+PRODUCT(D83:D93)","v":1.3781717292374498},{"$f":"+PRODUCT(D84:D93)","v":1.3385647904909661},{"$f":"+PRODUCT(D85:D93)","v":1.3000961058267482},{"$f":"+PRODUCT(D86:D93)","v":1.2627329632403643},{"$f":"+PRODUCT(D87:D93)","v":1.226443590829642},{"$f":"+PRODUCT(D88:D93)","v":1.1911971297772996},{"$f":"+PRODUCT(D89:D93)","v":1.1569636081100243},{"$f":"+PRODUCT(D90:D93)","v":1.1237139152116806},{"$f":"+PRODUCT(D91:D93)","v":1.0914197770689789},{"$f":"+PRODUCT(D92:D93)","v":1.060053732228551},{"$f":"+PRODUCT(D93:D93)","v":1.0295891084449909}]
[2041,{"$f":"+B61","v":6.1300452985096551E-2},3.0800000000000001E-2,1.0295891084449909,24,32.956133708856036,null,1,{"$f":"+PRODUCT(D72:D94)","v":1.8351318125820202},{"$f":"+PRODUCT(D73:D94)","v":1.8058199524837335},{"$f":"+PRODUCT(D74:D94)","v":1.7912568883508004},{"$f":"+PRODUCT(D75:D94)","v":1.7655757860088537},{"$f":"+PRODUCT(D76:D94)","v":1.7402628715141026},{"$f":"+PRODUCT(D77:D94)","v":1.6902498843858758},{"$f":"+PRODUCT(D78:D94)","v":1.6416742082078686},{"$f":"+PRODUCT(D79:D94)","v":1.5944945364537919},{"$f":"+PRODUCT(D80:D94)","v":1.5486707496954675},{"$f":"+PRODUCT(D81:D94)","v":1.504163881487107},{"$f":"+PRODUCT(D82:D94)","v":1.460936085230035},{"$f":"+PRODUCT(D83:D94)","v":1.4189506019896774},{"$f":"+PRODUCT(D84:D94)","v":1.3781717292374498},{"$f":"+PRODUCT(D85:D94)","v":1.3385647904909661},{"$f":"+PRODUCT(D86:D94)","v":1.3000961058267482},{"$f":"+PRODUCT(D87:D94)","v":1.2627329632403643},{"$f":"+PRODUCT(D88:D94)","v":1.226443590829642},{"$f":"+PRODUCT(D89:D94)","v":1.1911971297772996},{"$f":"+PRODUCT(D90:D94)","v":1.1569636081100243},{"$f":"+PRODUCT(D91:D94)","v":1.1237139152116806},{"$f":"+PRODUCT(D92:D94)","v":1.0914197770689789},{"$f":"+PRODUCT(D93:D94)","v":1.060053732228551},{"$f":"+PRODUCT(D94:D94)","v":1.0295891084449909}]
[2042,{"$f":"+B62","v":6.1300452985096551E-2},3.0800000000000001E-2,1.0295891084449909,25,34.960865431539986,null,1,{"$f":"+PRODUCT(D72:D95)","v":1.8894317267953622},{"$f":"+PRODUCT(D73:D95)","v":1.8592525548899028},{"$f":"+PRODUCT(D74:D95)","v":1.8442585826730491},{"$f":"+PRODUCT(D75:D95)","v":1.8178175994089196},{"$f":"+PRODUCT(D76:D95)","v":1.7917556983421246},{"$f":"+PRODUCT(D77:D95)","v":1.7402628715141026},{"$f":"+PRODUCT(D78:D95)","v":1.6902498843858758},{"$f":"+PRODUCT(D79:D95)","v":1.6416742082078686},{"$f":"+PRODUCT(D80:D95)","v":1.5944945364537919},{"$f":"+PRODUCT(D81:D95)","v":1.5486707496954675},{"$f":"+PRODUCT(D82:D95)","v":1.504163881487107},{"$f":"+PRODUCT(D83:D95)","v":1.460936085230035},{"$f":"+PRODUCT(D84:D95)","v":1.4189506019896774},{"$f":"+PRODUCT(D85:D95)","v":1.3781717292374498},{"$f":"+PRODUCT(D86:D95)","v":1.3385647904909661},{"$f":"+PRODUCT(D87:D95)","v":1.3000961058267482},{"$f":"+PRODUCT(D88:D95)","v":1.2627329632403643},{"$f":"+PRODUCT(D89:D95)","v":1.226443590829642},{"$f":"+PRODUCT(D90:D95)","v":1.1911971297772996},{"$f":"+PRODUCT(D91:D95)","v":1.1569636081100243},{"$f":"+PRODUCT(D92:D95)","v":1.1237139152116806},{"$f":"+PRODUCT(D93:D95)","v":1.0914197770689789},{"$f":"+PRODUCT(D94:D95)","v":1.060053732228551},{"$f":"+PRODUCT(D95:D95)","v":1.0295891084449909}]
[2043,{"$f":"+B63","v":6.1300452985096551E-2},3.0800000000000001E-2,1.0295891084449909,26,37.024915378569538,null,1,{"$f":"+PRODUCT(D72:D96)","v":1.9453383270589164},{"$f":"+PRODUCT(D73:D96)","v":1.9142661803631664},{"$f":"+PRODUCT(D74:D96)","v":1.8988285498763671},{"$f":"+PRODUCT(D75:D96)","v":1.8716052014910431},{"$f":"+PRODUCT(D76:D96)","v":1.8447721520072999},{"$f":"+PRODUCT(D77:D96)","v":1.7917556983421246},{"$f":"+PRODUCT(D78:D96)","v":1.7402628715141026},{"$f":"+PRODUCT(D79:D96)","v":1.6902498843858758},{"$f":"+PRODUCT(D80:D96)","v":1.6416742082078686},{"$f":"+PRODUCT(D81:D96)","v":1.5944945364537919},{"$f":"+PRODUCT(D82:D96)","v":1.5486707496954675},{"$f":"+PRODUCT(D83:D96)","v":1.504163881487107},{"$f":"+PRODUCT(D84:D96)","v":1.460936085230035},{"$f":"+PRODUCT(D85:D96)","v":1.4189506019896774},{"$f":"+PRODUCT(D86:D96)","v":1.3781717292374498},{"$f":"+PRODUCT(D87:D96)","v":1.3385647904909661},{"$f":"+PRODUCT(D88:D96)","v":1.3000961058267482},{"$f":"+PRODUCT(D89:D96)","v":1.2627329632403643},{"$f":"+PRODUCT(D90:D96)","v":1.226443590829642},{"$f":"+PRODUCT(D91:D96)","v":1.1911971297772996},{"$f":"+PRODUCT(D92:D96)","v":1.1569636081100243},{"$f":"+PRODUCT(D93:D96)","v":1.1237139152116806},{"$f":"+PRODUCT(D94:D96)","v":1.0914197770689789},{"$f":"+PRODUCT(D95:D96)","v":1.060053732228551},{"$f":"+PRODUCT(D96:D96)","v":1.0295891084449909}]
[2044,{"$f":"+B64","v":6.1300452985096551E-2},3.0800000000000001E-2,1.0295891084449909,27,39.150038723317635,null,1,{"$f":"+PRODUCT(D72:D97)","v":2.0028991537804597},{"$f":"+PRODUCT(D73:D97)","v":1.9709076099665106},{"$f":"+PRODUCT(D74:D97)","v":1.9550131937571036},{"$f":"+PRODUCT(D75:D97)","v":1.9269843307641705},{"$f":"+PRODUCT(D76:D97)","v":1.899357315269343},{"$f":"+PRODUCT(D77:D97)","v":1.8447721520072999},{"$f":"+PRODUCT(D78:D97)","v":1.7917556983421246},{"$f":"+PRODUCT(D79:D97)","v":1.7402628715141026},{"$f":"+PRODUCT(D80:D97)","v":1.6902498843858758},{"$f":"+PRODUCT(D81:D97)","v":1.6416742082078686},{"$f":"+PRODUCT(D82:D97)","v":1.5944945364537919},{"$f":"+PRODUCT(D83:D97)","v":1.5486707496954675},{"$f":"+PRODUCT(D84:D97)","v":1.504163881487107},{"$f":"+PRODUCT(D85:D97)","v":1.460936085230035},{"$f":"+PRODUCT(D86:D97)","v":1.4189506019896774},{"$f":"+PRODUCT(D87:D97)","v":1.3781717292374498},{"$f":"+PRODUCT(D88:D97)","v":1.3385647904909661},{"$f":"+PRODUCT(D89:D97)","v":1.3000961058267482},{"$f":"+PRODUCT(D90:D97)","v":1.2627329632403643},{"$f":"+PRODUCT(D91:D97)","v":1.226443590829642},{"$f":"+PRODUCT(D92:D97)","v":1.1911971297772996},{"$f":"+PRODUCT(D93:D97)","v":1.1569636081100243},{"$f":"+PRODUCT(D94:D97)","v":1.1237139152116806},{"$f":"+PRODUCT(D95:D97)","v":1.0914197770689789},{"$f":"+PRODUCT(D96:D97)","v":1.060053732228551},{"$f":"+PRODUCT(D97:D97)","v":1.0295891084449909}]
[2045,{"$f":"+B65","v":6.1300452985096551E-2},3.0800000000000001E-2,1.0295891084449909,28,41.338042573172459,null,1,{"$f":"+PRODUCT(D72:D98)","v":2.0621631540460501},{"$f":"+PRODUCT(D73:D98)","v":2.0292250089728676},{"$f":"+PRODUCT(D74:D98)","v":2.0128602911585705},{"$f":"+PRODUCT(D75:D98)","v":1.9840020790989497},{"$f":"+PRODUCT(D76:D98)","v":1.9555576048466343},{"$f":"+PRODUCT(D77:D98)","v":1.899357315269343},{"$f":"+PRODUCT(D78:D98)","v":1.8447721520072999},{"$f":"+PRODUCT(D79:D98)","v":1.7917556983421246},{"$f":"+PRODUCT(D80:D98)","v":1.7402628715141026},{"$f":"+PRODUCT(D81:D98)","v":1.6902498843858758},{"$f":"+PRODUCT(D82:D98)","v":1.6416742082078686},{"$f":"+PRODUCT(D83:D98)","v":1.5944945364537919},{"$f":"+PRODUCT(D84:D98)","v":1.5486707496954675},{"$f":"+PRODUCT(D85:D98)","v":1.504163881487107},{"$f":"+PRODUCT(D86:D98)","v":1.460936085230035},{"$f":"+PRODUCT(D87:D98)","v":1.4189506019896774},{"$f":"+PRODUCT(D88:D98)","v":1.3781717292374498},{"$f":"+PRODUCT(D89:D98)","v":1.3385647904909661},{"$f":"+PRODUCT(D90:D98)","v":1.3000961058267482},{"$f":"+PRODUCT(D91:D98)","v":1.2627329632403643},{"$f":"+PRODUCT(D92:D98)","v":1.226443590829642},{"$f":"+PRODUCT(D93:D98)","v":1.1911971297772996},{"$f":"+PRODUCT(D94:D98)","v":1.1569636081100243},{"$f":"+PRODUCT(D95:D98)","v":1.1237139152116806},{"$f":"+PRODUCT(D96:D98)","v":1.0914197770689789},{"$f":"+PRODUCT(D97:D98)","v":1.060053732228551},{"$f":"+PRODUCT(D98:D98)","v":1.0295891084449909}]
[2046,{"$f":"+B66","v":0},0,1,29,42.338042573172459,null,1,{"$f":"+PRODUCT(D72:D99)","v":2.0621631540460501},{"$f":"+PRODUCT(D73:D99)","v":2.0292250089728676},{"$f":"+PRODUCT(D74:D99)","v":2.0128602911585705},{"$f":"+PRODUCT(D75:D99)","v":1.9840020790989497},{"$f":"+PRODUCT(D76:D99)","v":1.9555576048466343},{"$f":"+PRODUCT(D77:D99)","v":1.899357315269343},{"$f":"+PRODUCT(D78:D99)","v":1.8447721520072999},{"$f":"+PRODUCT(D79:D99)","v":1.7917556983421246},{"$f":"+PRODUCT(D80:D99)","v":1.7402628715141026},{"$f":"+PRODUCT(D81:D99)","v":1.6902498843858758},{"$f":"+PRODUCT(D82:D99)","v":1.6416742082078686},{"$f":"+PRODUCT(D83:D99)","v":1.5944945364537919},{"$f":"+PRODUCT(D84:D99)","v":1.5486707496954675},{"$f":"+PRODUCT(D85:D99)","v":1.504163881487107},{"$f":"+PRODUCT(D86:D99)","v":1.460936085230035},{"$f":"+PRODUCT(D87:D99)","v":1.4189506019896774},{"$f":"+PRODUCT(D88:D99)","v":1.3781717292374498},{"$f":"+PRODUCT(D89:D99)","v":1.3385647904909661},{"$f":"+PRODUCT(D90:D99)","v":1.3000961058267482},{"$f":"+PRODUCT(D91:D99)","v":1.2627329632403643},{"$f":"+PRODUCT(D92:D99)","v":1.226443590829642},{"$f":"+PRODUCT(D93:D99)","v":1.1911971297772996},{"$f":"+PRODUCT(D94:D99)","v":1.1569636081100243},{"$f":"+PRODUCT(D95:D99)","v":1.1237139152116806},{"$f":"+PRODUCT(D96:D99)","v":1.0914197770689789},{"$f":"+PRODUCT(D97:D99)","v":1.060053732228551},{"$f":"+PRODUCT(D98:D99)","v":1.0295891084449909},{"$f":"+PRODUCT(D99:D99)","v":1}]
[2047,{"$f":"+B67","v":0},0,1,30,43.338042573172459,null,1,{"$f":"+PRODUCT(D72:D100)","v":2.0621631540460501},{"$f":"+PRODUCT(D73:D100)","v":2.0292250089728676},{"$f":"+PRODUCT(D74:D100)","v":2.0128602911585705},{"$f":"+PRODUCT(D75:D100)","v":1.9840020790989497},{"$f":"+PRODUCT(D76:D100)","v":1.9555576048466343},{"$f":"+PRODUCT(D77:D100)","v":1.899357315269343},{"$f":"+PRODUCT(D78:D100)","v":1.8447721520072999},{"$f":"+PRODUCT(D79:D100)","v":1.7917556983421246},{"$f":"+PRODUCT(D80:D100)","v":1.7402628715141026},{"$f":"+PRODUCT(D81:D100)","v":1.6902498843858758},{"$f":"+PRODUCT(D82:D100)","v":1.6416742082078686},{"$f":"+PRODUCT(D83:D100)","v":1.5944945364537919},{"$f":"+PRODUCT(D84:D100)","v":1.5486707496954675},{"$f":"+PRODUCT(D85:D100)","v":1.504163881487107},{"$f":"+PRODUCT(D86:D100)","v":1.460936085230035},{"$f":"+PRODUCT(D87:D100)","v":1.4189506019896774},{"$f":"+PRODUCT(D88:D100)","v":1.3781717292374498},{"$f":"+PRODUCT(D89:D100)","v":1.3385647904909661},{"$f":"+PRODUCT(D90:D100)","v":1.3000961058267482},{"$f":"+PRODUCT(D91:D100)","v":1.2627329632403643},{"$f":"+PRODUCT(D92:D100)","v":1.226443590829642},{"$f":"+PRODUCT(D93:D100)","v":1.1911971297772996},{"$f":"+PRODUCT(D94:D100)","v":1.1569636081100243},{"$f":"+PRODUCT(D95:D100)","v":1.1237139152116806},{"$f":"+PRODUCT(D96:D100)","v":1.0914197770689789},{"$f":"+PRODUCT(D97:D100)","v":1.060053732228551},{"$f":"+PRODUCT(D98:D100)","v":1.0295891084449909},{"$f":"+PRODUCT(D99:D100)","v":1},{"$f":"+PRODUCT(D100:D100)","v":1}]
[]
[]
[" Fecha(Anual) ","r_t","c_y_t","1+r_t / 1+c_y_t","t","Multiplicatoria inversa",0,{"$f":"+G103+1","v":1},{"$f":"+H103+1","v":2},{"$f":"+I103+1","v":3},{"$f":"+J103+1","v":4},{"$f":"+K103+1","v":5},{"$f":"+L103+1","v":6},{"$f":"+M103+1","v":7},{"$f":"+N103+1","v":8},{"$f":"+O103+1","v":9},{"$f":"+P103+1","v":10},{"$f":"+Q103+1","v":11},{"$f":"+R103+1","v":12},{"$f":"+S103+1","v":13},{"$f":"+T103+1","v":14},{"$f":"+U103+1","v":15},{"$f":"+V103+1","v":16},{"$f":"+W103+1","v":17},{"$f":"+X103+1","v":18},{"$f":"+Y103+1","v":19},{"$f":"+Z103+1","v":20},{"$f":"+AA103+1","v":21},{"$f":"+AB103+1","v":22},{"$f":"+AC103+1","v":23},{"$f":"+AD103+1","v":24},{"$f":"+AE103+1","v":25},{"$f":"+AF103+1","v":26},{"$f":"+AG103+1","v":27},{"$f":"+AH103+1","v":28},{"$f":"+AI103+1","v":29},{"$f":"+AJ103+1","v":30}]
[{"$f":"+A71","v":2018},null,null,1,0]
[{"$f":"+A104+1","v":2019},{"$f":"+B72","v":5.1799999999999999E-2},{"$f":"+C72","v":3.5000000000000003E-2},{"$f":"(1+B105)/(1+C105)","v":1.0162318840579712},1,null,null,1]
[{"$f":"+A105+1","v":2020},{"$f":"+B73","v":5.3495934959349345E-2},4.4999999999999998E-2,{"$f":"(1+B106)/(1+C106)","v":1.0081300813008129},{"$f":"+E105+1","v":2},{"$f":"+SUM(I106:AK106)","v":1.0081300813008129},null,1,{"$f":"+PRODUCT(D106:D106)","v":1.0081300813008129}]
[2021,{"$f":"+B74","v":6.0199999999999997E-2},4.4999999999999998E-2,1.0145454545454546,{"$f":"+E106+1","v":3},{"$f":"+SUM(I107:AK107)","v":2.0373392461197337},null,1,{"$f":"+PRODUCT(D106:D107)","v":1.0227937915742793},{"$f":"+PRODUCT(D107:D107)","v":1.0145454545454546}]
[2022,{"$f":"+B75","v":6.0199999999999997E-2},4.4999999999999998E-2,1.0145454545454546,4,3.0815187260632939,null,1,{"$f":"+PRODUCT(D106:D108)","v":1.0376707921789963},{"$f":"+PRODUCT(D107:D108)","v":1.0293024793388432},{"$f":"+PRODUCT(D108:D108)","v":1.0145454545454546},{"$f":"+IF(L103>E108,\"\",1)","v":""}]
[2023,{"$f":"+B76","v":6.1300452985096551E-2},3.0800000000000001E-2,1.0295891084449909,5,4.2022872262690418,null,1,{"$f":"+PRODUCT(D106:D109)","v":1.0683745457789802},{"$f":"+PRODUCT(D107:D109)","v":1.0597586220226982},{"$f":"+PRODUCT(D108:D109)","v":1.0445649500223726},{"$f":"+PRODUCT(D109:D109)","v":1.0295891084449909}]
[2024,{"$f":"+B77","v":6.1300452985096551E-2},3.0800000000000001E-2,1.0295891084449909,6,5.3562182671691083,null,1,{"$f":"+PRODUCT(D106:D110)","v":1.0999867960739023},{"$f":"+PRODUCT(D107:D110)","v":1.0911159348152419},{"$f":"+PRODUCT(D108:D110)","v":1.0754726956064211},{"$f":"+PRODUCT(D109:D110)","v":1.060053732228551},{"$f":"+PRODUCT(D110:D110)","v":1.0295891084449909}]
[2025,{"$f":"+B78","v":6.1300452985096551E-2},3.0800000000000001E-2,1.0295891084449909,7,6.5442930987764054,null,1,{"$f":"+PRODUCT(D106:D111)","v":1.132534424670991},{"$f":"+PRODUCT(D107:D111)","v":1.1234010825365477},{"$f":"+PRODUCT(D108:D111)","v":1.1072949738263462},{"$f":"+PRODUCT(D109:D111)","v":1.0914197770689789},{"$f":"+PRODUCT(D110:D111)","v":1.060053732228551},{"$f":"+PRODUCT(D111:D111)","v":1.0295891084449909}]
[2026,{"$f":"+B79","v":6.1300452985096551E-2},3.0800000000000001E-2,1.0295891084449909,8,7.7675220054168967,null,1,{"$f":"+PRODUCT(D106:D112)","v":1.1660451085802663},{"$f":"+PRODUCT(D107:D112)","v":1.1566415189949417},{"$f":"+PRODUCT(D108:D112)","v":1.1400588448874873},{"$f":"+PRODUCT(D109:D112)","v":1.1237139152116806},{"$f":"+PRODUCT(D110:D112)","v":1.0914197770689789},{"$f":"+PRODUCT(D111:D112)","v":1.060053732228551},{"$f":"+PRODUCT(D112:D112)","v":1.0295891084449909}]
[2027,{"$f":"+B80","v":6.1300452985096551E-2},3.0800000000000001E-2,1.0295891084449909,9,9.0269451648290211,null,1,{"$f":"+PRODUCT(D106:D113)","v":1.2005473437497989},{"$f":"+PRODUCT(D107:D113)","v":1.1908655103324619},{"$f":"+PRODUCT(D108:D113)","v":1.1737921696825342},{"$f":"+PRODUCT(D109:D113)","v":1.1569636081100243},{"$f":"+PRODUCT(D110:D113)","v":1.1237139152116806},{"$f":"+PRODUCT(D111:D113)","v":1.0914197770689789},{"$f":"+PRODUCT(D112:D113)","v":1.060053732228551},{"$f":"+PRODUCT(D113:D113)","v":1.0295891084449909}]
[2028,{"$f":"+B81","v":6.1300452985096551E-2},3.0800000000000001E-2,1.0295891084449909,10,10.323633532683123,null,1,{"$f":"+PRODUCT(D106:D114)","v":1.2360704692973574},{"$f":"+PRODUCT(D107:D114)","v":1.2261021590610885},{"$f":"+PRODUCT(D108:D114)","v":1.2085236334831517},{"$f":"+PRODUCT(D109:D114)","v":1.1911971297772996},{"$f":"+PRODUCT(D110:D114)","v":1.1569636081100243},{"$f":"+PRODUCT(D111:D114)","v":1.1237139152116806},{"$f":"+PRODUCT(D112:D114)","v":1.0914197770689789},{"$f":"+PRODUCT(D113:D114)","v":1.060053732228551},{"$f":"+PRODUCT(D114:D114)","v":1.0295891084449909}]
[2029,{"$f":"+B82","v":6.1300452985096551E-2},3.0800000000000001E-2,1.0295891084449909,11,11.65868975327302,null,1,{"$f":"+PRODUCT(D106:D115)","v":1.2726446924590478},{"$f":"+PRODUCT(D107:D115)","v":1.2623814288101844},{"$f":"+PRODUCT(D108:D115)","v":1.2442827703326191},{"$f":"+PRODUCT(D109:D115)","v":1.226443590829642},{"$f":"+PRODUCT(D110:D115)","v":1.1911971297772996},{"$f":"+PRODUCT(D111:D115)","v":1.1569636081100243},{"$f":"+PRODUCT(D112:D115)","v":1.1237139152116806},{"$f":"+PRODUCT(D113:D115)","v":1.0914197770689789},{"$f":"+PRODUCT(D114:D115)","v":1.060053732228551},{"$f":"+PRODUCT(D115:D115)","v":1.0295891084449909}]
[2030,{"$f":"+B83","v":6.1300452985096551E-2},3.0800000000000001E-2,1.0295891084449909,12,13.03324909715411,null,1,{"$f":"+PRODUCT(D106:D116)","v":1.3103011142761605},{"$f":"+PRODUCT(D107:D116)","v":1.2997341698061915},{"$f":"+PRODUCT(D108:D116)","v":1.2810999881602247},{"$f":"+PRODUCT(D109:D116)","v":1.2627329632403643},{"$f":"+PRODUCT(D110:D116)","v":1.226443590829642},{"$f":"+PRODUCT(D111:D116)","v":1.1911971297772996},{"$f":"+PRODUCT(D112:D116)","v":1.1569636081100243},{"$f":"+PRODUCT(D113:D116)","v":1.1237139152116806},{"$f":"+PRODUCT(D114:D116)","v":1.0914197770689789},{"$f":"+PRODUCT(D115:D116)","v":1.060053732228551},{"$f":"+PRODUCT(D116:D116)","v":1.0295891084449909}]
[2031,{"$f":"+B84","v":6.1300452985096551E-2},3.0800000000000001E-2,1.0295891084449909,13,14.448480426525371,null,1,{"$f":"+PRODUCT(D106:D117)","v":1.3490717560420702},{"$f":"+PRODUCT(D107:D117)","v":1.3381921451062471},{"$f":"+PRODUCT(D108:D117)","v":1.3190065946387741},{"$f":"+PRODUCT(D109:D117)","v":1.3000961058267482},{"$f":"+PRODUCT(D110:D117)","v":1.2627329632403643},{"$f":"+PRODUCT(D111:D117)","v":1.226443590829642},{"$f":"+PRODUCT(D112:D117)","v":1.1911971297772996},{"$f":"+PRODUCT(D113:D117)","v":1.1569636081100243},{"$f":"+PRODUCT(D114:D117)","v":1.1237139152116806},{"$f":"+PRODUCT(D115:D117)","v":1.0914197770689789},{"$f":"+PRODUCT(D116:D117)","v":1.060053732228551},{"$f":"+PRODUCT(D117:D117)","v":1.0295891084449909}]
[2032,{"$f":"+B85","v":6.1300452985096551E-2},3.0800000000000001E-2,1.0295891084449909,14,15.905587189176149,null,1,{"$f":"+PRODUCT(D106:D118)","v":1.3889895865316733},{"$f":"+PRODUCT(D107:D118)","v":1.3777880576080308},{"$f":"+PRODUCT(D108:D118)","v":1.3580348238071989},{"$f":"+PRODUCT(D109:D118)","v":1.3385647904909661},{"$f":"+PRODUCT(D110:D118)","v":1.3000961058267482},{"$f":"+PRODUCT(D111:D118)","v":1.2627329632403643},{"$f":"+PRODUCT(D112:D118)","v":1.226443590829642},{"$f":"+PRODUCT(D113:D118)","v":1.1911971297772996},{"$f":"+PRODUCT(D114:D118)","v":1.1569636081100243},{"$f":"+PRODUCT(D115:D118)","v":1.1237139152116806},{"$f":"+PRODUCT(D116:D118)","v":1.0914197770689789},{"$f":"+PRODUCT(D117:D118)","v":1.060053732228551},{"$f":"+PRODUCT(D118:D118)","v":1.0295891084449909}]
[2033,{"$f":"+B86","v":6.1300452985096551E-2},3.0800000000000001E-2,1.0295891084449909,15,17.405808441842929,null,1,{"$f":"+PRODUCT(D106:D119)","v":1.4300885500365219},{"$f":"+PRODUCT(D107:D119)","v":1.4185555778588081},{"$f":"+PRODUCT(D108:D119)","v":1.3982178634809042},{"$f":"+PRODUCT(D109:D119)","v":1.3781717292374498},{"$f":"+PRODUCT(D110:D119)","v":1.3385647904909661},{"$f":"+PRODUCT(D111:D119)","v":1.3000961058267482},{"$f":"+PRODUCT(D112:D119)","v":1.2627329632403643},{"$f":"+PRODUCT(D113:D119)","v":1.226443590829642},{"$f":"+PRODUCT(D114:D119)","v":1.1911971297772996},{"$f":"+PRODUCT(D115:D119)","v":1.1569636081100243},{"$f":"+PRODUCT(D116:D119)","v":1.1237139152116806},{"$f":"+PRODUCT(D117:D119)","v":1.0914197770689789},{"$f":"+PRODUCT(D118:D119)","v":1.060053732228551},{"$f":"+PRODUCT(D119:D119)","v":1.0295891084449909}]
[2034,{"$f":"+B87","v":6.1300452985096551E-2},3.0800000000000001E-2,1.0295891084449909,16,18.950419903846349,null,1,{"$f":"+PRODUCT(D106:D120)","v":1.4724035952294923},{"$f":"+PRODUCT(D107:D120)","v":1.4605293726873192},{"$f":"+PRODUCT(D108:D120)","v":1.439589883473164},{"$f":"+PRODUCT(D109:D120)","v":1.4189506019896774},{"$f":"+PRODUCT(D110:D120)","v":1.3781717292374498},{"$f":"+PRODUCT(D111:D120)","v":1.3385647904909661},{"$f":"+PRODUCT(D112:D120)","v":1.3000961058267482},{"$f":"+PRODUCT(D113:D120)","v":1.2627329632403643},{"$f":"+PRODUCT(D114:D120)","v":1.226443590829642},{"$f":"+PRODUCT(D115:D120)","v":1.1911971297772996},{"$f":"+PRODUCT(D116:D120)","v":1.1569636081100243},{"$f":"+PRODUCT(D117:D120)","v":1.1237139152116806},{"$f":"+PRODUCT(D118:D120)","v":1.0914197770689789},{"$f":"+PRODUCT(D119:D120)","v":1.060053732228551},{"$f":"+PRODUCT(D120:D120)","v":1.0295891084449909}]
[2035,{"$f":"+B88","v":6.1300452985096551E-2},3.0800000000000001E-2,1.0295891084449909,17,20.540735041904362,null,1,{"$f":"+PRODUCT(D106:D121)","v":1.515970704883532},{"$f":"+PRODUCT(D107:D121)","v":1.5037451346828588},{"$f":"+PRODUCT(D108:D121)","v":1.4821860646515632},{"$f":"+PRODUCT(D109:D121)","v":1.460936085230035},{"$f":"+PRODUCT(D110:D121)","v":1.4189506019896774},{"$f":"+PRODUCT(D111:D121)","v":1.3781717292374498},{"$f":"+PRODUCT(D112:D121)","v":1.3385647904909661},{"$f":"+PRODUCT(D113:D121)","v":1.3000961058267482},{"$f":"+PRODUCT(D114:D121)","v":1.2627329632403643},{"$f":"+PRODUCT(D115:D121)","v":1.226443590829642},{"$f":"+PRODUCT(D116:D121)","v":1.1911971297772996},{"$f":"+PRODUCT(D117:D121)","v":1.1569636081100243},{"$f":"+PRODUCT(D118:D121)","v":1.1237139152116806},{"$f":"+PRODUCT(D119:D121)","v":1.0914197770689789},{"$f":"+PRODUCT(D120:D121)","v":1.060053732228551},{"$f":"+PRODUCT(D121:D121)","v":1.0295891084449909}]
[2036,{"$f":"+B89","v":6.1300452985096551E-2},3.0800000000000001E-2,1.0295891084449909,18,22.178106187044087,null,1,{"$f":"+PRODUCT(D106:D122)","v":1.5608269264697601},{"$f":"+PRODUCT(D107:D122)","v":1.5482396125466171},{"$f":"+PRODUCT(D108:D122)","v":1.5260426288541926},{"$f":"+PRODUCT(D109:D122)","v":1.504163881487107},{"$f":"+PRODUCT(D110:D122)","v":1.460936085230035},{"$f":"+PRODUCT(D111:D122)","v":1.4189506019896774},{"$f":"+PRODUCT(D112:D122)","v":1.3781717292374498},{"$f":"+PRODUCT(D113:D122)","v":1.3385647904909661},{"$f":"+PRODUCT(D114:D122)","v":1.3000961058267482},{"$f":"+PRODUCT(D115:D122)","v":1.2627329632403643},{"$f":"+PRODUCT(D116:D122)","v":1.226443590829642},{"$f":"+PRODUCT(D117:D122)","v":1.1911971297772996},{"$f":"+PRODUCT(D118:D122)","v":1.1569636081100243},{"$f":"+PRODUCT(D119:D122)","v":1.1237139152116806},{"$f":"+PRODUCT(D120:D122)","v":1.0914197770689789},{"$f":"+PRODUCT(D121:D122)","v":1.060053732228551},{"$f":"+PRODUCT(D122:D122)","v":1.0295891084449909}]
[2037,{"$f":"+B90","v":6.1300452985096551E-2},3.0800000000000001E-2,1.0295891084449909,19,23.863925684562048,null,1,{"$f":"+PRODUCT(D106:D123)","v":1.6070104036609356},{"$f":"+PRODUCT(D107:D123)","v":1.5940506423410896},{"$f":"+PRODUCT(D108:D123)","v":1.5711968696910383},{"$f":"+PRODUCT(D109:D123)","v":1.5486707496954675},{"$f":"+PRODUCT(D110:D123)","v":1.504163881487107},{"$f":"+PRODUCT(D111:D123)","v":1.460936085230035},{"$f":"+PRODUCT(D112:D123)","v":1.4189506019896774},{"$f":"+PRODUCT(D113:D123)","v":1.3781717292374498},{"$f":"+PRODUCT(D114:D123)","v":1.3385647904909661},{"$f":"+PRODUCT(D115:D123)","v":1.3000961058267482},{"$f":"+PRODUCT(D116:D123)","v":1.2627329632403643},{"$f":"+PRODUCT(D117:D123)","v":1.226443590829642},{"$f":"+PRODUCT(D118:D123)","v":1.1911971297772996},{"$f":"+PRODUCT(D119:D123)","v":1.1569636081100243},{"$f":"+PRODUCT(D120:D123)","v":1.1237139152116806},{"$f":"+PRODUCT(D121:D123)","v":1.0914197770689789},{"$f":"+PRODUCT(D122:D123)","v":1.060053732228551},{"$f":"+PRODUCT(D123:D123)","v":1.0295891084449909}]
[2038,{"$f":"+B91","v":6.1300452985096551E-2},3.0800000000000001E-2,1.0295891084449909,20,25.599627078010748,null,1,{"$f":"+PRODUCT(D106:D124)","v":1.6545604087670875},{"$f":"+PRODUCT(D107:D124)","v":1.6412171796641275},{"$f":"+PRODUCT(D108:D124)","v":1.6176871842567566},{"$f":"+PRODUCT(D109:D124)","v":1.5944945364537919},{"$f":"+PRODUCT(D110:D124)","v":1.5486707496954675},{"$f":"+PRODUCT(D111:D124)","v":1.504163881487107},{"$f":"+PRODUCT(D112:D124)","v":1.460936085230035},{"$f":"+PRODUCT(D113:D124)","v":1.4189506019896774},{"$f":"+PRODUCT(D114:D124)","v":1.3781717292374498},{"$f":"+PRODUCT(D115:D124)","v":1.3385647904909661},{"$f":"+PRODUCT(D116:D124)","v":1.3000961058267482},{"$f":"+PRODUCT(D117:D124)","v":1.2627329632403643},{"$f":"+PRODUCT(D118:D124)","v":1.226443590829642},{"$f":"+PRODUCT(D119:D124)","v":1.1911971297772996},{"$f":"+PRODUCT(D120:D124)","v":1.1569636081100243},{"$f":"+PRODUCT(D121:D124)","v":1.1237139152116806},{"$f":"+PRODUCT(D122:D124)","v":1.0914197770689789},{"$f":"+PRODUCT(D123:D124)","v":1.060053732228551},{"$f":"+PRODUCT(D124:D124)","v":1.0295891084449909}]
[2039,{"$f":"+B92","v":6.1300452985096551E-2},3.0800000000000001E-2,1.0295891084449909,21,27.386686328218325,null,1,{"$f":"+PRODUCT(D106:D125)","v":1.7035173761308853},{"$f":"+PRODUCT(D107:D125)","v":1.6897793327749915},{"$f":"+PRODUCT(D108:D125)","v":1.6655531057818016},{"$f":"+PRODUCT(D109:D125)","v":1.6416742082078686},{"$f":"+PRODUCT(D110:D125)","v":1.5944945364537919},{"$f":"+PRODUCT(D111:D125)","v":1.5486707496954675},{"$f":"+PRODUCT(D112:D125)","v":1.504163881487107},{"$f":"+PRODUCT(D113:D125)","v":1.460936085230035},{"$f":"+PRODUCT(D114:D125)","v":1.4189506019896774},{"$f":"+PRODUCT(D115:D125)","v":1.3781717292374498},{"$f":"+PRODUCT(D116:D125)","v":1.3385647904909661},{"$f":"+PRODUCT(D117:D125)","v":1.3000961058267482},{"$f":"+PRODUCT(D118:D125)","v":1.2627329632403643},{"$f":"+PRODUCT(D119:D125)","v":1.226443590829642},{"$f":"+PRODUCT(D120:D125)","v":1.1911971297772996},{"$f":"+PRODUCT(D121:D125)","v":1.1569636081100243},{"$f":"+PRODUCT(D122:D125)","v":1.1237139152116806},{"$f":"+PRODUCT(D123:D125)","v":1.0914197770689789},{"$f":"+PRODUCT(D124:D125)","v":1.060053732228551},{"$f":"+PRODUCT(D125:D125)","v":1.0295891084449909}]
[2040,{"$f":"+B93","v":6.1300452985096551E-2},3.0800000000000001E-2,1.0295891084449909,22,29.226623068377918,null,1,{"$f":"+PRODUCT(D106:D126)","v":1.7539229365111484},{"$f":"+PRODUCT(D107:D126)","v":1.7397783967005749},{"$f":"+PRODUCT(D108:D126)","v":1.7148353372496707},{"$f":"+PRODUCT(D109:D126)","v":1.6902498843858758},{"$f":"+PRODUCT(D110:D126)","v":1.6416742082078686},{"$f":"+PRODUCT(D111:D126)","v":1.5944945364537919},{"$f":"+PRODUCT(D112:D126)","v":1.5486707496954675},{"$f":"+PRODUCT(D113:D126)","v":1.504163881487107},{"$f":"+PRODUCT(D114:D126)","v":1.460936085230035},{"$f":"+PRODUCT(D115:D126)","v":1.4189506019896774},{"$f":"+PRODUCT(D116:D126)","v":1.3781717292374498},{"$f":"+PRODUCT(D117:D126)","v":1.3385647904909661},{"$f":"+PRODUCT(D118:D126)","v":1.3000961058267482},{"$f":"+PRODUCT(D119:D126)","v":1.2627329632403643},{"$f":"+PRODUCT(D120:D126)","v":1.226443590829642},{"$f":"+PRODUCT(D121:D126)","v":1.1911971297772996},{"$f":"+PRODUCT(D122:D126)","v":1.1569636081100243},{"$f":"+PRODUCT(D123:D126)","v":1.1237139152116806},{"$f":"+PRODUCT(D124:D126)","v":1.0914197770689789},{"$f":"+PRODUCT(D125:D126)","v":1.060053732228551},{"$f":"+PRODUCT(D126:D126)","v":1.0295891084449909}]
[2041,{"$f":"+B94","v":6.1300452985096551E-2},3.0800000000000001E-2,1.0295891084449909,23,31.121001896274016,null,1,{"$f":"+PRODUCT(D106:D127)","v":1.8058199524837335},{"$f":"+PRODUCT(D107:D127)","v":1.7912568883508004},{"$f":"+PRODUCT(D108:D127)","v":1.7655757860088537},{"$f":"+PRODUCT(D109:D127)","v":1.7402628715141026},{"$f":"+PRODUCT(D110:D127)","v":1.6902498843858758},{"$f":"+PRODUCT(D111:D127)","v":1.6416742082078686},{"$f":"+PRODUCT(D112:D127)","v":1.5944945364537919},{"$f":"+PRODUCT(D113:D127)","v":1.5486707496954675},{"$f":"+PRODUCT(D114:D127)","v":1.504163881487107},{"$f":"+PRODUCT(D115:D127)","v":1.460936085230035},{"$f":"+PRODUCT(D116:D127)","v":1.4189506019896774},{"$f":"+PRODUCT(D117:D127)","v":1.3781717292374498},{"$f":"+PRODUCT(D118:D127)","v":1.3385647904909661},{"$f":"+PRODUCT(D119:D127)","v":1.3000961058267482},{"$f":"+PRODUCT(D120:D127)","v":1.2627329632403643},{"$f":"+PRODUCT(D121:D127)","v":1.226443590829642},{"$f":"+PRODUCT(D122:D127)","v":1.1911971297772996},{"$f":"+PRODUCT(D123:D127)","v":1.1569636081100243},{"$f":"+PRODUCT(D124:D127)","v":1.1237139152116806},{"$f":"+PRODUCT(D125:D127)","v":1.0914197770689789},{"$f":"+PRODUCT(D126:D127)","v":1.060053732228551},{"$f":"+PRODUCT(D127:D127)","v":1.0295891084449909}]
[2042,{"$f":"+B95","v":6.1300452985096551E-2},3.0800000000000001E-2,1.0295891084449909,24,33.071433704744621,null,1,{"$f":"+PRODUCT(D106:D128)","v":1.8592525548899028},{"$f":"+PRODUCT(D107:D128)","v":1.8442585826730491},{"$f":"+PRODUCT(D108:D128)","v":1.8178175994089196},{"$f":"+PRODUCT(D109:D128)","v":1.7917556983421246},{"$f":"+PRODUCT(D110:D128)","v":1.7402628715141026},{"$f":"+PRODUCT(D111:D128)","v":1.6902498843858758},{"$f":"+PRODUCT(D112:D128)","v":1.6416742082078686},{"$f":"+PRODUCT(D113:D128)","v":1.5944945364537919},{"$f":"+PRODUCT(D114:D128)","v":1.5486707496954675},{"$f":"+PRODUCT(D115:D128)","v":1.504163881487107},{"$f":"+PRODUCT(D116:D128)","v":1.460936085230035},{"$f":"+PRODUCT(D117:D128)","v":1.4189506019896774},{"$f":"+PRODUCT(D118:D128)","v":1.3781717292374498},{"$f":"+PRODUCT(D119:D128)","v":1.3385647904909661},{"$f":"+PRODUCT(D120:D128)","v":1.3000961058267482},{"$f":"+PRODUCT(D121:D128)","v":1.2627329632403643},{"$f":"+PRODUCT(D122:D128)","v":1.226443590829642},{"$f":"+PRODUCT(D123:D128)","v":1.1911971297772996},{"$f":"+PRODUCT(D124:D128)","v":1.1569636081100243},{"$f":"+PRODUCT(D125:D128)","v":1.1237139152116806},{"$f":"+PRODUCT(D126:D128)","v":1.0914197770689789},{"$f":"+PRODUCT(D127:D128)","v":1.060053732228551},{"$f":"+PRODUCT(D128:D128)","v":1.0295891084449909}]
[2043,{"$f":"+B96","v":6.1300452985096551E-2},3.0800000000000001E-2,1.0295891084449909,25,35.079577051510626,null,1,{"$f":"+PRODUCT(D106:D129)","v":1.9142661803631664},{"$f":"+PRODUCT(D107:D129)","v":1.8988285498763671},{"$f":"+PRODUCT(D108:D129)","v":1.8716052014910431},{"$f":"+PRODUCT(D109:D129)","v":1.8447721520072999},{"$f":"+PRODUCT(D110:D129)","v":1.7917556983421246},{"$f":"+PRODUCT(D111:D129)","v":1.7402628715141026},{"$f":"+PRODUCT(D112:D129)","v":1.6902498843858758},{"$f":"+PRODUCT(D113:D129)","v":1.6416742082078686},{"$f":"+PRODUCT(D114:D129)","v":1.5944945364537919},{"$f":"+PRODUCT(D115:D129)","v":1.5486707496954675},{"$f":"+PRODUCT(D116:D129)","v":1.504163881487107},{"$f":"+PRODUCT(D117:D129)","v":1.460936085230035},{"$f":"+PRODUCT(D118:D129)","v":1.4189506019896774},{"$f":"+PRODUCT(D119:D129)","v":1.3781717292374498},{"$f":"+PRODUCT(D120:D129)","v":1.3385647904909661},{"$f":"+PRODUCT(D121:D129)","v":1.3000961058267482},{"$f":"+PRODUCT(D122:D129)","v":1.2627329632403643},{"$f":"+PRODUCT(D123:D129)","v":1.226443590829642},{"$f":"+PRODUCT(D124:D129)","v":1.1911971297772996},{"$f":"+PRODUCT(D125:D129)","v":1.1569636081100243},{"$f":"+PRODUCT(D126:D129)","v":1.1237139152116806},{"$f":"+PRODUCT(D127:D129)","v":1.0914197770689789},{"$f":"+PRODUCT(D128:D129)","v":1.060053732228551},{"$f":"+PRODUCT(D129:D129)","v":1.0295891084449909}]
[2044,{"$f":"+B97","v":6.1300452985096551E-2},3.0800000000000001E-2,1.0295891084449909,26,37.147139569537174,null,1,{"$f":"+PRODUCT(D106:D130)","v":1.9709076099665106},{"$f":"+PRODUCT(D107:D130)","v":1.9550131937571036},{"$f":"+PRODUCT(D108:D130)","v":1.9269843307641705},{"$f":"+PRODUCT(D109:D130)","v":1.899357315269343},{"$f":"+PRODUCT(D110:D130)","v":1.8447721520072999},{"$f":"+PRODUCT(D111:D130)","v":1.7917556983421246},{"$f":"+PRODUCT(D112:D130)","v":1.7402628715141026},{"$f":"+PRODUCT(D113:D130)","v":1.6902498843858758},{"$f":"+PRODUCT(D114:D130)","v":1.6416742082078686},{"$f":"+PRODUCT(D115:D130)","v":1.5944945364537919},{"$f":"+PRODUCT(D116:D130)","v":1.5486707496954675},{"$f":"+PRODUCT(D117:D130)","v":1.504163881487107},{"$f":"+PRODUCT(D118:D130)","v":1.460936085230035},{"$f":"+PRODUCT(D119:D130)","v":1.4189506019896774},{"$f":"+PRODUCT(D120:D130)","v":1.3781717292374498},{"$f":"+PRODUCT(D121:D130)","v":1.3385647904909661},{"$f":"+PRODUCT(D122:D130)","v":1.3000961058267482},{"$f":"+PRODUCT(D123:D130)","v":1.2627329632403643},{"$f":"+PRODUCT(D124:D130)","v":1.226443590829642},{"$f":"+PRODUCT(D125:D130)","v":1.1911971297772996},{"$f":"+PRODUCT(D126:D130)","v":1.1569636081100243},{"$f":"+PRODUCT(D127:D130)","v":1.1237139152116806},{"$f":"+PRODUCT(D128:D130)","v":1.0914197770689789},{"$f":"+PRODUCT(D129:D130)","v":1.060053732228551},{"$f":"+PRODUCT(D130:D130)","v":1.0295891084449909}]
[2045,{"$f":"+B98","v":6.1300452985096551E-2},3.0800000000000001E-2,1.0295891084449909,27,39.275879419126412,null,1,{"$f":"+PRODUCT(D106:D131)","v":2.0292250089728676},{"$f":"+PRODUCT(D107:D131)","v":2.0128602911585705},{"$f":"+PRODUCT(D108:D131)","v":1.9840020790989497},{"$f":"+PRODUCT(D109:D131)","v":1.9555576048466343},{"$f":"+PRODUCT(D110:D131)","v":1.899357315269343},{"$f":"+PRODUCT(D111:D131)","v":1.8447721520072999},{"$f":"+PRODUCT(D112:D131)","v":1.7917556983421246},{"$f":"+PRODUCT(D113:D131)","v":1.7402628715141026},{"$f":"+PRODUCT(D114:D131)","v":1.6902498843858758},{"$f":"+PRODUCT(D115:D131)","v":1.6416742082078686},{"$f":"+PRODUCT(D116:D131)","v":1.5944945364537919},{"$f":"+PRODUCT(D117:D131)","v":1.5486707496954675},{"$f":"+PRODUCT(D118:D131)","v":1.504163881487107},{"$f":"+PRODUCT(D119:D131)","v":1.460936085230035},{"$f":"+PRODUCT(D120:D131)","v":1.4189506019896774},{"$f":"+PRODUCT(D121:D131)","v":1.3781717292374498},{"$f":"+PRODUCT(D122:D131)","v":1.3385647904909661},{"$f":"+PRODUCT(D123:D131)","v":1.3000961058267482},{"$f":"+PRODUCT(D124:D131)","v":1.2627329632403643},{"$f":"+PRODUCT(D125:D131)","v":1.226443590829642},{"$f":"+PRODUCT(D126:D131)","v":1.1911971297772996},{"$f":"+PRODUCT(D127:D131)","v":1.1569636081100243},{"$f":"+PRODUCT(D128:D131)","v":1.1237139152116806},{"$f":"+PRODUCT(D129:D131)","v":1.0914197770689789},{"$f":"+PRODUCT(D130:D131)","v":1.060053732228551},{"$f":"+PRODUCT(D131:D131)","v":1.0295891084449909}]
[2046,{"$f":"+B99","v":0},0,1,28,40.275879419126412,null,1,{"$f":"+PRODUCT(D106:D132)","v":2.0292250089728676},{"$f":"+PRODUCT(D107:D132)","v":2.0128602911585705},{"$f":"+PRODUCT(D108:D132)","v":1.9840020790989497},{"$f":"+PRODUCT(D109:D132)","v":1.9555576048466343},{"$f":"+PRODUCT(D110:D132)","v":1.899357315269343},{"$f":"+PRODUCT(D111:D132)","v":1.8447721520072999},{"$f":"+PRODUCT(D112:D132)","v":1.7917556983421246},{"$f":"+PRODUCT(D113:D132)","v":1.7402628715141026},{"$f":"+PRODUCT(D114:D132)","v":1.6902498843858758},{"$f":"+PRODUCT(D115:D132)","v":1.6416742082078686},{"$f":"+PRODUCT(D116:D132)","v":1.5944945364537919},{"$f":"+PRODUCT(D117:D132)","v":1.5486707496954675},{"$f":"+PRODUCT(D118:D132)","v":1.504163881487107},{"$f":"+PRODUCT(D119:D132)","v":1.460936085230035},{"$f":"+PRODUCT(D120:D132)","v":1.4189506019896774},{"$f":"+PRODUCT(D121:D132)","v":1.3781717292374498},{"$f":"+PRODUCT(D122:D132)","v":1.3385647904909661},{"$f":"+PRODUCT(D123:D132)","v":1.3000961058267482},{"$f":"+PRODUCT(D124:D132)","v":1.2627329632403643},{"$f":"+PRODUCT(D125:D132)","v":1.226443590829642},{"$f":"+PRODUCT(D126:D132)","v":1.1911971297772996},{"$f":"+PRODUCT(D127:D132)","v":1.1569636081100243},{"$f":"+PRODUCT(D128:D132)","v":1.1237139152116806},{"$f":"+PRODUCT(D129:D132)","v":1.0914197770689789},{"$f":"+PRODUCT(D130:D132)","v":1.060053732228551},{"$f":"+PRODUCT(D131:D132)","v":1.0295891084449909},{"$f":"+PRODUCT(D132:D132)","v":1}]
[2047,{"$f":"+B100","v":0},0,1,29,41.275879419126412,null,1,{"$f":"+PRODUCT(D106:D133)","v":2.0292250089728676},{"$f":"+PRODUCT(D107:D133)","v":2.0128602911585705},{"$f":"+PRODUCT(D108:D133)","v":1.9840020790989497},{"$f":"+PRODUCT(D109:D133)","v":1.9555576048466343},{"$f":"+PRODUCT(D110:D133)","v":1.899357315269343},{"$f":"+PRODUCT(D111:D133)","v":1.8447721520072999},{"$f":"+PRODUCT(D112:D133)","v":1.7917556983421246},{"$f":"+PRODUCT(D113:D133)","v":1.7402628715141026},{"$f":"+PRODUCT(D114:D133)","v":1.6902498843858758},{"$f":"+PRODUCT(D115:D133)","v":1.6416742082078686},{"$f":"+PRODUCT(D116:D133)","v":1.5944945364537919},{"$f":"+PRODUCT(D117:D133)","v":1.5486707496954675},{"$f":"+PRODUCT(D118:D133)","v":1.504163881487107},{"$f":"+PRODUCT(D119:D133)","v":1.460936085230035},{"$f":"+PRODUCT(D120:D133)","v":1.4189506019896774},{"$f":"+PRODUCT(D121:D133)","v":1.3781717292374498},{"$f":"+PRODUCT(D122:D133)","v":1.3385647904909661},{"$f":"+PRODUCT(D123:D133)","v":1.3000961058267482},{"$f":"+PRODUCT(D124:D133)","v":1.2627329632403643},{"$f":"+PRODUCT(D125:D133)","v":1.226443590829642},{"$f":"+PRODUCT(D126:D133)","v":1.1911971297772996},{"$f":"+PRODUCT(D127:D133)","v":1.1569636081100243},{"$f":"+PRODUCT(D128:D133)","v":1.1237139152116806},{"$f":"+PRODUCT(D129:D133)","v":1.0914197770689789},{"$f":"+PRODUCT(D130:D133)","v":1.060053732228551},{"$f":"+PRODUCT(D131:D133)","v":1.0295891084449909},{"$f":"+PRODUCT(D132:D133)","v":1},{"$f":"+PRODUCT(D133:D133)","v":1}]
[2048,{"$f":"+B101","v":0},0,1,30,42.275879419126412,null,1,{"$f":"+PRODUCT(D106:D134)","v":2.0292250089728676},{"$f":"+PRODUCT(D107:D134)","v":2.0128602911585705},{"$f":"+PRODUCT(D108:D134)","v":1.9840020790989497},{"$f":"+PRODUCT(D109:D134)","v":1.9555576048466343},{"$f":"+PRODUCT(D110:D134)","v":1.899357315269343},{"$f":"+PRODUCT(D111:D134)","v":1.8447721520072999},{"$f":"+PRODUCT(D112:D134)","v":1.7917556983421246},{"$f":"+PRODUCT(D113:D134)","v":1.7402628715141026},{"$f":"+PRODUCT(D114:D134)","v":1.6902498843858758},{"$f":"+PRODUCT(D115:D134)","v":1.6416742082078686},{"$f":"+PRODUCT(D116:D134)","v":1.5944945364537919},{"$f":"+PRODUCT(D117:D134)","v":1.5486707496954675},{"$f":"+PRODUCT(D118:D134)","v":1.504163881487107},{"$f":"+PRODUCT(D119:D134)","v":1.460936085230035},{"$f":"+PRODUCT(D120:D134)","v":1.4189506019896774},{"$f":"+PRODUCT(D121:D134)","v":1.3781717292374498},{"$f":"+PRODUCT(D122:D134)","v":1.3385647904909661},{"$f":"+PRODUCT(D123:D134)","v":1.3000961058267482},{"$f":"+PRODUCT(D124:D134)","v":1.2627329632403643},{"$f":"+PRODUCT(D125:D134)","v":1.226443590829642},{"$f":"+PRODUCT(D126:D134)","v":1.1911971297772996},{"$f":"+PRODUCT(D127:D134)","v":1.1569636081100243},{"$f":"+PRODUCT(D128:D134)","v":1.1237139152116806},{"$f":"+PRODUCT(D129:D134)","v":1.0914197770689789},{"$f":"+PRODUCT(D130:D134)","v":1.060053732228551},{"$f":"+PRODUCT(D131:D134)","v":1.0295891084449909},{"$f":"+PRODUCT(D132:D134)","v":1},{"$f":"+PRODUCT(D133:D134)","v":1},{"$f":"+PRODUCT(D134:D134)","v":1}]
[]
[]
[" Fecha(Anual) ","r_t","c_y_t","1+r_t / 1+c_y_t","t","Multiplicatoria inversa",0,{"$f":"+G137+1","v":1},{"$f":"+H137+1","v":2},{"$f":"+I137+1","v":3},{"$f":"+J137+1","v":4},{"$f":"+K137+1","v":5},{"$f":"+L137+1","v":6},{"$f":"+M137+1","v":7},{"$f":"+N137+1","v":8},{"$f":"+O137+1","v":9},{"$f":"+P137+1","v":10},{"$f":"+Q137+1","v":11},{"$f":"+R137+1","v":12},{"$f":"+S137+1","v":13},{"$f":"+T137+1","v":14},{"$f":"+U137+1","v":15},{"$f":"+V137+1","v":16},{"$f":"+W137+1","v":17},{"$f":"+X137+1","v":18},{"$f":"+Y137+1","v":19},{"$f":"+Z137+1","v":20},{"$f":"+AA137+1","v":21},{"$f":"+AB137+1","v":22},{"$f":"+AC137+1","v":23},{"$f":"+AD137+1","v":24},{"$f":"+AE137+1","v":25},{"$f":"+AF137+1","v":26},{"$f":"+AG137+1","v":27},{"$f":"+AH137+1","v":28},{"$f":"+AI137+1","v":29},{"$f":"+AJ137+1","v":30}]
[{"$f":"+A105","v":2019},null,null,1,0]
[{"$f":"+A138+1","v":2020},{"$f":"+B106","v":5.3495934959349345E-2},{"$f":"+C106","v":4.4999999999999998E-2},{"$f":"(1+B139)/(1+C139)","v":1.0081300813008129},1,null,null,1]
[{"$f":"+A139+1","v":2021},{"$f":"+B107","v":6.0199999999999997E-2},4.4999999999999998E-2,{"$f":"(1+B140)/(1+C140)","v":1.0145454545454546},{"$f":"+E139+1","v":2},{"$f":"+SUM(I140:AK140)","v":1.0145454545454546},null,1,{"$f":"+PRODUCT(D140:D140)","v":1.0145454545454546}]
[2022,{"$f":"+B108","v":6.0199999999999997E-2},4.4999999999999998E-2,1.0145454545454546,{"$f":"+E140+1","v":3},{"$f":"+SUM(I141:AK141)","v":2.0438479338842979},null,1,{"$f":"+PRODUCT(D140:D141)","v":1.0293024793388432},{"$f":"+PRODUCT(D141:D141)","v":1.0145454545454546}]
[2023,{"$f":"+B109","v":6.1300452985096551E-2},3.0800000000000001E-2,1.0295891084449909,4,3.1339126804900617,null,1,{"$f":"+PRODUCT(D140:D142)","v":1.0597586220226982},{"$f":"+PRODUCT(D141:D142)","v":1.0445649500223726},{"$f":"+PRODUCT(D142:D142)","v":1.0295891084449909},{"$f":"+IF(L137>E142,\"\",1)","v":""}]
[2024,{"$f":"+B110","v":6.1300452985096551E-2},3.0800000000000001E-2,1.0295891084449909,5,4.2562314710952052,null,1,{"$f":"+PRODUCT(D140:D143)","v":1.0911159348152419},{"$f":"+PRODUCT(D141:D143)","v":1.0754726956064211},{"$f":"+PRODUCT(D142:D143)","v":1.060053732228551},{"$f":"+PRODUCT(D143:D143)","v":1.0295891084449909}]
[2025,{"$f":"+B111","v":6.1300452985096551E-2},3.0800000000000001E-2,1.0295891084449909,6,5.4117586741054158,null,1,{"$f":"+PRODUCT(D140:D144)","v":1.1234010825365477},{"$f":"+PRODUCT(D141:D144)","v":1.1072949738263462},{"$f":"+PRODUCT(D142:D144)","v":1.0914197770689789},{"$f":"+PRODUCT(D143:D144)","v":1.060053732228551},{"$f":"+PRODUCT(D144:D144)","v":1.0295891084449909}]
[2026,{"$f":"+B112","v":6.1300452985096551E-2},3.0800000000000001E-2,1.0295891084449909,7,6.6014768968366315,null,1,{"$f":"+PRODUCT(D140:D145)","v":1.1566415189949417},{"$f":"+PRODUCT(D141:D145)","v":1.1400588448874873},{"$f":"+PRODUCT(D142:D145)","v":1.1237139152116806},{"$f":"+PRODUCT(D143:D145)","v":1.0914197770689789},{"$f":"+PRODUCT(D144:D145)","v":1.060053732228551},{"$f":"+PRODUCT(D145:D145)","v":1.0295891084449909}]
[2027,{"$f":"+B113","v":6.1300452985096551E-2},3.0800000000000001E-2,1.0295891084449909,8,7.8263978210792224,null,1,{"$f":"+PRODUCT(D140:D146)","v":1.1908655103324619},{"$f":"+PRODUCT(D141:D146)","v":1.1737921696825342},{"$f":"+PRODUCT(D142:D146)","v":1.1569636081100243},{"$f":"+PRODUCT(D143:D146)","v":1.1237139152116806},{"$f":"+PRODUCT(D144:D146)","v":1.0914197770689789},{"$f":"+PRODUCT(D145:D146)","v":1.060053732228551},{"$f":"+PRODUCT(D146:D146)","v":1.0295891084449909}]
[2028,{"$f":"+B114","v":6.1300452985096551E-2},3.0800000000000001E-2,1.0295891084449909,9,9.0875630633857671,null,1,{"$f":"+PRODUCT(D140:D147)","v":1.2261021590610885},{"$f":"+PRODUCT(D141:D147)","v":1.2085236334831517},{"$f":"+PRODUCT(D142:D147)","v":1.1911971297772996},{"$f":"+PRODUCT(D143:D147)","v":1.1569636081100243},{"$f":"+PRODUCT(D144:D147)","v":1.1237139152116806},{"$f":"+PRODUCT(D145:D147)","v":1.0914197770689789},{"$f":"+PRODUCT(D146:D147)","v":1.060053732228551},{"$f":"+PRODUCT(D147:D147)","v":1.0295891084449909}]
[2029,{"$f":"+B115","v":6.1300452985096551E-2},3.0800000000000001E-2,1.0295891084449909,10,10.386045060813972,null,1,{"$f":"+PRODUCT(D140:D148)","v":1.2623814288101844},{"$f":"+PRODUCT(D141:D148)","v":1.2442827703326191},{"$f":"+PRODUCT(D142:D148)","v":1.226443590829642},{"$f":"+PRODUCT(D143:D148)","v":1.1911971297772996},{"$f":"+PRODUCT(D144:D148)","v":1.1569636081100243},{"$f":"+PRODUCT(D145:D148)","v":1.1237139152116806},{"$f":"+PRODUCT(D146:D148)","v":1.0914197770689789},{"$f":"+PRODUCT(D147:D148)","v":1.060053732228551},{"$f":"+PRODUCT(D148:D148)","v":1.0295891084449909}]
[2030,{"$f":"+B116","v":6.1300452985096551E-2},3.0800000000000001E-2,1.0295891084449909,11,11.722947982877949,null,1,{"$f":"+PRODUCT(D140:D149)","v":1.2997341698061915},{"$f":"+PRODUCT(D141:D149)","v":1.2810999881602247},{"$f":"+PRODUCT(D142:D149)","v":1.2627329632403643},{"$f":"+PRODUCT(D143:D149)","v":1.226443590829642},{"$f":"+PRODUCT(D144:D149)","v":1.1911971297772996},{"$f":"+PRODUCT(D145:D149)","v":1.1569636081100243},{"$f":"+PRODUCT(D146:D149)","v":1.1237139152116806},{"$f":"+PRODUCT(D147:D149)","v":1.0914197770689789},{"$f":"+PRODUCT(D148:D149)","v":1.060053732228551},{"$f":"+PRODUCT(D149:D149)","v":1.0295891084449909}]
[2031,{"$f":"+B117","v":6.1300452985096551E-2},3.0800000000000001E-2,1.0295891084449909,12,13.099408670483301,null,1,{"$f":"+PRODUCT(D140:D150)","v":1.3381921451062471},{"$f":"+PRODUCT(D141:D150)","v":1.3190065946387741},{"$f":"+PRODUCT(D142:D150)","v":1.3000961058267482},{"$f":"+PRODUCT(D143:D150)","v":1.2627329632403643},{"$f":"+PRODUCT(D144:D150)","v":1.226443590829642},{"$f":"+PRODUCT(D145:D150)","v":1.1911971297772996},{"$f":"+PRODUCT(D146:D150)","v":1.1569636081100243},{"$f":"+PRODUCT(D147:D150)","v":1.1237139152116806},{"$f":"+PRODUCT(D148:D150)","v":1.0914197770689789},{"$f":"+PRODUCT(D149:D150)","v":1.060053732228551},{"$f":"+PRODUCT(D150:D150)","v":1.0295891084449909}]
[2032,{"$f":"+B118","v":6.1300452985096551E-2},3.0800000000000001E-2,1.0295891084449909,13,14.516597602644476,null,1,{"$f":"+PRODUCT(D140:D151)","v":1.3777880576080308},{"$f":"+PRODUCT(D141:D151)","v":1.3580348238071989},{"$f":"+PRODUCT(D142:D151)","v":1.3385647904909661},{"$f":"+PRODUCT(D143:D151)","v":1.3000961058267482},{"$f":"+PRODUCT(D144:D151)","v":1.2627329632403643},{"$f":"+PRODUCT(D145:D151)","v":1.226443590829642},{"$f":"+PRODUCT(D146:D151)","v":1.1911971297772996},{"$f":"+PRODUCT(D147:D151)","v":1.1569636081100243},{"$f":"+PRODUCT(D148:D151)","v":1.1237139152116806},{"$f":"+PRODUCT(D149:D151)","v":1.0914197770689789},{"$f":"+PRODUCT(D150:D151)","v":1.060053732228551},{"$f":"+PRODUCT(D151:D151)","v":1.0295891084449909}]
[2033,{"$f":"+B119","v":6.1300452985096551E-2},3.0800000000000001E-2,1.0295891084449909,14,15.975719891806408,null,1,{"$f":"+PRODUCT(D140:D152)","v":1.4185555778588081},{"$f":"+PRODUCT(D141:D152)","v":1.3982178634809042},{"$f":"+PRODUCT(D142:D152)","v":1.3781717292374498},{"$f":"+PRODUCT(D143:D152)","v":1.3385647904909661},{"$f":"+PRODUCT(D144:D152)","v":1.3000961058267482},{"$f":"+PRODUCT(D145:D152)","v":1.2627329632403643},{"$f":"+PRODUCT(D146:D152)","v":1.226443590829642},{"$f":"+PRODUCT(D147:D152)","v":1.1911971297772996},{"$f":"+PRODUCT(D148:D152)","v":1.1569636081100243},{"$f":"+PRODUCT(D149:D152)","v":1.1237139152116806},{"$f":"+PRODUCT(D150:D152)","v":1.0914197770689789},{"$f":"+PRODUCT(D151:D152)","v":1.060053732228551},{"$f":"+PRODUCT(D152:D152)","v":1.0295891084449909}]
[2034,{"$f":"+B120","v":6.1300452985096551E-2},3.0800000000000001E-2,1.0295891084449909,15,17.478016308616855,null,1,{"$f":"+PRODUCT(D140:D153)","v":1.4605293726873192},{"$f":"+PRODUCT(D141:D153)","v":1.439589883473164},{"$f":"+PRODUCT(D142:D153)","v":1.4189506019896774},{"$f":"+PRODUCT(D143:D153)","v":1.3781717292374498},{"$f":"+PRODUCT(D144:D153)","v":1.3385647904909661},{"$f":"+PRODUCT(D145:D153)","v":1.3000961058267482},{"$f":"+PRODUCT(D146:D153)","v":1.2627329632403643},{"$f":"+PRODUCT(D147:D153)","v":1.226443590829642},{"$f":"+PRODUCT(D148:D153)","v":1.1911971297772996},{"$f":"+PRODUCT(D149:D153)","v":1.1569636081100243},{"$f":"+PRODUCT(D150:D153)","v":1.1237139152116806},{"$f":"+PRODUCT(D151:D153)","v":1.0914197770689789},{"$f":"+PRODUCT(D152:D153)","v":1.060053732228551},{"$f":"+PRODUCT(D153:D153)","v":1.0295891084449909}]
[2035,{"$f":"+B121","v":6.1300452985096551E-2},3.0800000000000001E-2,1.0295891084449909,16,19.02476433702083,null,1,{"$f":"+PRODUCT(D140:D154)","v":1.5037451346828588},{"$f":"+PRODUCT(D141:D154)","v":1.4821860646515632},{"$f":"+PRODUCT(D142:D154)","v":1.460936085230035},{"$f":"+PRODUCT(D143:D154)","v":1.4189506019896774},{"$f":"+PRODUCT(D144:D154)","v":1.3781717292374498},{"$f":"+PRODUCT(D145:D154)","v":1.3385647904909661},{"$f":"+PRODUCT(D146:D154)","v":1.3000961058267482},{"$f":"+PRODUCT(D147:D154)","v":1.2627329632403643},{"$f":"+PRODUCT(D148:D154)","v":1.226443590829642},{"$f":"+PRODUCT(D149:D154)","v":1.1911971297772996},{"$f":"+PRODUCT(D150:D154)","v":1.1569636081100243},{"$f":"+PRODUCT(D151:D154)","v":1.1237139152116806},{"$f":"+PRODUCT(D152:D154)","v":1.0914197770689789},{"$f":"+PRODUCT(D153:D154)","v":1.060053732228551},{"$f":"+PRODUCT(D154:D154)","v":1.0295891084449909}]
[2036,{"$f":"+B122","v":6.1300452985096551E-2},3.0800000000000001E-2,1.0295891084449909,17,20.617279260574325,null,1,{"$f":"+PRODUCT(D140:D155)","v":1.5482396125466171},{"$f":"+PRODUCT(D141:D155)","v":1.5260426288541926},{"$f":"+PRODUCT(D142:D155)","v":1.504163881487107},{"$f":"+PRODUCT(D143:D155)","v":1.460936085230035},{"$f":"+PRODUCT(D144:D155)","v":1.4189506019896774},{"$f":"+PRODUCT(D145:D155)","v":1.3781717292374498},{"$f":"+PRODUCT(D146:D155)","v":1.3385647904909661},{"$f":"+PRODUCT(D147:D155)","v":1.3000961058267482},{"$f":"+PRODUCT(D148:D155)","v":1.2627329632403643},{"$f":"+PRODUCT(D149:D155)","v":1.226443590829642},{"$f":"+PRODUCT(D150:D155)","v":1.1911971297772996},{"$f":"+PRODUCT(D151:D155)","v":1.1569636081100243},{"$f":"+PRODUCT(D152:D155)","v":1.1237139152116806},{"$f":"+PRODUCT(D153:D155)","v":1.0914197770689789},{"$f":"+PRODUCT(D154:D155)","v":1.060053732228551},{"$f":"+PRODUCT(D155:D155)","v":1.0295891084449909}]
[2037,{"$f":"+B123","v":6.1300452985096551E-2},3.0800000000000001E-2,1.0295891084449909,18,22.256915280901111,null,1,{"$f":"+PRODUCT(D140:D156)","v":1.5940506423410896},{"$f":"+PRODUCT(D141:D156)","v":1.5711968696910383},{"$f":"+PRODUCT(D142:D156)","v":1.5486707496954675},{"$f":"+PRODUCT(D143:D156)","v":1.504163881487107},{"$f":"+PRODUCT(D144:D156)","v":1.460936085230035},{"$f":"+PRODUCT(D145:D156)","v":1.4189506019896774},{"$f":"+PRODUCT(D146:D156)","v":1.3781717292374498},{"$f":"+PRODUCT(D147:D156)","v":1.3385647904909661},{"$f":"+PRODUCT(D148:D156)","v":1.3000961058267482},{"$f":"+PRODUCT(D149:D156)","v":1.2627329632403643},{"$f":"+PRODUCT(D150:D156)","v":1.226443590829642},{"$f":"+PRODUCT(D151:D156)","v":1.1911971297772996},{"$f":"+PRODUCT(D152:D156)","v":1.1569636081100243},{"$f":"+PRODUCT(D153:D156)","v":1.1237139152116806},{"$f":"+PRODUCT(D154:D156)","v":1.0914197770689789},{"$f":"+PRODUCT(D155:D156)","v":1.060053732228551},{"$f":"+PRODUCT(D156:D156)","v":1.0295891084449909}]
[2038,{"$f":"+B124","v":6.1300452985096551E-2},3.0800000000000001E-2,1.0295891084449909,19,23.945066669243658,null,1,{"$f":"+PRODUCT(D140:D157)","v":1.6412171796641275},{"$f":"+PRODUCT(D141:D157)","v":1.6176871842567566},{"$f":"+PRODUCT(D142:D157)","v":1.5944945364537919},{"$f":"+PRODUCT(D143:D157)","v":1.5486707496954675},{"$f":"+PRODUCT(D144:D157)","v":1.504163881487107},{"$f":"+PRODUCT(D145:D157)","v":1.460936085230035},{"$f":"+PRODUCT(D146:D157)","v":1.4189506019896774},{"$f":"+PRODUCT(D147:D157)","v":1.3781717292374498},{"$f":"+PRODUCT(D148:D157)","v":1.3385647904909661},{"$f":"+PRODUCT(D149:D157)","v":1.3000961058267482},{"$f":"+PRODUCT(D150:D157)","v":1.2627329632403643},{"$f":"+PRODUCT(D151:D157)","v":1.226443590829642},{"$f":"+PRODUCT(D152:D157)","v":1.1911971297772996},{"$f":"+PRODUCT(D153:D157)","v":1.1569636081100243},{"$f":"+PRODUCT(D154:D157)","v":1.1237139152116806},{"$f":"+PRODUCT(D155:D157)","v":1.0914197770689789},{"$f":"+PRODUCT(D156:D157)","v":1.060053732228551},{"$f":"+PRODUCT(D157:D157)","v":1.0295891084449909}]
[2039,{"$f":"+B125","v":6.1300452985096551E-2},3.0800000000000001E-2,1.0295891084449909,20,25.683168952087438,null,1,{"$f":"+PRODUCT(D140:D158)","v":1.6897793327749915},{"$f":"+PRODUCT(D141:D158)","v":1.6655531057818016},{"$f":"+PRODUCT(D142:D158)","v":1.6416742082078686},{"$f":"+PRODUCT(D143:D158)","v":1.5944945364537919},{"$f":"+PRODUCT(D144:D158)","v":1.5486707496954675},{"$f":"+PRODUCT(D145:D158)","v":1.504163881487107},{"$f":"+PRODUCT(D146:D158)","v":1.460936085230035},{"$f":"+PRODUCT(D147:D158)","v":1.4189506019896774},{"$f":"+PRODUCT(D148:D158)","v":1.3781717292374498},{"$f":"+PRODUCT(D149:D158)","v":1.3385647904909661},{"$f":"+PRODUCT(D150:D158)","v":1.3000961058267482},{"$f":"+PRODUCT(D151:D158)","v":1.2627329632403643},{"$f":"+PRODUCT(D152:D158)","v":1.226443590829642},{"$f":"+PRODUCT(D153:D158)","v":1.1911971297772996},{"$f":"+PRODUCT(D154:D158)","v":1.1569636081100243},{"$f":"+PRODUCT(D155:D158)","v":1.1237139152116806},{"$f":"+PRODUCT(D156:D158)","v":1.0914197770689789},{"$f":"+PRODUCT(D157:D158)","v":1.060053732228551},{"$f":"+PRODUCT(D158:D158)","v":1.0295891084449909}]
[2040,{"$f":"+B126","v":6.1300452985096551E-2},3.0800000000000001E-2,1.0295891084449909,21,27.472700131866766,null,1,{"$f":"+PRODUCT(D140:D159)","v":1.7397783967005749},{"$f":"+PRODUCT(D141:D159)","v":1.7148353372496707},{"$f":"+PRODUCT(D142:D159)","v":1.6902498843858758},{"$f":"+PRODUCT(D143:D159)","v":1.6416742082078686},{"$f":"+PRODUCT(D144:D159)","v":1.5944945364537919},{"$f":"+PRODUCT(D145:D159)","v":1.5486707496954675},{"$f":"+PRODUCT(D146:D159)","v":1.504163881487107},{"$f":"+PRODUCT(D147:D159)","v":1.460936085230035},{"$f":"+PRODUCT(D148:D159)","v":1.4189506019896774},{"$f":"+PRODUCT(D149:D159)","v":1.3781717292374498},{"$f":"+PRODUCT(D150:D159)","v":1.3385647904909661},{"$f":"+PRODUCT(D151:D159)","v":1.3000961058267482},{"$f":"+PRODUCT(D152:D159)","v":1.2627329632403643},{"$f":"+PRODUCT(D153:D159)","v":1.226443590829642},{"$f":"+PRODUCT(D154:D159)","v":1.1911971297772996},{"$f":"+PRODUCT(D155:D159)","v":1.1569636081100243},{"$f":"+PRODUCT(D156:D159)","v":1.1237139152116806},{"$f":"+PRODUCT(D157:D159)","v":1.0914197770689789},{"$f":"+PRODUCT(D158:D159)","v":1.060053732228551},{"$f":"+PRODUCT(D159:D159)","v":1.0295891084449909}]
[2041,{"$f":"+B127","v":6.1300452985096551E-2},3.0800000000000001E-2,1.0295891084449909,22,29.315181943790279,null,1,{"$f":"+PRODUCT(D140:D160)","v":1.7912568883508004},{"$f":"+PRODUCT(D141:D160)","v":1.7655757860088537},{"$f":"+PRODUCT(D142:D160)","v":1.7402628715141026},{"$f":"+PRODUCT(D143:D160)","v":1.6902498843858758},{"$f":"+PRODUCT(D144:D160)","v":1.6416742082078686},{"$f":"+PRODUCT(D145:D160)","v":1.5944945364537919},{"$f":"+PRODUCT(D146:D160)","v":1.5486707496954675},{"$f":"+PRODUCT(D147:D160)","v":1.504163881487107},{"$f":"+PRODUCT(D148:D160)","v":1.460936085230035},{"$f":"+PRODUCT(D149:D160)","v":1.4189506019896774},{"$f":"+PRODUCT(D150:D160)","v":1.3781717292374498},{"$f":"+PRODUCT(D151:D160)","v":1.3385647904909661},{"$f":"+PRODUCT(D152:D160)","v":1.3000961058267482},{"$f":"+PRODUCT(D153:D160)","v":1.2627329632403643},{"$f":"+PRODUCT(D154:D160)","v":1.226443590829642},{"$f":"+PRODUCT(D155:D160)","v":1.1911971297772996},{"$f":"+PRODUCT(D156:D160)","v":1.1569636081100243},{"$f":"+PRODUCT(D157:D160)","v":1.1237139152116806},{"$f":"+PRODUCT(D158:D160)","v":1.0914197770689789},{"$f":"+PRODUCT(D159:D160)","v":1.060053732228551},{"$f":"+PRODUCT(D160:D160)","v":1.0295891084449909}]
[2042,{"$f":"+B128","v":6.1300452985096551E-2},3.0800000000000001E-2,1.0295891084449909,23,31.212181149854722,null,1,{"$f":"+PRODUCT(D140:D161)","v":1.8442585826730491},{"$f":"+PRODUCT(D141:D161)","v":1.8178175994089196},{"$f":"+PRODUCT(D142:D161)","v":1.7917556983421246},{"$f":"+PRODUCT(D143:D161)","v":1.7402628715141026},{"$f":"+PRODUCT(D144:D161)","v":1.6902498843858758},{"$f":"+PRODUCT(D145:D161)","v":1.6416742082078686},{"$f":"+PRODUCT(D146:D161)","v":1.5944945364537919},{"$f":"+PRODUCT(D147:D161)","v":1.5486707496954675},{"$f":"+PRODUCT(D148:D161)","v":1.504163881487107},{"$f":"+PRODUCT(D149:D161)","v":1.460936085230035},{"$f":"+PRODUCT(D150:D161)","v":1.4189506019896774},{"$f":"+PRODUCT(D151:D161)","v":1.3781717292374498},{"$f":"+PRODUCT(D152:D161)","v":1.3385647904909661},{"$f":"+PRODUCT(D153:D161)","v":1.3000961058267482},{"$f":"+PRODUCT(D154:D161)","v":1.2627329632403643},{"$f":"+PRODUCT(D155:D161)","v":1.226443590829642},{"$f":"+PRODUCT(D156:D161)","v":1.1911971297772996},{"$f":"+PRODUCT(D157:D161)","v":1.1569636081100243},{"$f":"+PRODUCT(D158:D161)","v":1.1237139152116806},{"$f":"+PRODUCT(D159:D161)","v":1.0914197770689789},{"$f":"+PRODUCT(D160:D161)","v":1.060053732228551},{"$f":"+PRODUCT(D161:D161)","v":1.0295891084449909}]
[2043,{"$f":"+B129","v":6.1300452985096551E-2},3.0800000000000001E-2,1.0295891084449909,24,33.165310871147462,null,1,{"$f":"+PRODUCT(D140:D162)","v":1.8988285498763671},{"$f":"+PRODUCT(D141:D162)","v":1.8716052014910431},{"$f":"+PRODUCT(D142:D162)","v":1.8447721520072999},{"$f":"+PRODUCT(D143:D162)","v":1.7917556983421246},{"$f":"+PRODUCT(D144:D162)","v":1.7402628715141026},{"$f":"+PRODUCT(D145:D162)","v":1.6902498843858758},{"$f":"+PRODUCT(D146:D162)","v":1.6416742082078686},{"$f":"+PRODUCT(D147:D162)","v":1.5944945364537919},{"$f":"+PRODUCT(D148:D162)","v":1.5486707496954675},{"$f":"+PRODUCT(D149:D162)","v":1.504163881487107},{"$f":"+PRODUCT(D150:D162)","v":1.460936085230035},{"$f":"+PRODUCT(D151:D162)","v":1.4189506019896774},{"$f":"+PRODUCT(D152:D162)","v":1.3781717292374498},{"$f":"+PRODUCT(D153:D162)","v":1.3385647904909661},{"$f":"+PRODUCT(D154:D162)","v":1.3000961058267482},{"$f":"+PRODUCT(D155:D162)","v":1.2627329632403643},{"$f":"+PRODUCT(D156:D162)","v":1.226443590829642},{"$f":"+PRODUCT(D157:D162)","v":1.1911971297772996},{"$f":"+PRODUCT(D158:D162)","v":1.1569636081100243},{"$f":"+PRODUCT(D159:D162)","v":1.1237139152116806},{"$f":"+PRODUCT(D160:D162)","v":1.0914197770689789},{"$f":"+PRODUCT(D161:D162)","v":1.060053732228551},{"$f":"+PRODUCT(D162:D162)","v":1.0295891084449909}]
[2044,{"$f":"+B130","v":6.1300452985096551E-2},3.0800000000000001E-2,1.0295891084449909,25,35.176231959570664,null,1,{"$f":"+PRODUCT(D140:D163)","v":1.9550131937571036},{"$f":"+PRODUCT(D141:D163)","v":1.9269843307641705},{"$f":"+PRODUCT(D142:D163)","v":1.899357315269343},{"$f":"+PRODUCT(D143:D163)","v":1.8447721520072999},{"$f":"+PRODUCT(D144:D163)","v":1.7917556983421246},{"$f":"+PRODUCT(D145:D163)","v":1.7402628715141026},{"$f":"+PRODUCT(D146:D163)","v":1.6902498843858758},{"$f":"+PRODUCT(D147:D163)","v":1.6416742082078686},{"$f":"+PRODUCT(D148:D163)","v":1.5944945364537919},{"$f":"+PRODUCT(D149:D163)","v":1.5486707496954675},{"$f":"+PRODUCT(D150:D163)","v":1.504163881487107},{"$f":"+PRODUCT(D151:D163)","v":1.460936085230035},{"$f":"+PRODUCT(D152:D163)","v":1.4189506019896774},{"$f":"+PRODUCT(D153:D163)","v":1.3781717292374498},{"$f":"+PRODUCT(D154:D163)","v":1.3385647904909661},{"$f":"+PRODUCT(D155:D163)","v":1.3000961058267482},{"$f":"+PRODUCT(D156:D163)","v":1.2627329632403643},{"$f":"+PRODUCT(D157:D163)","v":1.226443590829642},{"$f":"+PRODUCT(D158:D163)","v":1.1911971297772996},{"$f":"+PRODUCT(D159:D163)","v":1.1569636081100243},{"$f":"+PRODUCT(D160:D163)","v":1.1237139152116806},{"$f":"+PRODUCT(D161:D163)","v":1.0914197770689789},{"$f":"+PRODUCT(D162:D163)","v":1.060053732228551},{"$f":"+PRODUCT(D163:D163)","v":1.0295891084449909}]
[2045,{"$f":"+B131","v":6.1300452985096551E-2},3.0800000000000001E-2,1.0295891084449909,26,37.246654410153546,null,1,{"$f":"+PRODUCT(D140:D164)","v":2.0128602911585705},{"$f":"+PRODUCT(D141:D164)","v":1.9840020790989497},{"$f":"+PRODUCT(D142:D164)","v":1.9555576048466343},{"$f":"+PRODUCT(D143:D164)","v":1.899357315269343},{"$f":"+PRODUCT(D144:D164)","v":1.8447721520072999},{"$f":"+PRODUCT(D145:D164)","v":1.7917556983421246},{"$f":"+PRODUCT(D146:D164)","v":1.7402628715141026},{"$f":"+PRODUCT(D147:D164)","v":1.6902498843858758},{"$f":"+PRODUCT(D148:D164)","v":1.6416742082078686},{"$f":"+PRODUCT(D149:D164)","v":1.5944945364537919},{"$f":"+PRODUCT(D150:D164)","v":1.5486707496954675},{"$f":"+PRODUCT(D151:D164)","v":1.504163881487107},{"$f":"+PRODUCT(D152:D164)","v":1.460936085230035},{"$f":"+PRODUCT(D153:D164)","v":1.4189506019896774},{"$f":"+PRODUCT(D154:D164)","v":1.3781717292374498},{"$f":"+PRODUCT(D155:D164)","v":1.3385647904909661},{"$f":"+PRODUCT(D156:D164)","v":1.3000961058267482},{"$f":"+PRODUCT(D157:D164)","v":1.2627329632403643},{"$f":"+PRODUCT(D158:D164)","v":1.226443590829642},{"$f":"+PRODUCT(D159:D164)","v":1.1911971297772996},{"$f":"+PRODUCT(D160:D164)","v":1.1569636081100243},{"$f":"+PRODUCT(D161:D164)","v":1.1237139152116806},{"$f":"+PRODUCT(D162:D164)","v":1.0914197770689789},{"$f":"+PRODUCT(D163:D164)","v":1.060053732228551},{"$f":"+PRODUCT(D164:D164)","v":1.0295891084449909}]
[2046,{"$f":"+B132","v":0},0,1,27,38.246654410153546,null,1,{"$f":"+PRODUCT(D140:D165)","v":2.0128602911585705},{"$f":"+PRODUCT(D141:D165)","v":1.9840020790989497},{"$f":"+PRODUCT(D142:D165)","v":1.9555576048466343},{"$f":"+PRODUCT(D143:D165)","v":1.899357315269343},{"$f":"+PRODUCT(D144:D165)","v":1.8447721520072999},{"$f":"+PRODUCT(D145:D165)","v":1.7917556983421246},{"$f":"+PRODUCT(D146:D165)","v":1.7402628715141026},{"$f":"+PRODUCT(D147:D165)","v":1.6902498843858758},{"$f":"+PRODUCT(D148:D165)","v":1.6416742082078686},{"$f":"+PRODUCT(D149:D165)","v":1.5944945364537919},{"$f":"+PRODUCT(D150:D165)","v":1.5486707496954675},{"$f":"+PRODUCT(D151:D165)","v":1.504163881487107},{"$f":"+PRODUCT(D152:D165)","v":1.460936085230035},{"$f":"+PRODUCT(D153:D165)","v":1.4189506019896774},{"$f":"+PRODUCT(D154:D165)","v":1.3781717292374498},{"$f":"+PRODUCT(D155:D165)","v":1.3385647904909661},{"$f":"+PRODUCT(D156:D165)","v":1.3000961058267482},{"$f":"+PRODUCT(D157:D165)","v":1.2627329632403643},{"$f":"+PRODUCT(D158:D165)","v":1.226443590829642},{"$f":"+PRODUCT(D159:D165)","v":1.1911971297772996},{"$f":"+PRODUCT(D160:D165)","v":1.1569636081100243},{"$f":"+PRODUCT(D161:D165)","v":1.1237139152116806},{"$f":"+PRODUCT(D162:D165)","v":1.0914197770689789},{"$f":"+PRODUCT(D163:D165)","v":1.060053732228551},{"$f":"+PRODUCT(D164:D165)","v":1.0295891084449909},{"$f":"+PRODUCT(D165:D165)","v":1}]
[2047,{"$f":"+B133","v":0},0,1,28,39.246654410153546,null,1,{"$f":"+PRODUCT(D140:D166)","v":2.0128602911585705},{"$f":"+PRODUCT(D141:D166)","v":1.9840020790989497},{"$f":"+PRODUCT(D142:D166)","v":1.9555576048466343},{"$f":"+PRODUCT(D143:D166)","v":1.899357315269343},{"$f":"+PRODUCT(D144:D166)","v":1.8447721520072999},{"$f":"+PRODUCT(D145:D166)","v":1.7917556983421246},{"$f":"+PRODUCT(D146:D166)","v":1.7402628715141026},{"$f":"+PRODUCT(D147:D166)","v":1.6902498843858758},{"$f":"+PRODUCT(D148:D166)","v":1.6416742082078686},{"$f":"+PRODUCT(D149:D166)","v":1.5944945364537919},{"$f":"+PRODUCT(D150:D166)","v":1.5486707496954675},{"$f":"+PRODUCT(D151:D166)","v":1.504163881487107},{"$f":"+PRODUCT(D152:D166)","v":1.460936085230035},{"$f":"+PRODUCT(D153:D166)","v":1.4189506019896774},{"$f":"+PRODUCT(D154:D166)","v":1.3781717292374498},{"$f":"+PRODUCT(D155:D166)","v":1.3385647904909661},{"$f":"+PRODUCT(D156:D166)","v":1.3000961058267482},{"$f":"+PRODUCT(D157:D166)","v":1.2627329632403643},{"$f":"+PRODUCT(D158:D166)","v":1.226443590829642},{"$f":"+PRODUCT(D159:D166)","v":1.1911971297772996},{"$f":"+PRODUCT(D160:D166)","v":1.1569636081100243},{"$f":"+PRODUCT(D161:D166)","v":1.1237139152116806},{"$f":"+PRODUCT(D162:D166)","v":1.0914197770689789},{"$f":"+PRODUCT(D163:D166)","v":1.060053732228551},{"$f":"+PRODUCT(D164:D166)","v":1.0295891084449909},{"$f":"+PRODUCT(D165:D166)","v":1},{"$f":"+PRODUCT(D166:D166)","v":1}]
[2048,{"$f":"+B134","v":0},0,1,29,40.246654410153546,null,1,{"$f":"+PRODUCT(D140:D167)","v":2.0128602911585705},{"$f":"+PRODUCT(D141:D167)","v":1.9840020790989497},{"$f":"+PRODUCT(D142:D167)","v":1.9555576048466343},{"$f":"+PRODUCT(D143:D167)","v":1.899357315269343},{"$f":"+PRODUCT(D144:D167)","v":1.8447721520072999},{"$f":"+PRODUCT(D145:D167)","v":1.7917556983421246},{"$f":"+PRODUCT(D146:D167)","v":1.7402628715141026},{"$f":"+PRODUCT(D147:D167)","v":1.6902498843858758},{"$f":"+PRODUCT(D148:D167)","v":1.6416742082078686},{"$f":"+PRODUCT(D149:D167)","v":1.5944945364537919},{"$f":"+PRODUCT(D150:D167)","v":1.5486707496954675},{"$f":"+PRODUCT(D151:D167)","v":1.504163881487107},{"$f":"+PRODUCT(D152:D167)","v":1.460936085230035},{"$f":"+PRODUCT(D153:D167)","v":1.4189506019896774},{"$f":"+PRODUCT(D154:D167)","v":1.3781717292374498},{"$f":"+PRODUCT(D155:D167)","v":1.3385647904909661},{"$f":"+PRODUCT(D156:D167)","v":1.3000961058267482},{"$f":"+PRODUCT(D157:D167)","v":1.2627329632403643},{"$f":"+PRODUCT(D158:D167)","v":1.226443590829642},{"$f":"+PRODUCT(D159:D167)","v":1.1911971297772996},{"$f":"+PRODUCT(D160:D167)","v":1.1569636081100243},{"$f":"+PRODUCT(D161:D167)","v":1.1237139152116806},{"$f":"+PRODUCT(D162:D167)","v":1.0914197770689789},{"$f":"+PRODUCT(D163:D167)","v":1.060053732228551},{"$f":"+PRODUCT(D164:D167)","v":1.0295891084449909},{"$f":"+PRODUCT(D165:D167)","v":1},{"$f":"+PRODUCT(D166:D167)","v":1},{"$f":"+PRODUCT(D167:D167)","v":1}]
[2049,{"$f":"+B135","v":0},0,1,30,41.246654410153546,null,1,{"$f":"+PRODUCT(D140:D168)","v":2.0128602911585705},{"$f":"+PRODUCT(D141:D168)","v":1.9840020790989497},{"$f":"+PRODUCT(D142:D168)","v":1.9555576048466343},{"$f":"+PRODUCT(D143:D168)","v":1.899357315269343},{"$f":"+PRODUCT(D144:D168)","v":1.8447721520072999},{"$f":"+PRODUCT(D145:D168)","v":1.7917556983421246},{"$f":"+PRODUCT(D146:D168)","v":1.7402628715141026},{"$f":"+PRODUCT(D147:D168)","v":1.6902498843858758},{"$f":"+PRODUCT(D148:D168)","v":1.6416742082078686},{"$f":"+PRODUCT(D149:D168)","v":1.5944945364537919},{"$f":"+PRODUCT(D150:D168)","v":1.5486707496954675},{"$f":"+PRODUCT(D151:D168)","v":1.504163881487107},{"$f":"+PRODUCT(D152:D168)","v":1.460936085230035},{"$f":"+PRODUCT(D153:D168)","v":1.4189506019896774},{"$f":"+PRODUCT(D154:D168)","v":1.3781717292374498},{"$f":"+PRODUCT(D155:D168)","v":1.3385647904909661},{"$f":"+PRODUCT(D156:D168)","v":1.3000961058267482},{"$f":"+PRODUCT(D157:D168)","v":1.2627329632403643},{"$f":"+PRODUCT(D158:D168)","v":1.226443590829642},{"$f":"+PRODUCT(D159:D168)","v":1.1911971297772996},{"$f":"+PRODUCT(D160:D168)","v":1.1569636081100243},{"$f":"+PRODUCT(D161:D168)","v":1.1237139152116806},{"$f":"+PRODUCT(D162:D168)","v":1.0914197770689789},{"$f":"+PRODUCT(D163:D168)","v":1.060053732228551},{"$f":"+PRODUCT(D164:D168)","v":1.0295891084449909},{"$f":"+PRODUCT(D165:D168)","v":1},{"$f":"+PRODUCT(D166:D168)","v":1},{"$f":"+PRODUCT(D167:D168)","v":1},{"$f":"+PRODUCT(D168:D168)","v":1}]
[]
[]
[" Fecha(Anual) ","r_t","c_y_t","1+r_t / 1+c_y_t","t","Multiplicatoria inversa",0,{"$f":"+G171+1","v":1},{"$f":"+H171+1","v":2},{"$f":"+I171+1","v":3},{"$f":"+J171+1","v":4},{"$f":"+K171+1","v":5},{"$f":"+L171+1","v":6},{"$f":"+M171+1","v":7},{"$f":"+N171+1","v":8},{"$f":"+O171+1","v":9},{"$f":"+P171+1","v":10},{"$f":"+Q171+1","v":11},{"$f":"+R171+1","v":12},{"$f":"+S171+1","v":13},{"$f":"+T171+1","v":14},{"$f":"+U171+1","v":15},{"$f":"+V171+1","v":16},{"$f":"+W171+1","v":17},{"$f":"+X171+1","v":18},{"$f":"+Y171+1","v":19},{"$f":"+Z171+1","v":20},{"$f":"+AA171+1","v":21},{"$f":"+AB171+1","v":22},{"$f":"+AC171+1","v":23},{"$f":"+AD171+1","v":24},{"$f":"+AE171+1","v":25},{"$f":"+AF171+1","v":26},{"$f":"+AG171+1","v":27},{"$f":"+AH171+1","v":28},{"$f":"+AI171+1","v":29},{"$f":"+AJ171+1","v":30}]
[{"$f":"+A139","v":2020},null,null,1,0]
[{"$f":"+A172+1","v":2021},{"$f":"+B140","v":6.0199999999999997E-2},{"$f":"+C140","v":4.4999999999999998E-2},{"$f":"(1+B173)/(1+C173)","v":1.0145454545454546},1,null,null,1]
[{"$f":"+A173+1","v":2022},{"$f":"+B141","v":6.0199999999999997E-2},4.4999999999999998E-2,{"$f":"(1+B174)/(1+C174)","v":1.0145454545454546},{"$f":"+E173+1","v":2},{"$f":"+SUM(I174:AK174)","v":1.0145454545454546},null,1,{"$f":"+PRODUCT(D174:D174)","v":1.0145454545454546}]
[2023,{"$f":"+B142","v":6.1300452985096551E-2},3.0800000000000001E-2,1.0295891084449909,{"$f":"+E174+1","v":3},{"$f":"+SUM(I175:AK175)","v":2.0741540584673634},null,1,{"$f":"+PRODUCT(D174:D175)","v":1.0445649500223726},{"$f":"+PRODUCT(D175:D175)","v":1.0295891084449909}]
[2024,{"$f":"+B143","v":6.1300452985096551E-2},3.0800000000000001E-2,1.0295891084449909,4,3.1651155362799632,null,1,{"$f":"+PRODUCT(D174:D176)","v":1.0754726956064211},{"$f":"+PRODUCT(D175:D176)","v":1.060053732228551},{"$f":"+PRODUCT(D176:D176)","v":1.0295891084449909},{"$f":"+IF(L171>E176,\"\",1)","v":""}]
[2025,{"$f":"+B144","v":6.1300452985096551E-2},3.0800000000000001E-2,1.0295891084449909,5,4.2883575915688672,null,1,{"$f":"+PRODUCT(D174:D177)","v":1.1072949738263462},{"$f":"+PRODUCT(D175:D177)","v":1.0914197770689789},{"$f":"+PRODUCT(D176:D177)","v":1.060053732228551},{"$f":"+PRODUCT(D177:D177)","v":1.0295891084449909}]
[2026,{"$f":"+B145","v":6.1300452985096551E-2},3.0800000000000001E-2,1.0295891084449909,6,5.4448353778416898,null,1,{"$f":"+PRODUCT(D174:D178)","v":1.1400588448874873},{"$f":"+PRODUCT(D175:D178)","v":1.1237139152116806},{"$f":"+PRODUCT(D176:D178)","v":1.0914197770689789},{"$f":"+PRODUCT(D177:D178)","v":1.060053732228551},{"$f":"+PRODUCT(D178:D178)","v":1.0295891084449909}]
[2027,{"$f":"+B146","v":6.1300452985096551E-2},3.0800000000000001E-2,1.0295891084449909,7,6.6355323107467594,null,1,{"$f":"+PRODUCT(D174:D179)","v":1.1737921696825342},{"$f":"+PRODUCT(D175:D179)","v":1.1569636081100243},{"$f":"+PRODUCT(D176:D179)","v":1.1237139152116806},{"$f":"+PRODUCT(D177:D179)","v":1.0914197770689789},{"$f":"+PRODUCT(D178:D179)","v":1.060053732228551},{"$f":"+PRODUCT(D179:D179)","v":1.0295891084449909}]
[2028,{"$f":"+B147","v":6.1300452985096551E-2},3.0800000000000001E-2,1.0295891084449909,8,7.8614609043246784,null,1,{"$f":"+PRODUCT(D174:D180)","v":1.2085236334831517},{"$f":"+PRODUCT(D175:D180)","v":1.1911971297772996},{"$f":"+PRODUCT(D176:D180)","v":1.1569636081100243},{"$f":"+PRODUCT(D177:D180)","v":1.1237139152116806},{"$f":"+PRODUCT(D178:D180)","v":1.0914197770689789},{"$f":"+PRODUCT(D179:D180)","v":1.060053732228551},{"$f":"+PRODUCT(D180:D180)","v":1.0295891084449909}]
[2029,{"$f":"+B148","v":6.1300452985096551E-2},3.0800000000000001E-2,1.0295891084449909,9,9.1236636320037867,null,1,{"$f":"+PRODUCT(D174:D181)","v":1.2442827703326191},{"$f":"+PRODUCT(D175:D181)","v":1.226443590829642},{"$f":"+PRODUCT(D176:D181)","v":1.1911971297772996},{"$f":"+PRODUCT(D177:D181)","v":1.1569636081100243},{"$f":"+PRODUCT(D178:D181)","v":1.1237139152116806},{"$f":"+PRODUCT(D179:D181)","v":1.0914197770689789},{"$f":"+PRODUCT(D180:D181)","v":1.060053732228551},{"$f":"+PRODUCT(D181:D181)","v":1.0295891084449909}]
[2030,{"$f":"+B149","v":6.1300452985096551E-2},3.0800000000000001E-2,1.0295891084449909,10,10.423213813071758,null,1,{"$f":"+PRODUCT(D174:D182)","v":1.2810999881602247},{"$f":"+PRODUCT(D175:D182)","v":1.2627329632403643},{"$f":"+PRODUCT(D176:D182)","v":1.226443590829642},{"$f":"+PRODUCT(D177:D182)","v":1.1911971297772996},{"$f":"+PRODUCT(D178:D182)","v":1.1569636081100243},{"$f":"+PRODUCT(D179:D182)","v":1.1237139152116806},{"$f":"+PRODUCT(D180:D182)","v":1.0914197770689789},{"$f":"+PRODUCT(D181:D182)","v":1.060053732228551},{"$f":"+PRODUCT(D182:D182)","v":1.0295891084449909}]
[2031,{"$f":"+B150","v":6.1300452985096551E-2},3.0800000000000001E-2,1.0295891084449909,11,11.761216525377055,null,1,{"$f":"+PRODUCT(D174:D183)","v":1.3190065946387741},{"$f":"+PRODUCT(D175:D183)","v":1.3000961058267482},{"$f":"+PRODUCT(D176:D183)","v":1.2627329632403643},{"$f":"+PRODUCT(D177:D183)","v":1.226443590829642},{"$f":"+PRODUCT(D178:D183)","v":1.1911971297772996},{"$f":"+PRODUCT(D179:D183)","v":1.1569636081100243},{"$f":"+PRODUCT(D180:D183)","v":1.1237139152116806},{"$f":"+PRODUCT(D181:D183)","v":1.0914197770689789},{"$f":"+PRODUCT(D182:D183)","v":1.060053732228551},{"$f":"+PRODUCT(D183:D183)","v":1.0295891084449909}]
[2032,{"$f":"+B151","v":6.1300452985096551E-2},3.0800000000000001E-2,1.0295891084449909,12,13.138809545036446,null,1,{"$f":"+PRODUCT(D174:D184)","v":1.3580348238071989},{"$f":"+PRODUCT(D175:D184)","v":1.3385647904909661},{"$f":"+PRODUCT(D176:D184)","v":1.3000961058267482},{"$f":"+PRODUCT(D177:D184)","v":1.2627329632403643},{"$f":"+PRODUCT(D178:D184)","v":1.226443590829642},{"$f":"+PRODUCT(D179:D184)","v":1.1911971297772996},{"$f":"+PRODUCT(D180:D184)","v":1.1569636081100243},{"$f":"+PRODUCT(D181:D184)","v":1.1237139152116806},{"$f":"+PRODUCT(D182:D184)","v":1.0914197770689789},{"$f":"+PRODUCT(D183:D184)","v":1.060053732228551},{"$f":"+PRODUCT(D184:D184)","v":1.0295891084449909}]
[2033,{"$f":"+B152","v":6.1300452985096551E-2},3.0800000000000001E-2,1.0295891084449909,13,14.557164313947601,null,1,{"$f":"+PRODUCT(D174:D185)","v":1.3982178634809042},{"$f":"+PRODUCT(D175:D185)","v":1.3781717292374498},{"$f":"+PRODUCT(D176:D185)","v":1.3385647904909661},{"$f":"+PRODUCT(D177:D185)","v":1.3000961058267482},{"$f":"+PRODUCT(D178:D185)","v":1.2627329632403643},{"$f":"+PRODUCT(D179:D185)","v":1.226443590829642},{"$f":"+PRODUCT(D180:D185)","v":1.1911971297772996},{"$f":"+PRODUCT(D181:D185)","v":1.1569636081100243},{"$f":"+PRODUCT(D182:D185)","v":1.1237139152116806},{"$f":"+PRODUCT(D183:D185)","v":1.0914197770689789},{"$f":"+PRODUCT(D184:D185)","v":1.060053732228551},{"$f":"+PRODUCT(D185:D185)","v":1.0295891084449909}]
[2034,{"$f":"+B153","v":6.1300452985096551E-2},3.0800000000000001E-2,1.0295891084449909,14,16.017486935929536,null,1,{"$f":"+PRODUCT(D174:D186)","v":1.439589883473164},{"$f":"+PRODUCT(D175:D186)","v":1.4189506019896774},{"$f":"+PRODUCT(D176:D186)","v":1.3781717292374498},{"$f":"+PRODUCT(D177:D186)","v":1.3385647904909661},{"$f":"+PRODUCT(D178:D186)","v":1.3000961058267482},{"$f":"+PRODUCT(D179:D186)","v":1.2627329632403643},{"$f":"+PRODUCT(D180:D186)","v":1.226443590829642},{"$f":"+PRODUCT(D181:D186)","v":1.1911971297772996},{"$f":"+PRODUCT(D182:D186)","v":1.1569636081100243},{"$f":"+PRODUCT(D183:D186)","v":1.1237139152116806},{"$f":"+PRODUCT(D184:D186)","v":1.0914197770689789},{"$f":"+PRODUCT(D185:D186)","v":1.060053732228551},{"$f":"+PRODUCT(D186:D186)","v":1.0295891084449909}]
[2035,{"$f":"+B154","v":6.1300452985096551E-2},3.0800000000000001E-2,1.0295891084449909,15,17.521019202337971,null,1,{"$f":"+PRODUCT(D174:D187)","v":1.4821860646515632},{"$f":"+PRODUCT(D175:D187)","v":1.460936085230035},{"$f":"+PRODUCT(D176:D187)","v":1.4189506019896774},{"$f":"+PRODUCT(D177:D187)","v":1.3781717292374498},{"$f":"+PRODUCT(D178:D187)","v":1.3385647904909661},{"$f":"+PRODUCT(D179:D187)","v":1.3000961058267482},{"$f":"+PRODUCT(D180:D187)","v":1.2627329632403643},{"$f":"+PRODUCT(D181:D187)","v":1.226443590829642},{"$f":"+PRODUCT(D182:D187)","v":1.1911971297772996},{"$f":"+PRODUCT(D183:D187)","v":1.1569636081100243},{"$f":"+PRODUCT(D184:D187)","v":1.1237139152116806},{"$f":"+PRODUCT(D185:D187)","v":1.0914197770689789},{"$f":"+PRODUCT(D186:D187)","v":1.060053732228551},{"$f":"+PRODUCT(D187:D187)","v":1.0295891084449909}]
[2036,{"$f":"+B155","v":6.1300452985096551E-2},3.0800000000000001E-2,1.0295891084449909,16,19.069039648027708,null,1,{"$f":"+PRODUCT(D174:D188)","v":1.5260426288541926},{"$f":"+PRODUCT(D175:D188)","v":1.504163881487107},{"$f":"+PRODUCT(D176:D188)","v":1.460936085230035},{"$f":"+PRODUCT(D177:D188)","v":1.4189506019896774},{"$f":"+PRODUCT(D178:D188)","v":1.3781717292374498},{"$f":"+PRODUCT(D179:D188)","v":1.3385647904909661},{"$f":"+PRODUCT(D180:D188)","v":1.3000961058267482},{"$f":"+PRODUCT(D181:D188)","v":1.2627329632403643},{"$f":"+PRODUCT(D182:D188)","v":1.226443590829642},{"$f":"+PRODUCT(D183:D188)","v":1.1911971297772996},{"$f":"+PRODUCT(D184:D188)","v":1.1569636081100243},{"$f":"+PRODUCT(D185:D188)","v":1.1237139152116806},{"$f":"+PRODUCT(D186:D188)","v":1.0914197770689789},{"$f":"+PRODUCT(D187:D188)","v":1.060053732228551},{"$f":"+PRODUCT(D188:D188)","v":1.0295891084449909}]
[2037,{"$f":"+B156","v":6.1300452985096551E-2},3.0800000000000001E-2,1.0295891084449909,17,20.66286463856002,null,1,{"$f":"+PRODUCT(D174:D189)","v":1.5711968696910383},{"$f":"+PRODUCT(D175:D189)","v":1.5486707496954675},{"$f":"+PRODUCT(D176:D189)","v":1.504163881487107},{"$f":"+PRODUCT(D177:D189)","v":1.460936085230035},{"$f":"+PRODUCT(D178:D189)","v":1.4189506019896774},{"$f":"+PRODUCT(D179:D189)","v":1.3781717292374498},{"$f":"+PRODUCT(D180:D189)","v":1.3385647904909661},{"$f":"+PRODUCT(D181:D189)","v":1.3000961058267482},{"$f":"+PRODUCT(D182:D189)","v":1.2627329632403643},{"$f":"+PRODUCT(D183:D189)","v":1.226443590829642},{"$f":"+PRODUCT(D184:D189)","v":1.1911971297772996},{"$f":"+PRODUCT(D185:D189)","v":1.1569636081100243},{"$f":"+PRODUCT(D186:D189)","v":1.1237139152116806},{"$f":"+PRODUCT(D187:D189)","v":1.0914197770689789},{"$f":"+PRODUCT(D188:D189)","v":1.060053732228551},{"$f":"+PRODUCT(D189:D189)","v":1.0295891084449909}]
[2038,{"$f":"+B157","v":6.1300452985096551E-2},3.0800000000000001E-2,1.0295891084449909,18,22.303849489579534,null,1,{"$f":"+PRODUCT(D174:D190)","v":1.6176871842567566},{"$f":"+PRODUCT(D175:D190)","v":1.5944945364537919},{"$f":"+PRODUCT(D176:D190)","v":1.5486707496954675},{"$f":"+PRODUCT(D177:D190)","v":1.504163881487107},{"$f":"+PRODUCT(D178:D190)","v":1.460936085230035},{"$f":"+PRODUCT(D179:D190)","v":1.4189506019896774},{"$f":"+PRODUCT(D180:D190)","v":1.3781717292374498},{"$f":"+PRODUCT(D181:D190)","v":1.3385647904909661},{"$f":"+PRODUCT(D182:D190)","v":1.3000961058267482},{"$f":"+PRODUCT(D183:D190)","v":1.2627329632403643},{"$f":"+PRODUCT(D184:D190)","v":1.226443590829642},{"$f":"+PRODUCT(D185:D190)","v":1.1911971297772996},{"$f":"+PRODUCT(D186:D190)","v":1.1569636081100243},{"$f":"+PRODUCT(D187:D190)","v":1.1237139152116806},{"$f":"+PRODUCT(D188:D190)","v":1.0914197770689789},{"$f":"+PRODUCT(D189:D190)","v":1.060053732228551},{"$f":"+PRODUCT(D190:D190)","v":1.0295891084449909}]
[2039,{"$f":"+B158","v":6.1300452985096551E-2},3.0800000000000001E-2,1.0295891084449909,19,23.993389619312445,null,1,{"$f":"+PRODUCT(D174:D191)","v":1.6655531057818016},{"$f":"+PRODUCT(D175:D191)","v":1.6416742082078686},{"$f":"+PRODUCT(D176:D191)","v":1.5944945364537919},{"$f":"+PRODUCT(D177:D191)","v":1.5486707496954675},{"$f":"+PRODUCT(D178:D191)","v":1.504163881487107},{"$f":"+PRODUCT(D179:D191)","v":1.460936085230035},{"$f":"+PRODUCT(D180:D191)","v":1.4189506019896774},{"$f":"+PRODUCT(D181:D191)","v":1.3781717292374498},{"$f":"+PRODUCT(D182:D191)","v":1.3385647904909661},{"$f":"+PRODUCT(D183:D191)","v":1.3000961058267482},{"$f":"+PRODUCT(D184:D191)","v":1.2627329632403643},{"$f":"+PRODUCT(D185:D191)","v":1.226443590829642},{"$f":"+PRODUCT(D186:D191)","v":1.1911971297772996},{"$f":"+PRODUCT(D187:D191)","v":1.1569636081100243},{"$f":"+PRODUCT(D188:D191)","v":1.1237139152116806},{"$f":"+PRODUCT(D189:D191)","v":1.0914197770689789},{"$f":"+PRODUCT(D190:D191)","v":1.060053732228551},{"$f":"+PRODUCT(D191:D191)","v":1.0295891084449909}]
[2040,{"$f":"+B159","v":6.1300452985096551E-2},3.0800000000000001E-2,1.0295891084449909,20,25.73292173516619,null,1,{"$f":"+PRODUCT(D174:D192)","v":1.7148353372496707},{"$f":"+PRODUCT(D175:D192)","v":1.6902498843858758},{"$f":"+PRODUCT(D176:D192)","v":1.6416742082078686},{"$f":"+PRODUCT(D177:D192)","v":1.5944945364537919},{"$f":"+PRODUCT(D178:D192)","v":1.5486707496954675},{"$f":"+PRODUCT(D179:D192)","v":1.504163881487107},{"$f":"+PRODUCT(D180:D192)","v":1.460936085230035},{"$f":"+PRODUCT(D181:D192)","v":1.4189506019896774},{"$f":"+PRODUCT(D182:D192)","v":1.3781717292374498},{"$f":"+PRODUCT(D183:D192)","v":1.3385647904909661},{"$f":"+PRODUCT(D184:D192)","v":1.3000961058267482},{"$f":"+PRODUCT(D185:D192)","v":1.2627329632403643},{"$f":"+PRODUCT(D186:D192)","v":1.226443590829642},{"$f":"+PRODUCT(D187:D192)","v":1.1911971297772996},{"$f":"+PRODUCT(D188:D192)","v":1.1569636081100243},{"$f":"+PRODUCT(D189:D192)","v":1.1237139152116806},{"$f":"+PRODUCT(D190:D192)","v":1.0914197770689789},{"$f":"+PRODUCT(D191:D192)","v":1.060053732228551},{"$f":"+PRODUCT(D192:D192)","v":1.0295891084449909}]
[2041,{"$f":"+B160","v":6.1300452985096551E-2},3.0800000000000001E-2,1.0295891084449909,21,27.523925055439477,null,1,{"$f":"+PRODUCT(D174:D193)","v":1.7655757860088537},{"$f":"+PRODUCT(D175:D193)","v":1.7402628715141026},{"$f":"+PRODUCT(D176:D193)","v":1.6902498843858758},{"$f":"+PRODUCT(D177:D193)","v":1.6416742082078686},{"$f":"+PRODUCT(D178:D193)","v":1.5944945364537919},{"$f":"+PRODUCT(D179:D193)","v":1.5486707496954675},{"$f":"+PRODUCT(D180:D193)","v":1.504163881487107},{"$f":"+PRODUCT(D181:D193)","v":1.460936085230035},{"$f":"+PRODUCT(D182:D193)","v":1.4189506019896774},{"$f":"+PRODUCT(D183:D193)","v":1.3781717292374498},{"$f":"+PRODUCT(D184:D193)","v":1.3385647904909661},{"$f":"+PRODUCT(D185:D193)","v":1.3000961058267482},{"$f":"+PRODUCT(D186:D193)","v":1.2627329632403643},{"$f":"+PRODUCT(D187:D193)","v":1.226443590829642},{"$f":"+PRODUCT(D188:D193)","v":1.1911971297772996},{"$f":"+PRODUCT(D189:D193)","v":1.1569636081100243},{"$f":"+PRODUCT(D190:D193)","v":1.1237139152116806},{"$f":"+PRODUCT(D191:D193)","v":1.0914197770689789},{"$f":"+PRODUCT(D192:D193)","v":1.060053732228551},{"$f":"+PRODUCT(D193:D193)","v":1.0295891084449909}]
[2042,{"$f":"+B161","v":6.1300452985096551E-2},3.0800000000000001E-2,1.0295891084449909,22,29.367922567181672,null,1,{"$f":"+PRODUCT(D174:D194)","v":1.8178175994089196},{"$f":"+PRODUCT(D175:D194)","v":1.7917556983421246},{"$f":"+PRODUCT(D176:D194)","v":1.7402628715141026},{"$f":"+PRODUCT(D177:D194)","v":1.6902498843858758},{"$f":"+PRODUCT(D178:D194)","v":1.6416742082078686},{"$f":"+PRODUCT(D179:D194)","v":1.5944945364537919},{"$f":"+PRODUCT(D180:D194)","v":1.5486707496954675},{"$f":"+PRODUCT(D181:D194)","v":1.504163881487107},{"$f":"+PRODUCT(D182:D194)","v":1.460936085230035},{"$f":"+PRODUCT(D183:D194)","v":1.4189506019896774},{"$f":"+PRODUCT(D184:D194)","v":1.3781717292374498},{"$f":"+PRODUCT(D185:D194)","v":1.3385647904909661},{"$f":"+PRODUCT(D186:D194)","v":1.3000961058267482},{"$f":"+PRODUCT(D187:D194)","v":1.2627329632403643},{"$f":"+PRODUCT(D188:D194)","v":1.226443590829642},{"$f":"+PRODUCT(D189:D194)","v":1.1911971297772996},{"$f":"+PRODUCT(D190:D194)","v":1.1569636081100243},{"$f":"+PRODUCT(D191:D194)","v":1.1237139152116806},{"$f":"+PRODUCT(D192:D194)","v":1.0914197770689789},{"$f":"+PRODUCT(D193:D194)","v":1.060053732228551},{"$f":"+PRODUCT(D194:D194)","v":1.0295891084449909}]
[2043,{"$f":"+B162","v":6.1300452985096551E-2},3.0800000000000001E-2,1.0295891084449909,23,31.266482321271098,null,1,{"$f":"+PRODUCT(D174:D195)","v":1.8716052014910431},{"$f":"+PRODUCT(D175:D195)","v":1.8447721520072999},{"$f":"+PRODUCT(D176:D195)","v":1.7917556983421246},{"$f":"+PRODUCT(D177:D195)","v":1.7402628715141026},{"$f":"+PRODUCT(D178:D195)","v":1.6902498843858758},{"$f":"+PRODUCT(D179:D195)","v":1.6416742082078686},{"$f":"+PRODUCT(D180:D195)","v":1.5944945364537919},{"$f":"+PRODUCT(D181:D195)","v":1.5486707496954675},{"$f":"+PRODUCT(D182:D195)","v":1.504163881487107},{"$f":"+PRODUCT(D183:D195)","v":1.460936085230035},{"$f":"+PRODUCT(D184:D195)","v":1.4189506019896774},{"$f":"+PRODUCT(D185:D195)","v":1.3781717292374498},{"$f":"+PRODUCT(D186:D195)","v":1.3385647904909661},{"$f":"+PRODUCT(D187:D195)","v":1.3000961058267482},{"$f":"+PRODUCT(D188:D195)","v":1.2627329632403643},{"$f":"+PRODUCT(D189:D195)","v":1.226443590829642},{"$f":"+PRODUCT(D190:D195)","v":1.1911971297772996},{"$f":"+PRODUCT(D191:D195)","v":1.1569636081100243},{"$f":"+PRODUCT(D192:D195)","v":1.1237139152116806},{"$f":"+PRODUCT(D193:D195)","v":1.0914197770689789},{"$f":"+PRODUCT(D194:D195)","v":1.060053732228551},{"$f":"+PRODUCT(D195:D195)","v":1.0295891084449909}]
[2044,{"$f":"+B163","v":6.1300452985096551E-2},3.0800000000000001E-2,1.0295891084449909,24,33.221218765813568,null,1,{"$f":"+PRODUCT(D174:D196)","v":1.9269843307641705},{"$f":"+PRODUCT(D175:D196)","v":1.899357315269343},{"$f":"+PRODUCT(D176:D196)","v":1.8447721520072999},{"$f":"+PRODUCT(D177:D196)","v":1.7917556983421246},{"$f":"+PRODUCT(D178:D196)","v":1.7402628715141026},{"$f":"+PRODUCT(D179:D196)","v":1.6902498843858758},{"$f":"+PRODUCT(D180:D196)","v":1.6416742082078686},{"$f":"+PRODUCT(D181:D196)","v":1.5944945364537919},{"$f":"+PRODUCT(D182:D196)","v":1.5486707496954675},{"$f":"+PRODUCT(D183:D196)","v":1.504163881487107},{"$f":"+PRODUCT(D184:D196)","v":1.460936085230035},{"$f":"+PRODUCT(D185:D196)","v":1.4189506019896774},{"$f":"+PRODUCT(D186:D196)","v":1.3781717292374498},{"$f":"+PRODUCT(D187:D196)","v":1.3385647904909661},{"$f":"+PRODUCT(D188:D196)","v":1.3000961058267482},{"$f":"+PRODUCT(D189:D196)","v":1.2627329632403643},{"$f":"+PRODUCT(D190:D196)","v":1.226443590829642},{"$f":"+PRODUCT(D191:D196)","v":1.1911971297772996},{"$f":"+PRODUCT(D192:D196)","v":1.1569636081100243},{"$f":"+PRODUCT(D193:D196)","v":1.1237139152116806},{"$f":"+PRODUCT(D194:D196)","v":1.0914197770689789},{"$f":"+PRODUCT(D195:D196)","v":1.060053732228551},{"$f":"+PRODUCT(D196:D196)","v":1.0295891084449909}]
[2045,{"$f":"+B164","v":6.1300452985096551E-2},3.0800000000000001E-2,1.0295891084449909,25,35.233794118994979,null,1,{"$f":"+PRODUCT(D174:D197)","v":1.9840020790989497},{"$f":"+PRODUCT(D175:D197)","v":1.9555576048466343},{"$f":"+PRODUCT(D176:D197)","v":1.899357315269343},{"$f":"+PRODUCT(D177:D197)","v":1.8447721520072999},{"$f":"+PRODUCT(D178:D197)","v":1.7917556983421246},{"$f":"+PRODUCT(D179:D197)","v":1.7402628715141026},{"$f":"+PRODUCT(D180:D197)","v":1.6902498843858758},{"$f":"+PRODUCT(D181:D197)","v":1.6416742082078686},{"$f":"+PRODUCT(D182:D197)","v":1.5944945364537919},{"$f":"+PRODUCT(D183:D197)","v":1.5486707496954675},{"$f":"+PRODUCT(D184:D197)","v":1.504163881487107},{"$f":"+PRODUCT(D185:D197)","v":1.460936085230035},{"$f":"+PRODUCT(D186:D197)","v":1.4189506019896774},{"$f":"+PRODUCT(D187:D197)","v":1.3781717292374498},{"$f":"+PRODUCT(D188:D197)","v":1.3385647904909661},{"$f":"+PRODUCT(D189:D197)","v":1.3000961058267482},{"$f":"+PRODUCT(D190:D197)","v":1.2627329632403643},{"$f":"+PRODUCT(D191:D197)","v":1.226443590829642},{"$f":"+PRODUCT(D192:D197)","v":1.1911971297772996},{"$f":"+PRODUCT(D193:D197)","v":1.1569636081100243},{"$f":"+PRODUCT(D194:D197)","v":1.1237139152116806},{"$f":"+PRODUCT(D195:D197)","v":1.0914197770689789},{"$f":"+PRODUCT(D196:D197)","v":1.060053732228551},{"$f":"+PRODUCT(D197:D197)","v":1.0295891084449909}]
[2046,{"$f":"+B165","v":0},0,1,26,36.233794118994979,null,1,{"$f":"+PRODUCT(D174:D198)","v":1.9840020790989497},{"$f":"+PRODUCT(D175:D198)","v":1.9555576048466343},{"$f":"+PRODUCT(D176:D198)","v":1.899357315269343},{"$f":"+PRODUCT(D177:D198)","v":1.8447721520072999},{"$f":"+PRODUCT(D178:D198)","v":1.7917556983421246},{"$f":"+PRODUCT(D179:D198)","v":1.7402628715141026},{"$f":"+PRODUCT(D180:D198)","v":1.6902498843858758},{"$f":"+PRODUCT(D181:D198)","v":1.6416742082078686},{"$f":"+PRODUCT(D182:D198)","v":1.5944945364537919},{"$f":"+PRODUCT(D183:D198)","v":1.5486707496954675},{"$f":"+PRODUCT(D184:D198)","v":1.504163881487107},{"$f":"+PRODUCT(D185:D198)","v":1.460936085230035},{"$f":"+PRODUCT(D186:D198)","v":1.4189506019896774},{"$f":"+PRODUCT(D187:D198)","v":1.3781717292374498},{"$f":"+PRODUCT(D188:D198)","v":1.3385647904909661},{"$f":"+PRODUCT(D189:D198)","v":1.3000961058267482},{"$f":"+PRODUCT(D190:D198)","v":1.2627329632403643},{"$f":"+PRODUCT(D191:D198)","v":1.226443590829642},{"$f":"+PRODUCT(D192:D198)","v":1.1911971297772996},{"$f":"+PRODUCT(D193:D198)","v":1.1569636081100243},{"$f":"+PRODUCT(D194:D198)","v":1.1237139152116806},{"$f":"+PRODUCT(D195:D198)","v":1.0914197770689789},{"$f":"+PRODUCT(D196:D198)","v":1.060053732228551},{"$f":"+PRODUCT(D197:D198)","v":1.0295891084449909},{"$f":"+PRODUCT(D198:D198)","v":1}]
[2047,{"$f":"+B166","v":0},0,1,27,37.233794118994979,null,1,{"$f":"+PRODUCT(D174:D199)","v":1.9840020790989497},{"$f":"+PRODUCT(D175:D199)","v":1.9555576048466343},{"$f":"+PRODUCT(D176:D199)","v":1.899357315269343},{"$f":"+PRODUCT(D177:D199)","v":1.8447721520072999},{"$f":"+PRODUCT(D178:D199)","v":1.7917556983421246},{"$f":"+PRODUCT(D179:D199)","v":1.7402628715141026},{"$f":"+PRODUCT(D180:D199)","v":1.6902498843858758},{"$f":"+PRODUCT(D181:D199)","v":1.6416742082078686},{"$f":"+PRODUCT(D182:D199)","v":1.5944945364537919},{"$f":"+PRODUCT(D183:D199)","v":1.5486707496954675},{"$f":"+PRODUCT(D184:D199)","v":1.504163881487107},{"$f":"+PRODUCT(D185:D199)","v":1.460936085230035},{"$f":"+PRODUCT(D186:D199)","v":1.4189506019896774},{"$f":"+PRODUCT(D187:D199)","v":1.3781717292374498},{"$f":"+PRODUCT(D188:D199)","v":1.3385647904909661},{"$f":"+PRODUCT(D189:D199)","v":1.3000961058267482},{"$f":"+PRODUCT(D190:D199)","v":1.2627329632403643},{"$f":"+PRODUCT(D191:D199)","v":1.226443590829642},{"$f":"+PRODUCT(D192:D199)","v":1.1911971297772996},{"$f":"+PRODUCT(D193:D199)","v":1.1569636081100243},{"$f":"+PRODUCT(D194:D199)","v":1.1237139152116806},{"$f":"+PRODUCT(D195:D199)","v":1.0914197770689789},{"$f":"+PRODUCT(D196:D199)","v":1.060053732228551},{"$f":"+PRODUCT(D197:D199)","v":1.0295891084449909},{"$f":"+PRODUCT(D198:D199)","v":1},{"$f":"+PRODUCT(D199:D199)","v":1}]
[2048,{"$f":"+B167","v":0},0,1,28,38.233794118994979,null,1,{"$f":"+PRODUCT(D174:D200)","v":1.9840020790989497},{"$f":"+PRODUCT(D175:D200)","v":1.9555576048466343},{"$f":"+PRODUCT(D176:D200)","v":1.899357315269343},{"$f":"+PRODUCT(D177:D200)","v":1.8447721520072999},{"$f":"+PRODUCT(D178:D200)","v":1.7917556983421246},{"$f":"+PRODUCT(D179:D200)","v":1.7402628715141026},{"$f":"+PRODUCT(D180:D200)","v":1.6902498843858758},{"$f":"+PRODUCT(D181:D200)","v":1.6416742082078686},{"$f":"+PRODUCT(D182:D200)","v":1.5944945364537919},{"$f":"+PRODUCT(D183:D200)","v":1.5486707496954675},{"$f":"+PRODUCT(D184:D200)","v":1.504163881487107},{"$f":"+PRODUCT(D185:D200)","v":1.460936085230035},{"$f":"+PRODUCT(D186:D200)","v":1.4189506019896774},{"$f":"+PRODUCT(D187:D200)","v":1.3781717292374498},{"$f":"+PRODUCT(D188:D200)","v":1.3385647904909661},{"$f":"+PRODUCT(D189:D200)","v":1.3000961058267482},{"$f":"+PRODUCT(D190:D200)","v":1.2627329632403643},{"$f":"+PRODUCT(D191:D200)","v":1.226443590829642},{"$f":"+PRODUCT(D192:D200)","v":1.1911971297772996},{"$f":"+PRODUCT(D193:D200)","v":1.1569636081100243},{"$f":"+PRODUCT(D194:D200)","v":1.1237139152116806},{"$f":"+PRODUCT(D195:D200)","v":1.0914197770689789},{"$f":"+PRODUCT(D196:D200)","v":1.060053732228551},{"$f":"+PRODUCT(D197:D200)","v":1.0295891084449909},{"$f":"+PRODUCT(D198:D200)","v":1},{"$f":"+PRODUCT(D199:D200)","v":1},{"$f":"+PRODUCT(D200:D200)","v":1}]
[2049,{"$f":"+B168","v":0},0,1,29,39.233794118994979,null,1,{"$f":"+PRODUCT(D174:D201)","v":1.9840020790989497},{"$f":"+PRODUCT(D175:D201)","v":1.9555576048466343},{"$f":"+PRODUCT(D176:D201)","v":1.899357315269343},{"$f":"+PRODUCT(D177:D201)","v":1.8447721520072999},{"$f":"+PRODUCT(D178:D201)","v":1.7917556983421246},{"$f":"+PRODUCT(D179:D201)","v":1.7402628715141026},{"$f":"+PRODUCT(D180:D201)","v":1.6902498843858758},{"$f":"+PRODUCT(D181:D201)","v":1.6416742082078686},{"$f":"+PRODUCT(D182:D201)","v":1.5944945364537919},{"$f":"+PRODUCT(D183:D201)","v":1.5486707496954675},{"$f":"+PRODUCT(D184:D201)","v":1.504163881487107},{"$f":"+PRODUCT(D185:D201)","v":1.460936085230035},{"$f":"+PRODUCT(D186:D201)","v":1.4189506019896774},{"$f":"+PRODUCT(D187:D201)","v":1.3781717292374498},{"$f":"+PRODUCT(D188:D201)","v":1.3385647904909661},{"$f":"+PRODUCT(D189:D201)","v":1.3000961058267482},{"$f":"+PRODUCT(D190:D201)","v":1.2627329632403643},{"$f":"+PRODUCT(D191:D201)","v":1.226443590829642},{"$f":"+PRODUCT(D192:D201)","v":1.1911971297772996},{"$f":"+PRODUCT(D193:D201)","v":1.1569636081100243},{"$f":"+PRODUCT(D194:D201)","v":1.1237139152116806},{"$f":"+PRODUCT(D195:D201)","v":1.0914197770689789},{"$f":"+PRODUCT(D196:D201)","v":1.060053732228551},{"$f":"+PRODUCT(D197:D201)","v":1.0295891084449909},{"$f":"+PRODUCT(D198:D201)","v":1},{"$f":"+PRODUCT(D199:D201)","v":1},{"$f":"+PRODUCT(D200:D201)","v":1},{"$f":"+PRODUCT(D201:D201)","v":1}]
[2050,{"$f":"+B169","v":0},0,1,30,40.233794118994979,null,1,{"$f":"+PRODUCT(D174:D202)","v":1.9840020790989497},{"$f":"+PRODUCT(D175:D202)","v":1.9555576048466343},{"$f":"+PRODUCT(D176:D202)","v":1.899357315269343},{"$f":"+PRODUCT(D177:D202)","v":1.8447721520072999},{"$f":"+PRODUCT(D178:D202)","v":1.7917556983421246},{"$f":"+PRODUCT(D179:D202)","v":1.7402628715141026},{"$f":"+PRODUCT(D180:D202)","v":1.6902498843858758},{"$f":"+PRODUCT(D181:D202)","v":1.6416742082078686},{"$f":"+PRODUCT(D182:D202)","v":1.5944945364537919},{"$f":"+PRODUCT(D183:D202)","v":1.5486707496954675},{"$f":"+PRODUCT(D184:D202)","v":1.504163881487107},{"$f":"+PRODUCT(D185:D202)","v":1.460936085230035},{"$f":"+PRODUCT(D186:D202)","v":1.4189506019896774},{"$f":"+PRODUCT(D187:D202)","v":1.3781717292374498},{"$f":"+PRODUCT(D188:D202)","v":1.3385647904909661},{"$f":"+PRODUCT(D189:D202)","v":1.3000961058267482},{"$f":"+PRODUCT(D190:D202)","v":1.2627329632403643},{"$f":"+PRODUCT(D191:D202)","v":1.226443590829642},{"$f":"+PRODUCT(D192:D202)","v":1.1911971297772996},{"$f":"+PRODUCT(D193:D202)","v":1.1569636081100243},{"$f":"+PRODUCT(D194:D202)","v":1.1237139152116806},{"$f":"+PRODUCT(D195:D202)","v":1.0914197770689789},{"$f":"+PRODUCT(D196:D202)","v":1.060053732228551},{"$f":"+PRODUCT(D197:D202)","v":1.0295891084449909},{"$f":"+PRODUCT(D198:D202)","v":1},{"$f":"+PRODUCT(D199:D202)","v":1},{"$f":"+PRODUCT(D200:D202)","v":1},{"$f":"+PRODUCT(D201:D202)","v":1},{"$f":"+PRODUCT(D202:D202)","v":1}]
[]
[]
[" Fecha(Anual) ","r_t","c_y_t","1+r_t / 1+c_y_t","t","Multiplicatoria inversa",0,{"$f":"+G205+1","v":1},{"$f":"+H205+1","v":2},{"$f":"+I205+1","v":3},{"$f":"+J205+1","v":4},{"$f":"+K205+1","v":5},{"$f":"+L205+1","v":6},{"$f":"+M205+1","v":7},{"$f":"+N205+1","v":8},{"$f":"+O205+1","v":9},{"$f":"+P205+1","v":10},{"$f":"+Q205+1","v":11},{"$f":"+R205+1","v":12},{"$f":"+S205+1","v":13},{"$f":"+T205+1","v":14},{"$f":"+U205+1","v":15},{"$f":"+V205+1","v":16},{"$f":"+W205+1","v":17},{"$f":"+X205+1","v":18},{"$f":"+Y205+1","v":19},{"$f":"+Z205+1","v":20},{"$f":"+AA205+1","v":21},{"$f":"+AB205+1","v":22},{"$f":"+AC205+1","v":23},{"$f":"+AD205+1","v":24},{"$f":"+AE205+1","v":25},{"$f":"+AF205+1","v":26},{"$f":"+AG205+1","v":27},{"$f":"+AH205+1","v":28},{"$f":"+AI205+1","v":29},{"$f":"+AJ205+1","v":30}]
[{"$f":"+A173","v":2021},null,null,1,0]
[{"$f":"+A206+1","v":2022},{"$f":"+B174","v":6.0199999999999997E-2},{"$f":"+C174","v":4.4999999999999998E-2},{"$f":"(1+B207)/(1+C207)","v":1.0145454545454546},1,null,null,1]
[{"$f":"+A207+1","v":2023},{"$f":"+B175","v":6.1300452985096551E-2},3.0800000000000001E-2,{"$f":"(1+B208)/(1+C208)","v":1.0295891084449909},{"$f":"+E207+1","v":2},{"$f":"+SUM(I208:AK208)","v":1.0295891084449909},null,1,{"$f":"+PRODUCT(D208:D208)","v":1.0295891084449909}]
[2024,{"$f":"+B176","v":6.1300452985096551E-2},3.0800000000000001E-2,1.0295891084449909,{"$f":"+E208+1","v":3},{"$f":"+SUM(I209:AK209)","v":2.0896428406735419},null,1,{"$f":"+PRODUCT(D208:D209)","v":1.060053732228551},{"$f":"+PRODUCT(D209:D209)","v":1.0295891084449909}]
[2025,{"$f":"+B177","v":6.1300452985096551E-2},3.0800000000000001E-2,1.0295891084449909,4,3.1810626177425205,null,1,{"$f":"+PRODUCT(D208:D210)","v":1.0914197770689789},{"$f":"+PRODUCT(D209:D210)","v":1.060053732228551},{"$f":"+PRODUCT(D210:D210)","v":1.0295891084449909},{"$f":"+IF(L205>E210,\"\",1)","v":""}]
[2026,{"$f":"+B178","v":6.1300452985096551E-2},3.0800000000000001E-2,1.0295891084449909,5,4.3047765329542012,null,1,{"$f":"+PRODUCT(D208:D211)","v":1.1237139152116806},{"$f":"+PRODUCT(D209:D211)","v":1.0914197770689789},{"$f":"+PRODUCT(D210:D211)","v":1.060053732228551},{"$f":"+PRODUCT(D211:D211)","v":1.0295891084449909}]
[2027,{"$f":"+B179","v":6.1300452985096551E-2},3.0800000000000001E-2,1.0295891084449909,6,5.4617401410642259,null,1,{"$f":"+PRODUCT(D208:D212)","v":1.1569636081100243},{"$f":"+PRODUCT(D209:D212)","v":1.1237139152116806},{"$f":"+PRODUCT(D210:D212)","v":1.0914197770689789},{"$f":"+PRODUCT(D211:D212)","v":1.060053732228551},{"$f":"+PRODUCT(D212:D212)","v":1.0295891084449909}]
[2028,{"$f":"+B180","v":6.1300452985096551E-2},3.0800000000000001E-2,1.0295891084449909,7,6.6529372708415249,null,1,{"$f":"+PRODUCT(D208:D213)","v":1.1911971297772996},{"$f":"+PRODUCT(D209:D213)","v":1.1569636081100243},{"$f":"+PRODUCT(D210:D213)","v":1.1237139152116806},{"$f":"+PRODUCT(D211:D213)","v":1.0914197770689789},{"$f":"+PRODUCT(D212:D213)","v":1.060053732228551},{"$f":"+PRODUCT(D213:D213)","v":1.0295891084449909}]
[2029,{"$f":"+B181","v":6.1300452985096551E-2},3.0800000000000001E-2,1.0295891084449909,8,7.8793808616711676,null,1,{"$f":"+PRODUCT(D208:D214)","v":1.226443590829642},{"$f":"+PRODUCT(D209:D214)","v":1.1911971297772996},{"$f":"+PRODUCT(D210:D214)","v":1.1569636081100243},{"$f":"+PRODUCT(D211:D214)","v":1.1237139152116806},{"$f":"+PRODUCT(D212:D214)","v":1.0914197770689789},{"$f":"+PRODUCT(D213:D214)","v":1.060053732228551},{"$f":"+PRODUCT(D214:D214)","v":1.0295891084449909}]
[2030,{"$f":"+B182","v":6.1300452985096551E-2},3.0800000000000001E-2,1.0295891084449909,9,9.142113824911533,null,1,{"$f":"+PRODUCT(D208:D215)","v":1.2627329632403643},{"$f":"+PRODUCT(D209:D215)","v":1.226443590829642},{"$f":"+PRODUCT(D210:D215)","v":1.1911971297772996},{"$f":"+PRODUCT(D211:D215)","v":1.1569636081100243},{"$f":"+PRODUCT(D212:D215)","v":1.1237139152116806},{"$f":"+PRODUCT(D213:D215)","v":1.0914197770689789},{"$f":"+PRODUCT(D214:D215)","v":1.060053732228551},{"$f":"+PRODUCT(D215:D215)","v":1.0295891084449909}]
[2031,{"$f":"+B183","v":6.1300452985096551E-2},3.0800000000000001E-2,1.0295891084449909,10,10.442209930738281,null,1,{"$f":"+PRODUCT(D208:D216)","v":1.3000961058267482},{"$f":"+PRODUCT(D209:D216)","v":1.2627329632403643},{"$f":"+PRODUCT(D210:D216)","v":1.226443590829642},{"$f":"+PRODUCT(D211:D216)","v":1.1911971297772996},{"$f":"+PRODUCT(D212:D216)","v":1.1569636081100243},{"$f":"+PRODUCT(D213:D216)","v":1.1237139152116806},{"$f":"+PRODUCT(D214:D216)","v":1.0914197770689789},{"$f":"+PRODUCT(D215:D216)","v":1.060053732228551},{"$f":"+PRODUCT(D216:D216)","v":1.0295891084449909}]
[2032,{"$f":"+B184","v":6.1300452985096551E-2},3.0800000000000001E-2,1.0295891084449909,11,11.780774721229246,null,1,{"$f":"+PRODUCT(D208:D217)","v":1.3385647904909661},{"$f":"+PRODUCT(D209:D217)","v":1.3000961058267482},{"$f":"+PRODUCT(D210:D217)","v":1.2627329632403643},{"$f":"+PRODUCT(D211:D217)","v":1.226443590829642},{"$f":"+PRODUCT(D212:D217)","v":1.1911971297772996},{"$f":"+PRODUCT(D213:D217)","v":1.1569636081100243},{"$f":"+PRODUCT(D214:D217)","v":1.1237139152116806},{"$f":"+PRODUCT(D215:D217)","v":1.0914197770689789},{"$f":"+PRODUCT(D216:D217)","v":1.060053732228551},{"$f":"+PRODUCT(D217:D217)","v":1.0295891084449909}]
[2033,{"$f":"+B185","v":6.1300452985096551E-2},3.0800000000000001E-2,1.0295891084449909,12,13.158946450466697,null,1,{"$f":"+PRODUCT(D208:D218)","v":1.3781717292374498},{"$f":"+PRODUCT(D209:D218)","v":1.3385647904909661},{"$f":"+PRODUCT(D210:D218)","v":1.3000961058267482},{"$f":"+PRODUCT(D211:D218)","v":1.2627329632403643},{"$f":"+PRODUCT(D212:D218)","v":1.226443590829642},{"$f":"+PRODUCT(D213:D218)","v":1.1911971297772996},{"$f":"+PRODUCT(D214:D218)","v":1.1569636081100243},{"$f":"+PRODUCT(D215:D218)","v":1.1237139152116806},{"$f":"+PRODUCT(D216:D218)","v":1.0914197770689789},{"$f":"+PRODUCT(D217:D218)","v":1.060053732228551},{"$f":"+PRODUCT(D218:D218)","v":1.0295891084449909}]
[2034,{"$f":"+B186","v":6.1300452985096551E-2},3.0800000000000001E-2,1.0295891084449909,13,14.577897052456374,null,1,{"$f":"+PRODUCT(D208:D219)","v":1.4189506019896774},{"$f":"+PRODUCT(D209:D219)","v":1.3781717292374498},{"$f":"+PRODUCT(D210:D219)","v":1.3385647904909661},{"$f":"+PRODUCT(D211:D219)","v":1.3000961058267482},{"$f":"+PRODUCT(D212:D219)","v":1.2627329632403643},{"$f":"+PRODUCT(D213:D219)","v":1.226443590829642},{"$f":"+PRODUCT(D214:D219)","v":1.1911971297772996},{"$f":"+PRODUCT(D215:D219)","v":1.1569636081100243},{"$f":"+PRODUCT(D216:D219)","v":1.1237139152116806},{"$f":"+PRODUCT(D217:D219)","v":1.0914197770689789},{"$f":"+PRODUCT(D218:D219)","v":1.060053732228551},{"$f":"+PRODUCT(D219:D219)","v":1.0295891084449909}]
[2035,{"$f":"+B187","v":6.1300452985096551E-2},3.0800000000000001E-2,1.0295891084449909,14,16.038833137686407,null,1,{"$f":"+PRODUCT(D208:D220)","v":1.460936085230035},{"$f":"+PRODUCT(D209:D220)","v":1.4189506019896774},{"$f":"+PRODUCT(D210:D220)","v":1.3781717292374498},{"$f":"+PRODUCT(D211:D220)","v":1.3385647904909661},{"$f":"+PRODUCT(D212:D220)","v":1.3000961058267482},{"$f":"+PRODUCT(D213:D220)","v":1.2627329632403643},{"$f":"+PRODUCT(D214:D220)","v":1.226443590829642},{"$f":"+PRODUCT(D215:D220)","v":1.1911971297772996},{"$f":"+PRODUCT(D216:D220)","v":1.1569636081100243},{"$f":"+PRODUCT(D217:D220)","v":1.1237139152116806},{"$f":"+PRODUCT(D218:D220)","v":1.0914197770689789},{"$f":"+PRODUCT(D219:D220)","v":1.060053732228551},{"$f":"+PRODUCT(D220:D220)","v":1.0295891084449909}]
[2036,{"$f":"+B188","v":6.1300452985096551E-2},3.0800000000000001E-2,1.0295891084449909,15,17.542997019173512,null,1,{"$f":"+PRODUCT(D208:D221)","v":1.504163881487107},{"$f":"+PRODUCT(D209:D221)","v":1.460936085230035},{"$f":"+PRODUCT(D210:D221)","v":1.4189506019896774},{"$f":"+PRODUCT(D211:D221)","v":1.3781717292374498},{"$f":"+PRODUCT(D212:D221)","v":1.3385647904909661},{"$f":"+PRODUCT(D213:D221)","v":1.3000961058267482},{"$f":"+PRODUCT(D214:D221)","v":1.2627329632403643},{"$f":"+PRODUCT(D215:D221)","v":1.226443590829642},{"$f":"+PRODUCT(D216:D221)","v":1.1911971297772996},{"$f":"+PRODUCT(D217:D221)","v":1.1569636081100243},{"$f":"+PRODUCT(D218:D221)","v":1.1237139152116806},{"$f":"+PRODUCT(D219:D221)","v":1.0914197770689789},{"$f":"+PRODUCT(D220:D221)","v":1.060053732228551},{"$f":"+PRODUCT(D221:D221)","v":1.0295891084449909}]
[2037,{"$f":"+B189","v":6.1300452985096551E-2},3.0800000000000001E-2,1.0295891084449909,16,19.09166776886898,null,1,{"$f":"+PRODUCT(D208:D222)","v":1.5486707496954675},{"$f":"+PRODUCT(D209:D222)","v":1.504163881487107},{"$f":"+PRODUCT(D210:D222)","v":1.460936085230035},{"$f":"+PRODUCT(D211:D222)","v":1.4189506019896774},{"$f":"+PRODUCT(D212:D222)","v":1.3781717292374498},{"$f":"+PRODUCT(D213:D222)","v":1.3385647904909661},{"$f":"+PRODUCT(D214:D222)","v":1.3000961058267482},{"$f":"+PRODUCT(D215:D222)","v":1.2627329632403643},{"$f":"+PRODUCT(D216:D222)","v":1.226443590829642},{"$f":"+PRODUCT(D217:D222)","v":1.1911971297772996},{"$f":"+PRODUCT(D218:D222)","v":1.1569636081100243},{"$f":"+PRODUCT(D219:D222)","v":1.1237139152116806},{"$f":"+PRODUCT(D220:D222)","v":1.0914197770689789},{"$f":"+PRODUCT(D221:D222)","v":1.060053732228551},{"$f":"+PRODUCT(D222:D222)","v":1.0295891084449909}]
[2038,{"$f":"+B190","v":6.1300452985096551E-2},3.0800000000000001E-2,1.0295891084449909,17,20.686162305322775,null,1,{"$f":"+PRODUCT(D208:D223)","v":1.5944945364537919},{"$f":"+PRODUCT(D209:D223)","v":1.5486707496954675},{"$f":"+PRODUCT(D210:D223)","v":1.504163881487107},{"$f":"+PRODUCT(D211:D223)","v":1.460936085230035},{"$f":"+PRODUCT(D212:D223)","v":1.4189506019896774},{"$f":"+PRODUCT(D213:D223)","v":1.3781717292374498},{"$f":"+PRODUCT(D214:D223)","v":1.3385647904909661},{"$f":"+PRODUCT(D215:D223)","v":1.3000961058267482},{"$f":"+PRODUCT(D216:D223)","v":1.2627329632403643},{"$f":"+PRODUCT(D217:D223)","v":1.226443590829642},{"$f":"+PRODUCT(D218:D223)","v":1.1911971297772996},{"$f":"+PRODUCT(D219:D223)","v":1.1569636081100243},{"$f":"+PRODUCT(D220:D223)","v":1.1237139152116806},{"$f":"+PRODUCT(D221:D223)","v":1.0914197770689789},{"$f":"+PRODUCT(D222:D223)","v":1.060053732228551},{"$f":"+PRODUCT(D223:D223)","v":1.0295891084449909}]
[2039,{"$f":"+B191","v":6.1300452985096551E-2},3.0800000000000001E-2,1.0295891084449909,18,22.327836513530645,null,1,{"$f":"+PRODUCT(D208:D224)","v":1.6416742082078686},{"$f":"+PRODUCT(D209:D224)","v":1.5944945364537919},{"$f":"+PRODUCT(D210:D224)","v":1.5486707496954675},{"$f":"+PRODUCT(D211:D224)","v":1.504163881487107},{"$f":"+PRODUCT(D212:D224)","v":1.460936085230035},{"$f":"+PRODUCT(D213:D224)","v":1.4189506019896774},{"$f":"+PRODUCT(D214:D224)","v":1.3781717292374498},{"$f":"+PRODUCT(D215:D224)","v":1.3385647904909661},{"$f":"+PRODUCT(D216:D224)","v":1.3000961058267482},{"$f":"+PRODUCT(D217:D224)","v":1.2627329632403643},{"$f":"+PRODUCT(D218:D224)","v":1.226443590829642},{"$f":"+PRODUCT(D219:D224)","v":1.1911971297772996},{"$f":"+PRODUCT(D220:D224)","v":1.1569636081100243},{"$f":"+PRODUCT(D221:D224)","v":1.1237139152116806},{"$f":"+PRODUCT(D222:D224)","v":1.0914197770689789},{"$f":"+PRODUCT(D223:D224)","v":1.060053732228551},{"$f":"+PRODUCT(D224:D224)","v":1.0295891084449909}]
[2040,{"$f":"+B192","v":6.1300452985096551E-2},3.0800000000000001E-2,1.0295891084449909,19,24.01808639791652,null,1,{"$f":"+PRODUCT(D208:D225)","v":1.6902498843858758},{"$f":"+PRODUCT(D209:D225)","v":1.6416742082078686},{"$f":"+PRODUCT(D210:D225)","v":1.5944945364537919},{"$f":"+PRODUCT(D211:D225)","v":1.5486707496954675},{"$f":"+PRODUCT(D212:D225)","v":1.504163881487107},{"$f":"+PRODUCT(D213:D225)","v":1.460936085230035},{"$f":"+PRODUCT(D214:D225)","v":1.4189506019896774},{"$f":"+PRODUCT(D215:D225)","v":1.3781717292374498},{"$f":"+PRODUCT(D216:D225)","v":1.3385647904909661},{"$f":"+PRODUCT(D217:D225)","v":1.3000961058267482},{"$f":"+PRODUCT(D218:D225)","v":1.2627329632403643},{"$f":"+PRODUCT(D219:D225)","v":1.226443590829642},{"$f":"+PRODUCT(D220:D225)","v":1.1911971297772996},{"$f":"+PRODUCT(D221:D225)","v":1.1569636081100243},{"$f":"+PRODUCT(D222:D225)","v":1.1237139152116806},{"$f":"+PRODUCT(D223:D225)","v":1.0914197770689789},{"$f":"+PRODUCT(D224:D225)","v":1.060053732228551},{"$f":"+PRODUCT(D225:D225)","v":1.0295891084449909}]
[2041,{"$f":"+B193","v":6.1300452985096551E-2},3.0800000000000001E-2,1.0295891084449909,20,25.758349269430624,null,1,{"$f":"+PRODUCT(D208:D226)","v":1.7402628715141026},{"$f":"+PRODUCT(D209:D226)","v":1.6902498843858758},{"$f":"+PRODUCT(D210:D226)","v":1.6416742082078686},{"$f":"+PRODUCT(D211:D226)","v":1.5944945364537919},{"$f":"+PRODUCT(D212:D226)","v":1.5486707496954675},{"$f":"+PRODUCT(D213:D226)","v":1.504163881487107},{"$f":"+PRODUCT(D214:D226)","v":1.460936085230035},{"$f":"+PRODUCT(D215:D226)","v":1.4189506019896774},{"$f":"+PRODUCT(D216:D226)","v":1.3781717292374498},{"$f":"+PRODUCT(D217:D226)","v":1.3385647904909661},{"$f":"+PRODUCT(D218:D226)","v":1.3000961058267482},{"$f":"+PRODUCT(D219:D226)","v":1.2627329632403643},{"$f":"+PRODUCT(D220:D226)","v":1.226443590829642},{"$f":"+PRODUCT(D221:D226)","v":1.1911971297772996},{"$f":"+PRODUCT(D222:D226)","v":1.1569636081100243},{"$f":"+PRODUCT(D223:D226)","v":1.1237139152116806},{"$f":"+PRODUCT(D224:D226)","v":1.0914197770689789},{"$f":"+PRODUCT(D225:D226)","v":1.060053732228551},{"$f":"+PRODUCT(D226:D226)","v":1.0295891084449909}]
[2042,{"$f":"+B194","v":6.1300452985096551E-2},3.0800000000000001E-2,1.0295891084449909,21,27.550104967772747,null,1,{"$f":"+PRODUCT(D208:D227)","v":1.7917556983421246},{"$f":"+PRODUCT(D209:D227)","v":1.7402628715141026},{"$f":"+PRODUCT(D210:D227)","v":1.6902498843858758},{"$f":"+PRODUCT(D211:D227)","v":1.6416742082078686},{"$f":"+PRODUCT(D212:D227)","v":1.5944945364537919},{"$f":"+PRODUCT(D213:D227)","v":1.5486707496954675},{"$f":"+PRODUCT(D214:D227)","v":1.504163881487107},{"$f":"+PRODUCT(D215:D227)","v":1.460936085230035},{"$f":"+PRODUCT(D216:D227)","v":1.4189506019896774},{"$f":"+PRODUCT(D217:D227)","v":1.3781717292374498},{"$f":"+PRODUCT(D218:D227)","v":1.3385647904909661},{"$f":"+PRODUCT(D219:D227)","v":1.3000961058267482},{"$f":"+PRODUCT(D220:D227)","v":1.2627329632403643},{"$f":"+PRODUCT(D221:D227)","v":1.226443590829642},{"$f":"+PRODUCT(D222:D227)","v":1.1911971297772996},{"$f":"+PRODUCT(D223:D227)","v":1.1569636081100243},{"$f":"+PRODUCT(D224:D227)","v":1.1237139152116806},{"$f":"+PRODUCT(D225:D227)","v":1.0914197770689789},{"$f":"+PRODUCT(D226:D227)","v":1.060053732228551},{"$f":"+PRODUCT(D227:D227)","v":1.0295891084449909}]
[2043,{"$f":"+B195","v":6.1300452985096551E-2},3.0800000000000001E-2,1.0295891084449909,22,29.394877119780048,null,1,{"$f":"+PRODUCT(D208:D228)","v":1.8447721520072999},{"$f":"+PRODUCT(D209:D228)","v":1.7917556983421246},{"$f":"+PRODUCT(D210:D228)","v":1.7402628715141026},{"$f":"+PRODUCT(D211:D228)","v":1.6902498843858758},{"$f":"+PRODUCT(D212:D228)","v":1.6416742082078686},{"$f":"+PRODUCT(D213:D228)","v":1.5944945364537919},{"$f":"+PRODUCT(D214:D228)","v":1.5486707496954675},{"$f":"+PRODUCT(D215:D228)","v":1.504163881487107},{"$f":"+PRODUCT(D216:D228)","v":1.460936085230035},{"$f":"+PRODUCT(D217:D228)","v":1.4189506019896774},{"$f":"+PRODUCT(D218:D228)","v":1.3781717292374498},{"$f":"+PRODUCT(D219:D228)","v":1.3385647904909661},{"$f":"+PRODUCT(D220:D228)","v":1.3000961058267482},{"$f":"+PRODUCT(D221:D228)","v":1.2627329632403643},{"$f":"+PRODUCT(D222:D228)","v":1.226443590829642},{"$f":"+PRODUCT(D223:D228)","v":1.1911971297772996},{"$f":"+PRODUCT(D224:D228)","v":1.1569636081100243},{"$f":"+PRODUCT(D225:D228)","v":1.1237139152116806},{"$f":"+PRODUCT(D226:D228)","v":1.0914197770689789},{"$f":"+PRODUCT(D227:D228)","v":1.060053732228551},{"$f":"+PRODUCT(D228:D228)","v":1.0295891084449909}]
[2044,{"$f":"+B196","v":6.1300452985096551E-2},3.0800000000000001E-2,1.0295891084449909,23,31.294234435049397,null,1,{"$f":"+PRODUCT(D208:D229)","v":1.899357315269343},{"$f":"+PRODUCT(D209:D229)","v":1.8447721520072999},{"$f":"+PRODUCT(D210:D229)","v":1.7917556983421246},{"$f":"+PRODUCT(D211:D229)","v":1.7402628715141026},{"$f":"+PRODUCT(D212:D229)","v":1.6902498843858758},{"$f":"+PRODUCT(D213:D229)","v":1.6416742082078686},{"$f":"+PRODUCT(D214:D229)","v":1.5944945364537919},{"$f":"+PRODUCT(D215:D229)","v":1.5486707496954675},{"$f":"+PRODUCT(D216:D229)","v":1.504163881487107},{"$f":"+PRODUCT(D217:D229)","v":1.460936085230035},{"$f":"+PRODUCT(D218:D229)","v":1.4189506019896774},{"$f":"+PRODUCT(D219:D229)","v":1.3781717292374498},{"$f":"+PRODUCT(D220:D229)","v":1.3385647904909661},{"$f":"+PRODUCT(D221:D229)","v":1.3000961058267482},{"$f":"+PRODUCT(D222:D229)","v":1.2627329632403643},{"$f":"+PRODUCT(D223:D229)","v":1.226443590829642},{"$f":"+PRODUCT(D224:D229)","v":1.1911971297772996},{"$f":"+PRODUCT(D225:D229)","v":1.1569636081100243},{"$f":"+PRODUCT(D226:D229)","v":1.1237139152116806},{"$f":"+PRODUCT(D227:D229)","v":1.0914197770689789},{"$f":"+PRODUCT(D228:D229)","v":1.060053732228551},{"$f":"+PRODUCT(D229:D229)","v":1.0295891084449909}]
[2045,{"$f":"+B197","v":6.1300452985096551E-2},3.0800000000000001E-2,1.0295891084449909,24,33.249792039896029,null,1,{"$f":"+PRODUCT(D208:D230)","v":1.9555576048466343},{"$f":"+PRODUCT(D209:D230)","v":1.899357315269343},{"$f":"+PRODUCT(D210:D230)","v":1.8447721520072999},{"$f":"+PRODUCT(D211:D230)","v":1.7917556983421246},{"$f":"+PRODUCT(D212:D230)","v":1.7402628715141026},{"$f":"+PRODUCT(D213:D230)","v":1.6902498843858758},{"$f":"+PRODUCT(D214:D230)","v":1.6416742082078686},{"$f":"+PRODUCT(D215:D230)","v":1.5944945364537919},{"$f":"+PRODUCT(D216:D230)","v":1.5486707496954675},{"$f":"+PRODUCT(D217:D230)","v":1.504163881487107},{"$f":"+PRODUCT(D218:D230)","v":1.460936085230035},{"$f":"+PRODUCT(D219:D230)","v":1.4189506019896774},{"$f":"+PRODUCT(D220:D230)","v":1.3781717292374498},{"$f":"+PRODUCT(D221:D230)","v":1.3385647904909661},{"$f":"+PRODUCT(D222:D230)","v":1.3000961058267482},{"$f":"+PRODUCT(D223:D230)","v":1.2627329632403643},{"$f":"+PRODUCT(D224:D230)","v":1.226443590829642},{"$f":"+PRODUCT(D225:D230)","v":1.1911971297772996},{"$f":"+PRODUCT(D226:D230)","v":1.1569636081100243},{"$f":"+PRODUCT(D227:D230)","v":1.1237139152116806},{"$f":"+PRODUCT(D228:D230)","v":1.0914197770689789},{"$f":"+PRODUCT(D229:D230)","v":1.060053732228551},{"$f":"+PRODUCT(D230:D230)","v":1.0295891084449909}]
[2046,{"$f":"+B198","v":0},0,1,25,34.249792039896029,null,1,{"$f":"+PRODUCT(D208:D231)","v":1.9555576048466343},{"$f":"+PRODUCT(D209:D231)","v":1.899357315269343},{"$f":"+PRODUCT(D210:D231)","v":1.8447721520072999},{"$f":"+PRODUCT(D211:D231)","v":1.7917556983421246},{"$f":"+PRODUCT(D212:D231)","v":1.7402628715141026},{"$f":"+PRODUCT(D213:D231)","v":1.6902498843858758},{"$f":"+PRODUCT(D214:D231)","v":1.6416742082078686},{"$f":"+PRODUCT(D215:D231)","v":1.5944945364537919},{"$f":"+PRODUCT(D216:D231)","v":1.5486707496954675},{"$f":"+PRODUCT(D217:D231)","v":1.504163881487107},{"$f":"+PRODUCT(D218:D231)","v":1.460936085230035},{"$f":"+PRODUCT(D219:D231)","v":1.4189506019896774},{"$f":"+PRODUCT(D220:D231)","v":1.3781717292374498},{"$f":"+PRODUCT(D221:D231)","v":1.3385647904909661},{"$f":"+PRODUCT(D222:D231)","v":1.3000961058267482},{"$f":"+PRODUCT(D223:D231)","v":1.2627329632403643},{"$f":"+PRODUCT(D224:D231)","v":1.226443590829642},{"$f":"+PRODUCT(D225:D231)","v":1.1911971297772996},{"$f":"+PRODUCT(D226:D231)","v":1.1569636081100243},{"$f":"+PRODUCT(D227:D231)","v":1.1237139152116806},{"$f":"+PRODUCT(D228:D231)","v":1.0914197770689789},{"$f":"+PRODUCT(D229:D231)","v":1.060053732228551},{"$f":"+PRODUCT(D230:D231)","v":1.0295891084449909},{"$f":"+PRODUCT(D231:D231)","v":1}]
[2047,{"$f":"+B199","v":0},0,1,26,35.249792039896029,null,1,{"$f":"+PRODUCT(D208:D232)","v":1.9555576048466343},{"$f":"+PRODUCT(D209:D232)","v":1.899357315269343},{"$f":"+PRODUCT(D210:D232)","v":1.8447721520072999},{"$f":"+PRODUCT(D211:D232)","v":1.7917556983421246},{"$f":"+PRODUCT(D212:D232)","v":1.7402628715141026},{"$f":"+PRODUCT(D213:D232)","v":1.6902498843858758},{"$f":"+PRODUCT(D214:D232)","v":1.6416742082078686},{"$f":"+PRODUCT(D215:D232)","v":1.5944945364537919},{"$f":"+PRODUCT(D216:D232)","v":1.5486707496954675},{"$f":"+PRODUCT(D217:D232)","v":1.504163881487107},{"$f":"+PRODUCT(D218:D232)","v":1.460936085230035},{"$f":"+PRODUCT(D219:D232)","v":1.4189506019896774},{"$f":"+PRODUCT(D220:D232)","v":1.3781717292374498},{"$f":"+PRODUCT(D221:D232)","v":1.3385647904909661},{"$f":"+PRODUCT(D222:D232)","v":1.3000961058267482},{"$f":"+PRODUCT(D223:D232)","v":1.2627329632403643},{"$f":"+PRODUCT(D224:D232)","v":1.226443590829642},{"$f":"+PRODUCT(D225:D232)","v":1.1911971297772996},{"$f":"+PRODUCT(D226:D232)","v":1.1569636081100243},{"$f":"+PRODUCT(D227:D232)","v":1.1237139152116806},{"$f":"+PRODUCT(D228:D232)","v":1.0914197770689789},{"$f":"+PRODUCT(D229:D232)","v":1.060053732228551},{"$f":"+PRODUCT(D230:D232)","v":1.0295891084449909},{"$f":"+PRODUCT(D231:D232)","v":1},{"$f":"+PRODUCT(D232:D232)","v":1}]
[2048,{"$f":"+B200","v":0},0,1,27,36.249792039896029,null,1,{"$f":"+PRODUCT(D208:D233)","v":1.9555576048466343},{"$f":"+PRODUCT(D209:D233)","v":1.899357315269343},{"$f":"+PRODUCT(D210:D233)","v":1.8447721520072999},{"$f":"+PRODUCT(D211:D233)","v":1.7917556983421246},{"$f":"+PRODUCT(D212:D233)","v":1.7402628715141026},{"$f":"+PRODUCT(D213:D233)","v":1.6902498843858758},{"$f":"+PRODUCT(D214:D233)","v":1.6416742082078686},{"$f":"+PRODUCT(D215:D233)","v":1.5944945364537919},{"$f":"+PRODUCT(D216:D233)","v":1.5486707496954675},{"$f":"+PRODUCT(D217:D233)","v":1.504163881487107},{"$f":"+PRODUCT(D218:D233)","v":1.460936085230035},{"$f":"+PRODUCT(D219:D233)","v":1.4189506019896774},{"$f":"+PRODUCT(D220:D233)","v":1.3781717292374498},{"$f":"+PRODUCT(D221:D233)","v":1.3385647904909661},{"$f":"+PRODUCT(D222:D233)","v":1.3000961058267482},{"$f":"+PRODUCT(D223:D233)","v":1.2627329632403643},{"$f":"+PRODUCT(D224:D233)","v":1.226443590829642},{"$f":"+PRODUCT(D225:D233)","v":1.1911971297772996},{"$f":"+PRODUCT(D226:D233)","v":1.1569636081100243},{"$f":"+PRODUCT(D227:D233)","v":1.1237139152116806},{"$f":"+PRODUCT(D228:D233)","v":1.0914197770689789},{"$f":"+PRODUCT(D229:D233)","v":1.060053732228551},{"$f":"+PRODUCT(D230:D233)","v":1.0295891084449909},{"$f":"+PRODUCT(D231:D233)","v":1},{"$f":"+PRODUCT(D232:D233)","v":1},{"$f":"+PRODUCT(D233:D233)","v":1}]
[2049,{"$f":"+B201","v":0},0,1,28,37.249792039896029,null,1,{"$f":"+PRODUCT(D208:D234)","v":1.9555576048466343},{"$f":"+PRODUCT(D209:D234)","v":1.899357315269343},{"$f":"+PRODUCT(D210:D234)","v":1.8447721520072999},{"$f":"+PRODUCT(D211:D234)","v":1.7917556983421246},{"$f":"+PRODUCT(D212:D234)","v":1.7402628715141026},{"$f":"+PRODUCT(D213:D234)","v":1.6902498843858758},{"$f":"+PRODUCT(D214:D234)","v":1.6416742082078686},{"$f":"+PRODUCT(D215:D234)","v":1.5944945364537919},{"$f":"+PRODUCT(D216:D234)","v":1.5486707496954675},{"$f":"+PRODUCT(D217:D234)","v":1.504163881487107},{"$f":"+PRODUCT(D218:D234)","v":1.460936085230035},{"$f":"+PRODUCT(D219:D234)","v":1.4189506019896774},{"$f":"+PRODUCT(D220:D234)","v":1.3781717292374498},{"$f":"+PRODUCT(D221:D234)","v":1.3385647904909661},{"$f":"+PRODUCT(D222:D234)","v":1.3000961058267482},{"$f":"+PRODUCT(D223:D234)","v":1.2627329632403643},{"$f":"+PRODUCT(D224:D234)","v":1.226443590829642},{"$f":"+PRODUCT(D225:D234)","v":1.1911971297772996},{"$f":"+PRODUCT(D226:D234)","v":1.1569636081100243},{"$f":"+PRODUCT(D227:D234)","v":1.1237139152116806},{"$f":"+PRODUCT(D228:D234)","v":1.0914197770689789},{"$f":"+PRODUCT(D229:D234)","v":1.060053732228551},{"$f":"+PRODUCT(D230:D234)","v":1.0295891084449909},{"$f":"+PRODUCT(D231:D234)","v":1},{"$f":"+PRODUCT(D232:D234)","v":1},{"$f":"+PRODUCT(D233:D234)","v":1},{"$f":"+PRODUCT(D234:D234)","v":1}]
[2050,{"$f":"+B202","v":0},0,1,29,38.249792039896029,null,1,{"$f":"+PRODUCT(D208:D235)","v":1.9555576048466343},{"$f":"+PRODUCT(D209:D235)","v":1.899357315269343},{"$f":"+PRODUCT(D210:D235)","v":1.8447721520072999},{"$f":"+PRODUCT(D211:D235)","v":1.7917556983421246},{"$f":"+PRODUCT(D212:D235)","v":1.7402628715141026},{"$f":"+PRODUCT(D213:D235)","v":1.6902498843858758},{"$f":"+PRODUCT(D214:D235)","v":1.6416742082078686},{"$f":"+PRODUCT(D215:D235)","v":1.5944945364537919},{"$f":"+PRODUCT(D216:D235)","v":1.5486707496954675},{"$f":"+PRODUCT(D217:D235)","v":1.504163881487107},{"$f":"+PRODUCT(D218:D235)","v":1.460936085230035},{"$f":"+PRODUCT(D219:D235)","v":1.4189506019896774},{"$f":"+PRODUCT(D220:D235)","v":1.3781717292374498},{"$f":"+PRODUCT(D221:D235)","v":1.3385647904909661},{"$f":"+PRODUCT(D222:D235)","v":1.3000961058267482},{"$f":"+PRODUCT(D223:D235)","v":1.2627329632403643},{"$f":"+PRODUCT(D224:D235)","v":1.226443590829642},{"$f":"+PRODUCT(D225:D235)","v":1.1911971297772996},{"$f":"+PRODUCT(D226:D235)","v":1.1569636081100243},{"$f":"+PRODUCT(D227:D235)","v":1.1237139152116806},{"$f":"+PRODUCT(D228:D235)","v":1.0914197770689789},{"$f":"+PRODUCT(D229:D235)","v":1.060053732228551},{"$f":"+PRODUCT(D230:D235)","v":1.0295891084449909},{"$f":"+PRODUCT(D231:D235)","v":1},{"$f":"+PRODUCT(D232:D235)","v":1},{"$f":"+PRODUCT(D233:D235)","v":1},{"$f":"+PRODUCT(D234:D235)","v":1},{"$f":"+PRODUCT(D235:D235)","v":1}]
[2051,{"$f":"+B203","v":0},0,1,30,39.249792039896029,null,1,{"$f":"+PRODUCT(D208:D236)","v":1.9555576048466343},{"$f":"+PRODUCT(D209:D236)","v":1.899357315269343},{"$f":"+PRODUCT(D210:D236)","v":1.8447721520072999},{"$f":"+PRODUCT(D211:D236)","v":1.7917556983421246},{"$f":"+PRODUCT(D212:D236)","v":1.7402628715141026},{"$f":"+PRODUCT(D213:D236)","v":1.6902498843858758},{"$f":"+PRODUCT(D214:D236)","v":1.6416742082078686},{"$f":"+PRODUCT(D215:D236)","v":1.5944945364537919},{"$f":"+PRODUCT(D216:D236)","v":1.5486707496954675},{"$f":"+PRODUCT(D217:D236)","v":1.504163881487107},{"$f":"+PRODUCT(D218:D236)","v":1.460936085230035},{"$f":"+PRODUCT(D219:D236)","v":1.4189506019896774},{"$f":"+PRODUCT(D220:D236)","v":1.3781717292374498},{"$f":"+PRODUCT(D221:D236)","v":1.3385647904909661},{"$f":"+PRODUCT(D222:D236)","v":1.3000961058267482},{"$f":"+PRODUCT(D223:D236)","v":1.2627329632403643},{"$f":"+PRODUCT(D224:D236)","v":1.226443590829642},{"$f":"+PRODUCT(D225:D236)","v":1.1911971297772996},{"$f":"+PRODUCT(D226:D236)","v":1.1569636081100243},{"$f":"+PRODUCT(D227:D236)","v":1.1237139152116806},{"$f":"+PRODUCT(D228:D236)","v":1.0914197770689789},{"$f":"+PRODUCT(D229:D236)","v":1.060053732228551},{"$f":"+PRODUCT(D230:D236)","v":1.0295891084449909},{"$f":"+PRODUCT(D231:D236)","v":1},{"$f":"+PRODUCT(D232:D236)","v":1},{"$f":"+PRODUCT(D233:D236)","v":1},{"$f":"+PRODUCT(D234:D236)","v":1},{"$f":"+PRODUCT(D235:D236)","v":1},{"$f":"+PRODUCT(D236:D236)","v":1}]
[]
[]
[" Fecha(Anual) ","r_t","c_y_t","1+r_t / 1+c_y_t","t","Multiplicatoria inversa",0,{"$f":"+G239+1","v":1},{"$f":"+H239+1","v":2},{"$f":"+I239+1","v":3},{"$f":"+J239+1","v":4},{"$f":"+K239+1","v":5},{"$f":"+L239+1","v":6},{"$f":"+M239+1","v":7},{"$f":"+N239+1","v":8},{"$f":"+O239+1","v":9},{"$f":"+P239+1","v":10},{"$f":"+Q239+1","v":11},{"$f":"+R239+1","v":12},{"$f":"+S239+1","v":13},{"$f":"+T239+1","v":14},{"$f":"+U239+1","v":15},{"$f":"+V239+1","v":16},{"$f":"+W239+1","v":17},{"$f":"+X239+1","v":18},{"$f":"+Y239+1","v":19},{"$f":"+Z239+1","v":20},{"$f":"+AA239+1","v":21},{"$f":"+AB239+1","v":22},{"$f":"+AC239+1","v":23},{"$f":"+AD239+1","v":24},{"$f":"+AE239+1","v":25},{"$f":"+AF239+1","v":26},{"$f":"+AG239+1","v":27},{"$f":"+AH239+1","v":28},{"$f":"+AI239+1","v":29},{"$f":"+AJ239+1","v":30}]
[{"$f":"+A207","v":2022},null,null,1,0]
[{"$f":"+A240+1","v":2023},{"$f":"+B208","v":6.1300452985096551E-2},{"$f":"+C208","v":3.0800000000000001E-2},{"$f":"(1+B241)/(1+C241)","v":1.0295891084449909},1,null,null,1]
[{"$f":"+A241+1","v":2024},{"$f":"+B209","v":6.1300452985096551E-2},3.0800000000000001E-2,{"$f":"(1+B242)/(1+C242)","v":1.0295891084449909},{"$f":"+E241+1","v":2},{"$f":"+SUM(I242:AK242)","v":1.0295891084449909},null,1,{"$f":"+PRODUCT(D242:D242)","v":1.0295891084449909}]
[2025,{"$f":"+B210","v":6.1300452985096551E-2},3.0800000000000001E-2,1.0295891084449909,{"$f":"+E242+1","v":3},{"$f":"+SUM(I243:AK243)","v":2.0896428406735419},null,1,{"$f":"+PRODUCT(D242:D243)","v":1.060053732228551},{"$f":"+PRODUCT(D243:D243)","v":1.0295891084449909}]
[2026,{"$f":"+B211","v":6.1300452985096551E-2},3.0800000000000001E-2,1.0295891084449909,4,3.1810626177425205,null,1,{"$f":"+PRODUCT(D242:D244)","v":1.0914197770689789},{"$f":"+PRODUCT(D243:D244)","v":1.060053732228551},{"$f":"+PRODUCT(D244:D244)","v":1.0295891084449909},{"$f":"+IF(L239>E244,\"\",1)","v":""}]
[2027,{"$f":"+B212","v":6.1300452985096551E-2},3.0800000000000001E-2,1.0295891084449909,5,4.3047765329542012,null,1,{"$f":"+PRODUCT(D242:D245)","v":1.1237139152116806},{"$f":"+PRODUCT(D243:D245)","v":1.0914197770689789},{"$f":"+PRODUCT(D244:D245)","v":1.060053732228551},{"$f":"+PRODUCT(D245:D245)","v":1.0295891084449909}]
[2028,{"$f":"+B213","v":6.1300452985096551E-2},3.0800000000000001E-2,1.0295891084449909,6,5.4617401410642259,null,1,{"$f":"+PRODUCT(D242:D246)","v":1.1569636081100243},{"$f":"+PRODUCT(D243:D246)","v":1.1237139152116806},{"$f":"+PRODUCT(D244:D246)","v":1.0914197770689789},{"$f":"+PRODUCT(D245:D246)","v":1.060053732228551},{"$f":"+PRODUCT(D246:D246)","v":1.0295891084449909}]
[2029,{"$f":"+B214","v":6.1300452985096551E-2},3.0800000000000001E-2,1.0295891084449909,7,6.6529372708415249,null,1,{"$f":"+PRODUCT(D242:D247)","v":1.1911971297772996},{"$f":"+PRODUCT(D243:D247)","v":1.1569636081100243},{"$f":"+PRODUCT(D244:D247)","v":1.1237139152116806},{"$f":"+PRODUCT(D245:D247)","v":1.0914197770689789},{"$f":"+PRODUCT(D246:D247)","v":1.060053732228551},{"$f":"+PRODUCT(D247:D247)","v":1.0295891084449909}]
[2030,{"$f":"+B215","v":6.1300452985096551E-2},3.0800000000000001E-2,1.0295891084449909,8,7.8793808616711676,null,1,{"$f":"+PRODUCT(D242:D248)","v":1.226443590829642},{"$f":"+PRODUCT(D243:D248)","v":1.1911971297772996},{"$f":"+PRODUCT(D244:D248)","v":1.1569636081100243},{"$f":"+PRODUCT(D245:D248)","v":1.1237139152116806},{"$f":"+PRODUCT(D246:D248)","v":1.0914197770689789},{"$f":"+PRODUCT(D247:D248)","v":1.060053732228551},{"$f":"+PRODUCT(D248:D248)","v":1.0295891084449909}]
[2031,{"$f":"+B216","v":6.1300452985096551E-2},3.0800000000000001E-2,1.0295891084449909,9,9.142113824911533,null,1,{"$f":"+PRODUCT(D242:D249)","v":1.2627329632403643},{"$f":"+PRODUCT(D243:D249)","v":1.226443590829642},{"$f":"+PRODUCT(D244:D249)","v":1.1911971297772996},{"$f":"+PRODUCT(D245:D249)","v":1.1569636081100243},{"$f":"+PRODUCT(D246:D249)","v":1.1237139152116806},{"$f":"+PRODUCT(D247:D249)","v":1.0914197770689789},{"$f":"+PRODUCT(D248:D249)","v":1.060053732228551},{"$f":"+PRODUCT(D249:D249)","v":1.0295891084449909}]
[2032,{"$f":"+B217","v":6.1300452985096551E-2},3.0800000000000001E-2,1.0295891084449909,10,10.442209930738281,null,1,{"$f":"+PRODUCT(D242:D250)","v":1.3000961058267482},{"$f":"+PRODUCT(D243:D250)","v":1.2627329632403643},{"$f":"+PRODUCT(D244:D250)","v":1.226443590829642},{"$f":"+PRODUCT(D245:D250)","v":1.1911971297772996},{"$f":"+PRODUCT(D246:D250)","v":1.1569636081100243},{"$f":"+PRODUCT(D247:D250)","v":1.1237139152116806},{"$f":"+PRODUCT(D248:D250)","v":1.0914197770689789},{"$f":"+PRODUCT(D249:D250)","v":1.060053732228551},{"$f":"+PRODUCT(D250:D250)","v":1.0295891084449909}]
[2033,{"$f":"+B218","v":6.1300452985096551E-2},3.0800000000000001E-2,1.0295891084449909,11,11.780774721229246,null,1,{"$f":"+PRODUCT(D242:D251)","v":1.3385647904909661},{"$f":"+PRODUCT(D243:D251)","v":1.3000961058267482},{"$f":"+PRODUCT(D244:D251)","v":1.2627329632403643},{"$f":"+PRODUCT(D245:D251)","v":1.226443590829642},{"$f":"+PRODUCT(D246:D251)","v":1.1911971297772996},{"$f":"+PRODUCT(D247:D251)","v":1.1569636081100243},{"$f":"+PRODUCT(D248:D251)","v":1.1237139152116806},{"$f":"+PRODUCT(D249:D251)","v":1.0914197770689789},{"$f":"+PRODUCT(D250:D251)","v":1.060053732228551},{"$f":"+PRODUCT(D251:D251)","v":1.0295891084449909}]
[2034,{"$f":"+B219","v":6.1300452985096551E-2},3.0800000000000001E-2,1.0295891084449909,12,13.158946450466697,null,1,{"$f":"+PRODUCT(D242:D252)","v":1.3781717292374498},{"$f":"+PRODUCT(D243:D252)","v":1.3385647904909661},{"$f":"+PRODUCT(D244:D252)","v":1.3000961058267482},{"$f":"+PRODUCT(D245:D252)","v":1.2627329632403643},{"$f":"+PRODUCT(D246:D252)","v":1.226443590829642},{"$f":"+PRODUCT(D247:D252)","v":1.1911971297772996},{"$f":"+PRODUCT(D248:D252)","v":1.1569636081100243},{"$f":"+PRODUCT(D249:D252)","v":1.1237139152116806},{"$f":"+PRODUCT(D250:D252)","v":1.0914197770689789},{"$f":"+PRODUCT(D251:D252)","v":1.060053732228551},{"$f":"+PRODUCT(D252:D252)","v":1.0295891084449909}]
[2035,{"$f":"+B220","v":6.1300452985096551E-2},3.0800000000000001E-2,1.0295891084449909,13,14.577897052456374,null,1,{"$f":"+PRODUCT(D242:D253)","v":1.4189506019896774},{"$f":"+PRODUCT(D243:D253)","v":1.3781717292374498},{"$f":"+PRODUCT(D244:D253)","v":1.3385647904909661},{"$f":"+PRODUCT(D245:D253)","v":1.3000961058267482},{"$f":"+PRODUCT(D246:D253)","v":1.2627329632403643},{"$f":"+PRODUCT(D247:D253)","v":1.226443590829642},{"$f":"+PRODUCT(D248:D253)","v":1.1911971297772996},{"$f":"+PRODUCT(D249:D253)","v":1.1569636081100243},{"$f":"+PRODUCT(D250:D253)","v":1.1237139152116806},{"$f":"+PRODUCT(D251:D253)","v":1.0914197770689789},{"$f":"+PRODUCT(D252:D253)","v":1.060053732228551},{"$f":"+PRODUCT(D253:D253)","v":1.0295891084449909}]
[2036,{"$f":"+B221","v":6.1300452985096551E-2},3.0800000000000001E-2,1.0295891084449909,14,16.038833137686407,null,1,{"$f":"+PRODUCT(D242:D254)","v":1.460936085230035},{"$f":"+PRODUCT(D243:D254)","v":1.4189506019896774},{"$f":"+PRODUCT(D244:D254)","v":1.3781717292374498},{"$f":"+PRODUCT(D245:D254)","v":1.3385647904909661},{"$f":"+PRODUCT(D246:D254)","v":1.3000961058267482},{"$f":"+PRODUCT(D247:D254)","v":1.2627329632403643},{"$f":"+PRODUCT(D248:D254)","v":1.226443590829642},{"$f":"+PRODUCT(D249:D254)","v":1.1911971297772996},{"$f":"+PRODUCT(D250:D254)","v":1.1569636081100243},{"$f":"+PRODUCT(D251:D254)","v":1.1237139152116806},{"$f":"+PRODUCT(D252:D254)","v":1.0914197770689789},{"$f":"+PRODUCT(D253:D254)","v":1.060053732228551},{"$f":"+PRODUCT(D254:D254)","v":1.0295891084449909}]
[2037,{"$f":"+B222","v":6.1300452985096551E-2},3.0800000000000001E-2,1.0295891084449909,15,17.542997019173512,null,1,{"$f":"+PRODUCT(D242:D255)","v":1.504163881487107},{"$f":"+PRODUCT(D243:D255)","v":1.460936085230035},{"$f":"+PRODUCT(D244:D255)","v":1.4189506019896774},{"$f":"+PRODUCT(D245:D255)","v":1.3781717292374498},{"$f":"+PRODUCT(D246:D255)","v":1.3385647904909661},{"$f":"+PRODUCT(D247:D255)","v":1.3000961058267482},{"$f":"+PRODUCT(D248:D255)","v":1.2627329632403643},{"$f":"+PRODUCT(D249:D255)","v":1.226443590829642},{"$f":"+PRODUCT(D250:D255)","v":1.1911971297772996},{"$f":"+PRODUCT(D251:D255)","v":1.1569636081100243},{"$f":"+PRODUCT(D252:D255)","v":1.1237139152116806},{"$f":"+PRODUCT(D253:D255)","v":1.0914197770689789},{"$f":"+PRODUCT(D254:D255)","v":1.060053732228551},{"$f":"+PRODUCT(D255:D255)","v":1.0295891084449909}]
[2038,{"$f":"+B223","v":6.1300452985096551E-2},3.0800000000000001E-2,1.0295891084449909,16,19.09166776886898,null,1,{"$f":"+PRODUCT(D242:D256)","v":1.5486707496954675},{"$f":"+PRODUCT(D243:D256)","v":1.504163881487107},{"$f":"+PRODUCT(D244:D256)","v":1.460936085230035},{"$f":"+PRODUCT(D245:D256)","v":1.4189506019896774},{"$f":"+PRODUCT(D246:D256)","v":1.3781717292374498},{"$f":"+PRODUCT(D247:D256)","v":1.3385647904909661},{"$f":"+PRODUCT(D248:D256)","v":1.3000961058267482},{"$f":"+PRODUCT(D249:D256)","v":1.2627329632403643},{"$f":"+PRODUCT(D250:D256)","v":1.226443590829642},{"$f":"+PRODUCT(D251:D256)","v":1.1911971297772996},{"$f":"+PRODUCT(D252:D256)","v":1.1569636081100243},{"$f":"+PRODUCT(D253:D256)","v":1.1237139152116806},{"$f":"+PRODUCT(D254:D256)","v":1.0914197770689789},{"$f":"+PRODUCT(D255:D256)","v":1.060053732228551},{"$f":"+PRODUCT(D256:D256)","v":1.0295891084449909}]
[2039,{"$f":"+B224","v":6.1300452985096551E-2},3.0800000000000001E-2,1.0295891084449909,17,20.686162305322775,null,1,{"$f":"+PRODUCT(D242:D257)","v":1.5944945364537919},{"$f":"+PRODUCT(D243:D257)","v":1.5486707496954675},{"$f":"+PRODUCT(D244:D257)","v":1.504163881487107},{"$f":"+PRODUCT(D245:D257)","v":1.460936085230035},{"$f":"+PRODUCT(D246:D257)","v":1.4189506019896774},{"$f":"+PRODUCT(D247:D257)","v":1.3781717292374498},{"$f":"+PRODUCT(D248:D257)","v":1.3385647904909661},{"$f":"+PRODUCT(D249:D257)","v":1.3000961058267482},{"$f":"+PRODUCT(D250:D257)","v":1.2627329632403643},{"$f":"+PRODUCT(D251:D257)","v":1.226443590829642},{"$f":"+PRODUCT(D252:D257)","v":1.1911971297772996},{"$f":"+PRODUCT(D253:D257)","v":1.1569636081100243},{"$f":"+PRODUCT(D254:D257)","v":1.1237139152116806},{"$f":"+PRODUCT(D255:D257)","v":1.0914197770689789},{"$f":"+PRODUCT(D256:D257)","v":1.060053732228551},{"$f":"+PRODUCT(D257:D257)","v":1.0295891084449909}]
[2040,{"$f":"+B225","v":6.1300452985096551E-2},3.0800000000000001E-2,1.0295891084449909,18,22.327836513530645,null,1,{"$f":"+PRODUCT(D242:D258)","v":1.6416742082078686},{"$f":"+PRODUCT(D243:D258)","v":1.5944945364537919},{"$f":"+PRODUCT(D244:D258)","v":1.5486707496954675},{"$f":"+PRODUCT(D245:D258)","v":1.504163881487107},{"$f":"+PRODUCT(D246:D258)","v":1.460936085230035},{"$f":"+PRODUCT(D247:D258)","v":1.4189506019896774},{"$f":"+PRODUCT(D248:D258)","v":1.3781717292374498},{"$f":"+PRODUCT(D249:D258)","v":1.3385647904909661},{"$f":"+PRODUCT(D250:D258)","v":1.3000961058267482},{"$f":"+PRODUCT(D251:D258)","v":1.2627329632403643},{"$f":"+PRODUCT(D252:D258)","v":1.226443590829642},{"$f":"+PRODUCT(D253:D258)","v":1.1911971297772996},{"$f":"+PRODUCT(D254:D258)","v":1.1569636081100243},{"$f":"+PRODUCT(D255:D258)","v":1.1237139152116806},{"$f":"+PRODUCT(D256:D258)","v":1.0914197770689789},{"$f":"+PRODUCT(D257:D258)","v":1.060053732228551},{"$f":"+PRODUCT(D258:D258)","v":1.0295891084449909}]
[2041,{"$f":"+B226","v":6.1300452985096551E-2},3.0800000000000001E-2,1.0295891084449909,19,24.01808639791652,null,1,{"$f":"+PRODUCT(D242:D259)","v":1.6902498843858758},{"$f":"+PRODUCT(D243:D259)","v":1.6416742082078686},{"$f":"+PRODUCT(D244:D259)","v":1.5944945364537919},{"$f":"+PRODUCT(D245:D259)","v":1.5486707496954675},{"$f":"+PRODUCT(D246:D259)","v":1.504163881487107},{"$f":"+PRODUCT(D247:D259)","v":1.460936085230035},{"$f":"+PRODUCT(D248:D259)","v":1.4189506019896774},{"$f":"+PRODUCT(D249:D259)","v":1.3781717292374498},{"$f":"+PRODUCT(D250:D259)","v":1.3385647904909661},{"$f":"+PRODUCT(D251:D259)","v":1.3000961058267482},{"$f":"+PRODUCT(D252:D259)","v":1.2627329632403643},{"$f":"+PRODUCT(D253:D259)","v":1.226443590829642},{"$f":"+PRODUCT(D254:D259)","v":1.1911971297772996},{"$f":"+PRODUCT(D255:D259)","v":1.1569636081100243},{"$f":"+PRODUCT(D256:D259)","v":1.1237139152116806},{"$f":"+PRODUCT(D257:D259)","v":1.0914197770689789},{"$f":"+PRODUCT(D258:D259)","v":1.060053732228551},{"$f":"+PRODUCT(D259:D259)","v":1.0295891084449909}]
[2042,{"$f":"+B227","v":6.1300452985096551E-2},3.0800000000000001E-2,1.0295891084449909,20,25.758349269430624,null,1,{"$f":"+PRODUCT(D242:D260)","v":1.7402628715141026},{"$f":"+PRODUCT(D243:D260)","v":1.6902498843858758},{"$f":"+PRODUCT(D244:D260)","v":1.6416742082078686},{"$f":"+PRODUCT(D245:D260)","v":1.5944945364537919},{"$f":"+PRODUCT(D246:D260)","v":1.5486707496954675},{"$f":"+PRODUCT(D247:D260)","v":1.504163881487107},{"$f":"+PRODUCT(D248:D260)","v":1.460936085230035},{"$f":"+PRODUCT(D249:D260)","v":1.4189506019896774},{"$f":"+PRODUCT(D250:D260)","v":1.3781717292374498},{"$f":"+PRODUCT(D251:D260)","v":1.3385647904909661},{"$f":"+PRODUCT(D252:D260)","v":1.3000961058267482},{"$f":"+PRODUCT(D253:D260)","v":1.2627329632403643},{"$f":"+PRODUCT(D254:D260)","v":1.226443590829642},{"$f":"+PRODUCT(D255:D260)","v":1.1911971297772996},{"$f":"+PRODUCT(D256:D260)","v":1.1569636081100243},{"$f":"+PRODUCT(D257:D260)","v":1.1237139152116806},{"$f":"+PRODUCT(D258:D260)","v":1.0914197770689789},{"$f":"+PRODUCT(D259:D260)","v":1.060053732228551},{"$f":"+PRODUCT(D260:D260)","v":1.0295891084449909}]
[2043,{"$f":"+B228","v":6.1300452985096551E-2},3.0800000000000001E-2,1.0295891084449909,21,27.550104967772747,null,1,{"$f":"+PRODUCT(D242:D261)","v":1.7917556983421246},{"$f":"+PRODUCT(D243:D261)","v":1.7402628715141026},{"$f":"+PRODUCT(D244:D261)","v":1.6902498843858758},{"$f":"+PRODUCT(D245:D261)","v":1.6416742082078686},{"$f":"+PRODUCT(D246:D261)","v":1.5944945364537919},{"$f":"+PRODUCT(D247:D261)","v":1.5486707496954675},{"$f":"+PRODUCT(D248:D261)","v":1.504163881487107},{"$f":"+PRODUCT(D249:D261)","v":1.460936085230035},{"$f":"+PRODUCT(D250:D261)","v":1.4189506019896774},{"$f":"+PRODUCT(D251:D261)","v":1.3781717292374498},{"$f":"+PRODUCT(D252:D261)","v":1.3385647904909661},{"$f":"+PRODUCT(D253:D261)","v":1.3000961058267482},{"$f":"+PRODUCT(D254:D261)","v":1.2627329632403643},{"$f":"+PRODUCT(D255:D261)","v":1.226443590829642},{"$f":"+PRODUCT(D256:D261)","v":1.1911971297772996},{"$f":"+PRODUCT(D257:D261)","v":1.1569636081100243},{"$f":"+PRODUCT(D258:D261)","v":1.1237139152116806},{"$f":"+PRODUCT(D259:D261)","v":1.0914197770689789},{"$f":"+PRODUCT(D260:D261)","v":1.060053732228551},{"$f":"+PRODUCT(D261:D261)","v":1.0295891084449909}]
[2044,{"$f":"+B229","v":6.1300452985096551E-2},3.0800000000000001E-2,1.0295891084449909,22,29.394877119780048,null,1,{"$f":"+PRODUCT(D242:D262)","v":1.8447721520072999},{"$f":"+PRODUCT(D243:D262)","v":1.7917556983421246},{"$f":"+PRODUCT(D244:D262)","v":1.7402628715141026},{"$f":"+PRODUCT(D245:D262)","v":1.6902498843858758},{"$f":"+PRODUCT(D246:D262)","v":1.6416742082078686},{"$f":"+PRODUCT(D247:D262)","v":1.5944945364537919},{"$f":"+PRODUCT(D248:D262)","v":1.5486707496954675},{"$f":"+PRODUCT(D249:D262)","v":1.504163881487107},{"$f":"+PRODUCT(D250:D262)","v":1.460936085230035},{"$f":"+PRODUCT(D251:D262)","v":1.4189506019896774},{"$f":"+PRODUCT(D252:D262)","v":1.3781717292374498},{"$f":"+PRODUCT(D253:D262)","v":1.3385647904909661},{"$f":"+PRODUCT(D254:D262)","v":1.3000961058267482},{"$f":"+PRODUCT(D255:D262)","v":1.2627329632403643},{"$f":"+PRODUCT(D256:D262)","v":1.226443590829642},{"$f":"+PRODUCT(D257:D262)","v":1.1911971297772996},{"$f":"+PRODUCT(D258:D262)","v":1.1569636081100243},{"$f":"+PRODUCT(D259:D262)","v":1.1237139152116806},{"$f":"+PRODUCT(D260:D262)","v":1.0914197770689789},{"$f":"+PRODUCT(D261:D262)","v":1.060053732228551},{"$f":"+PRODUCT(D262:D262)","v":1.0295891084449909}]
[2045,{"$f":"+B230","v":6.1300452985096551E-2},3.0800000000000001E-2,1.0295891084449909,23,31.294234435049397,null,1,{"$f":"+PRODUCT(D242:D263)","v":1.899357315269343},{"$f":"+PRODUCT(D243:D263)","v":1.8447721520072999},{"$f":"+PRODUCT(D244:D263)","v":1.7917556983421246},{"$f":"+PRODUCT(D245:D263)","v":1.7402628715141026},{"$f":"+PRODUCT(D246:D263)","v":1.6902498843858758},{"$f":"+PRODUCT(D247:D263)","v":1.6416742082078686},{"$f":"+PRODUCT(D248:D263)","v":1.5944945364537919},{"$f":"+PRODUCT(D249:D263)","v":1.5486707496954675},{"$f":"+PRODUCT(D250:D263)","v":1.504163881487107},{"$f":"+PRODUCT(D251:D263)","v":1.460936085230035},{"$f":"+PRODUCT(D252:D263)","v":1.4189506019896774},{"$f":"+PRODUCT(D253:D263)","v":1.3781717292374498},{"$f":"+PRODUCT(D254:D263)","v":1.3385647904909661},{"$f":"+PRODUCT(D255:D263)","v":1.3000961058267482},{"$f":"+PRODUCT(D256:D263)","v":1.2627329632403643},{"$f":"+PRODUCT(D257:D263)","v":1.226443590829642},{"$f":"+PRODUCT(D258:D263)","v":1.1911971297772996},{"$f":"+PRODUCT(D259:D263)","v":1.1569636081100243},{"$f":"+PRODUCT(D260:D263)","v":1.1237139152116806},{"$f":"+PRODUCT(D261:D263)","v":1.0914197770689789},{"$f":"+PRODUCT(D262:D263)","v":1.060053732228551},{"$f":"+PRODUCT(D263:D263)","v":1.0295891084449909}]
[2046,{"$f":"+B231","v":0},0,1,24,32.294234435049397,null,1,{"$f":"+PRODUCT(D242:D264)","v":1.899357315269343},{"$f":"+PRODUCT(D243:D264)","v":1.8447721520072999},{"$f":"+PRODUCT(D244:D264)","v":1.7917556983421246},{"$f":"+PRODUCT(D245:D264)","v":1.7402628715141026},{"$f":"+PRODUCT(D246:D264)","v":1.6902498843858758},{"$f":"+PRODUCT(D247:D264)","v":1.6416742082078686},{"$f":"+PRODUCT(D248:D264)","v":1.5944945364537919},{"$f":"+PRODUCT(D249:D264)","v":1.5486707496954675},{"$f":"+PRODUCT(D250:D264)","v":1.504163881487107},{"$f":"+PRODUCT(D251:D264)","v":1.460936085230035},{"$f":"+PRODUCT(D252:D264)","v":1.4189506019896774},{"$f":"+PRODUCT(D253:D264)","v":1.3781717292374498},{"$f":"+PRODUCT(D254:D264)","v":1.3385647904909661},{"$f":"+PRODUCT(D255:D264)","v":1.3000961058267482},{"$f":"+PRODUCT(D256:D264)","v":1.2627329632403643},{"$f":"+PRODUCT(D257:D264)","v":1.226443590829642},{"$f":"+PRODUCT(D258:D264)","v":1.1911971297772996},{"$f":"+PRODUCT(D259:D264)","v":1.1569636081100243},{"$f":"+PRODUCT(D260:D264)","v":1.1237139152116806},{"$f":"+PRODUCT(D261:D264)","v":1.0914197770689789},{"$f":"+PRODUCT(D262:D264)","v":1.060053732228551},{"$f":"+PRODUCT(D263:D264)","v":1.0295891084449909},{"$f":"+PRODUCT(D264:D264)","v":1}]
[2047,{"$f":"+B232","v":0},0,1,25,33.294234435049397,null,1,{"$f":"+PRODUCT(D242:D265)","v":1.899357315269343},{"$f":"+PRODUCT(D243:D265)","v":1.8447721520072999},{"$f":"+PRODUCT(D244:D265)","v":1.7917556983421246},{"$f":"+PRODUCT(D245:D265)","v":1.7402628715141026},{"$f":"+PRODUCT(D246:D265)","v":1.6902498843858758},{"$f":"+PRODUCT(D247:D265)","v":1.6416742082078686},{"$f":"+PRODUCT(D248:D265)","v":1.5944945364537919},{"$f":"+PRODUCT(D249:D265)","v":1.5486707496954675},{"$f":"+PRODUCT(D250:D265)","v":1.504163881487107},{"$f":"+PRODUCT(D251:D265)","v":1.460936085230035},{"$f":"+PRODUCT(D252:D265)","v":1.4189506019896774},{"$f":"+PRODUCT(D253:D265)","v":1.3781717292374498},{"$f":"+PRODUCT(D254:D265)","v":1.3385647904909661},{"$f":"+PRODUCT(D255:D265)","v":1.3000961058267482},{"$f":"+PRODUCT(D256:D265)","v":1.2627329632403643},{"$f":"+PRODUCT(D257:D265)","v":1.226443590829642},{"$f":"+PRODUCT(D258:D265)","v":1.1911971297772996},{"$f":"+PRODUCT(D259:D265)","v":1.1569636081100243},{"$f":"+PRODUCT(D260:D265)","v":1.1237139152116806},{"$f":"+PRODUCT(D261:D265)","v":1.0914197770689789},{"$f":"+PRODUCT(D262:D265)","v":1.060053732228551},{"$f":"+PRODUCT(D263:D265)","v":1.0295891084449909},{"$f":"+PRODUCT(D264:D265)","v":1},{"$f":"+PRODUCT(D265:D265)","v":1}]
[2048,{"$f":"+B233","v":0},0,1,26,34.294234435049397,null,1,{"$f":"+PRODUCT(D242:D266)","v":1.899357315269343},{"$f":"+PRODUCT(D243:D266)","v":1.8447721520072999},{"$f":"+PRODUCT(D244:D266)","v":1.7917556983421246},{"$f":"+PRODUCT(D245:D266)","v":1.7402628715141026},{"$f":"+PRODUCT(D246:D266)","v":1.6902498843858758},{"$f":"+PRODUCT(D247:D266)","v":1.6416742082078686},{"$f":"+PRODUCT(D248:D266)","v":1.5944945364537919},{"$f":"+PRODUCT(D249:D266)","v":1.5486707496954675},{"$f":"+PRODUCT(D250:D266)","v":1.504163881487107},{"$f":"+PRODUCT(D251:D266)","v":1.460936085230035},{"$f":"+PRODUCT(D252:D266)","v":1.4189506019896774},{"$f":"+PRODUCT(D253:D266)","v":1.3781717292374498},{"$f":"+PRODUCT(D254:D266)","v":1.3385647904909661},{"$f":"+PRODUCT(D255:D266)","v":1.3000961058267482},{"$f":"+PRODUCT(D256:D266)","v":1.2627329632403643},{"$f":"+PRODUCT(D257:D266)","v":1.226443590829642},{"$f":"+PRODUCT(D258:D266)","v":1.1911971297772996},{"$f":"+PRODUCT(D259:D266)","v":1.1569636081100243},{"$f":"+PRODUCT(D260:D266)","v":1.1237139152116806},{"$f":"+PRODUCT(D261:D266)","v":1.0914197770689789},{"$f":"+PRODUCT(D262:D266)","v":1.060053732228551},{"$f":"+PRODUCT(D263:D266)","v":1.0295891084449909},{"$f":"+PRODUCT(D264:D266)","v":1},{"$f":"+PRODUCT(D265:D266)","v":1},{"$f":"+PRODUCT(D266:D266)","v":1}]
[2049,{"$f":"+B234","v":0},0,1,27,35.294234435049397,null,1,{"$f":"+PRODUCT(D242:D267)","v":1.899357315269343},{"$f":"+PRODUCT(D243:D267)","v":1.8447721520072999},{"$f":"+PRODUCT(D244:D267)","v":1.7917556983421246},{"$f":"+PRODUCT(D245:D267)","v":1.7402628715141026},{"$f":"+PRODUCT(D246:D267)","v":1.6902498843858758},{"$f":"+PRODUCT(D247:D267)","v":1.6416742082078686},{"$f":"+PRODUCT(D248:D267)","v":1.5944945364537919},{"$f":"+PRODUCT(D249:D267)","v":1.5486707496954675},{"$f":"+PRODUCT(D250:D267)","v":1.504163881487107},{"$f":"+PRODUCT(D251:D267)","v":1.460936085230035},{"$f":"+PRODUCT(D252:D267)","v":1.4189506019896774},{"$f":"+PRODUCT(D253:D267)","v":1.3781717292374498},{"$f":"+PRODUCT(D254:D267)","v":1.3385647904909661},{"$f":"+PRODUCT(D255:D267)","v":1.3000961058267482},{"$f":"+PRODUCT(D256:D267)","v":1.2627329632403643},{"$f":"+PRODUCT(D257:D267)","v":1.226443590829642},{"$f":"+PRODUCT(D258:D267)","v":1.1911971297772996},{"$f":"+PRODUCT(D259:D267)","v":1.1569636081100243},{"$f":"+PRODUCT(D260:D267)","v":1.1237139152116806},{"$f":"+PRODUCT(D261:D267)","v":1.0914197770689789},{"$f":"+PRODUCT(D262:D267)","v":1.060053732228551},{"$f":"+PRODUCT(D263:D267)","v":1.0295891084449909},{"$f":"+PRODUCT(D264:D267)","v":1},{"$f":"+PRODUCT(D265:D267)","v":1},{"$f":"+PRODUCT(D266:D267)","v":1},{"$f":"+PRODUCT(D267:D267)","v":1}]
[2050,{"$f":"+B235","v":0},0,1,28,36.294234435049397,null,1,{"$f":"+PRODUCT(D242:D268)","v":1.899357315269343},{"$f":"+PRODUCT(D243:D268)","v":1.8447721520072999},{"$f":"+PRODUCT(D244:D268)","v":1.7917556983421246},{"$f":"+PRODUCT(D245:D268)","v":1.7402628715141026},{"$f":"+PRODUCT(D246:D268)","v":1.6902498843858758},{"$f":"+PRODUCT(D247:D268)","v":1.6416742082078686},{"$f":"+PRODUCT(D248:D268)","v":1.5944945364537919},{"$f":"+PRODUCT(D249:D268)","v":1.5486707496954675},{"$f":"+PRODUCT(D250:D268)","v":1.504163881487107},{"$f":"+PRODUCT(D251:D268)","v":1.460936085230035},{"$f":"+PRODUCT(D252:D268)","v":1.4189506019896774},{"$f":"+PRODUCT(D253:D268)","v":1.3781717292374498},{"$f":"+PRODUCT(D254:D268)","v":1.3385647904909661},{"$f":"+PRODUCT(D255:D268)","v":1.3000961058267482},{"$f":"+PRODUCT(D256:D268)","v":1.2627329632403643},{"$f":"+PRODUCT(D257:D268)","v":1.226443590829642},{"$f":"+PRODUCT(D258:D268)","v":1.1911971297772996},{"$f":"+PRODUCT(D259:D268)","v":1.1569636081100243},{"$f":"+PRODUCT(D260:D268)","v":1.1237139152116806},{"$f":"+PRODUCT(D261:D268)","v":1.0914197770689789},{"$f":"+PRODUCT(D262:D268)","v":1.060053732228551},{"$f":"+PRODUCT(D263:D268)","v":1.0295891084449909},{"$f":"+PRODUCT(D264:D268)","v":1},{"$f":"+PRODUCT(D265:D268)","v":1},{"$f":"+PRODUCT(D266:D268)","v":1},{"$f":"+PRODUCT(D267:D268)","v":1},{"$f":"+PRODUCT(D268:D268)","v":1}]
[2051,{"$f":"+B236","v":0},0,1,29,37.294234435049397,null,1,{"$f":"+PRODUCT(D242:D269)","v":1.899357315269343},{"$f":"+PRODUCT(D243:D269)","v":1.8447721520072999},{"$f":"+PRODUCT(D244:D269)","v":1.7917556983421246},{"$f":"+PRODUCT(D245:D269)","v":1.7402628715141026},{"$f":"+PRODUCT(D246:D269)","v":1.6902498843858758},{"$f":"+PRODUCT(D247:D269)","v":1.6416742082078686},{"$f":"+PRODUCT(D248:D269)","v":1.5944945364537919},{"$f":"+PRODUCT(D249:D269)","v":1.5486707496954675},{"$f":"+PRODUCT(D250:D269)","v":1.504163881487107},{"$f":"+PRODUCT(D251:D269)","v":1.460936085230035},{"$f":"+PRODUCT(D252:D269)","v":1.4189506019896774},{"$f":"+PRODUCT(D253:D269)","v":1.3781717292374498},{"$f":"+PRODUCT(D254:D269)","v":1.3385647904909661},{"$f":"+PRODUCT(D255:D269)","v":1.3000961058267482},{"$f":"+PRODUCT(D256:D269)","v":1.2627329632403643},{"$f":"+PRODUCT(D257:D269)","v":1.226443590829642},{"$f":"+PRODUCT(D258:D269)","v":1.1911971297772996},{"$f":"+PRODUCT(D259:D269)","v":1.1569636081100243},{"$f":"+PRODUCT(D260:D269)","v":1.1237139152116806},{"$f":"+PRODUCT(D261:D269)","v":1.0914197770689789},{"$f":"+PRODUCT(D262:D269)","v":1.060053732228551},{"$f":"+PRODUCT(D263:D269)","v":1.0295891084449909},{"$f":"+PRODUCT(D264:D269)","v":1},{"$f":"+PRODUCT(D265:D269)","v":1},{"$f":"+PRODUCT(D266:D269)","v":1},{"$f":"+PRODUCT(D267:D269)","v":1},{"$f":"+PRODUCT(D268:D269)","v":1},{"$f":"+PRODUCT(D269:D269)","v":1}]
[2052,{"$f":"+B237","v":0},0,1,30,38.294234435049397,null,1,{"$f":"+PRODUCT(D242:D270)","v":1.899357315269343},{"$f":"+PRODUCT(D243:D270)","v":1.8447721520072999},{"$f":"+PRODUCT(D244:D270)","v":1.7917556983421246},{"$f":"+PRODUCT(D245:D270)","v":1.7402628715141026},{"$f":"+PRODUCT(D246:D270)","v":1.6902498843858758},{"$f":"+PRODUCT(D247:D270)","v":1.6416742082078686},{"$f":"+PRODUCT(D248:D270)","v":1.5944945364537919},{"$f":"+PRODUCT(D249:D270)","v":1.5486707496954675},{"$f":"+PRODUCT(D250:D270)","v":1.504163881487107},{"$f":"+PRODUCT(D251:D270)","v":1.460936085230035},{"$f":"+PRODUCT(D252:D270)","v":1.4189506019896774},{"$f":"+PRODUCT(D253:D270)","v":1.3781717292374498},{"$f":"+PRODUCT(D254:D270)","v":1.3385647904909661},{"$f":"+PRODUCT(D255:D270)","v":1.3000961058267482},{"$f":"+PRODUCT(D256:D270)","v":1.2627329632403643},{"$f":"+PRODUCT(D257:D270)","v":1.226443590829642},{"$f":"+PRODUCT(D258:D270)","v":1.1911971297772996},{"$f":"+PRODUCT(D259:D270)","v":1.1569636081100243},{"$f":"+PRODUCT(D260:D270)","v":1.1237139152116806},{"$f":"+PRODUCT(D261:D270)","v":1.0914197770689789},{"$f":"+PRODUCT(D262:D270)","v":1.060053732228551},{"$f":"+PRODUCT(D263:D270)","v":1.0295891084449909},{"$f":"+PRODUCT(D264:D270)","v":1},{"$f":"+PRODUCT(D265:D270)","v":1},{"$f":"+PRODUCT(D266:D270)","v":1},{"$f":"+PRODUCT(D267:D270)","v":1},{"$f":"+PRODUCT(D268:D270)","v":1},{"$f":"+PRODUCT(D269:D270)","v":1},{"$f":"+PRODUCT(D270:D270)","v":1}]
[]
[]
[" Fecha(Anual) ","r_t","c_y_t","1+r_t / 1+c_y_t","t","Multiplicatoria inversa",0,{"$f":"+G273+1","v":1},{"$f":"+H273+1","v":2},{"$f":"+I273+1","v":3},{"$f":"+J273+1","v":4},{"$f":"+K273+1","v":5},{"$f":"+L273+1","v":6},{"$f":"+M273+1","v":7},{"$f":"+N273+1","v":8},{"$f":"+O273+1","v":9},{"$f":"+P273+1","v":10},{"$f":"+Q273+1","v":11},{"$f":"+R273+1","v":12},{"$f":"+S273+1","v":13},{"$f":"+T273+1","v":14},{"$f":"+U273+1","v":15},{"$f":"+V273+1","v":16},{"$f":"+W273+1","v":17},{"$f":"+X273+1","v":18},{"$f":"+Y273+1","v":19},{"$f":"+Z273+1","v":20},{"$f":"+AA273+1","v":21},{"$f":"+AB273+1","v":22},{"$f":"+AC273+1","v":23},{"$f":"+AD273+1","v":24},{"$f":"+AE273+1","v":25},{"$f":"+AF273+1","v":26},{"$f":"+AG273+1","v":27},{"$f":"+AH273+1","v":28},{"$f":"+AI273+1","v":29},{"$f":"+AJ273+1","v":30}]
[{"$f":"+A241","v":2023},null,null,1,0]
[{"$f":"+A274+1","v":2024},{"$f":"+B242","v":6.1300452985096551E-2},{"$f":"+C242","v":3.0800000000000001E-2},{"$f":"(1+B275)/(1+C275)","v":1.0295891084449909},1,null,null,1]
[{"$f":"+A275+1","v":2025},{"$f":"+B243","v":6.1300452985096551E-2},3.0800000000000001E-2,{"$f":"(1+B276)/(1+C276)","v":1.0295891084449909},{"$f":"+E275+1","v":2},{"$f":"+SUM(I276:AK276)","v":1.0295891084449909},null,1,{"$f":"+PRODUCT(D276:D276)","v":1.0295891084449909}]
[2026,{"$f":"+B244","v":6.1300452985096551E-2},3.0800000000000001E-2,1.0295891084449909,{"$f":"+E276+1","v":3},{"$f":"+SUM(I277:AK277)","v":2.0896428406735419},null,1,{"$f":"+PRODUCT(D276:D277)","v":1.060053732228551},{"$f":"+PRODUCT(D277:D277)","v":1.0295891084449909}]
[2027,{"$f":"+B245","v":6.1300452985096551E-2},3.0800000000000001E-2,1.0295891084449909,4,3.1810626177425205,null,1,{"$f":"+PRODUCT(D276:D278)","v":1.0914197770689789},{"$f":"+PRODUCT(D277:D278)","v":1.060053732228551},{"$f":"+PRODUCT(D278:D278)","v":1.0295891084449909},{"$f":"+IF(L273>E278,\"\",1)","v":""}]
[2028,{"$f":"+B246","v":6.1300452985096551E-2},3.0800000000000001E-2,1.0295891084449909,5,4.3047765329542012,null,1,{"$f":"+PRODUCT(D276:D279)","v":1.1237139152116806},{"$f":"+PRODUCT(D277:D279)","v":1.0914197770689789},{"$f":"+PRODUCT(D278:D279)","v":1.060053732228551},{"$f":"+PRODUCT(D279:D279)","v":1.0295891084449909}]
[2029,{"$f":"+B247","v":6.1300452985096551E-2},3.0800000000000001E-2,1.0295891084449909,6,5.4617401410642259,null,1,{"$f":"+PRODUCT(D276:D280)","v":1.1569636081100243},{"$f":"+PRODUCT(D277:D280)","v":1.1237139152116806},{"$f":"+PRODUCT(D278:D280)","v":1.0914197770689789},{"$f":"+PRODUCT(D279:D280)","v":1.060053732228551},{"$f":"+PRODUCT(D280:D280)","v":1.0295891084449909}]
[2030,{"$f":"+B248","v":6.1300452985096551E-2},3.0800000000000001E-2,1.0295891084449909,7,6.6529372708415249,null,1,{"$f":"+PRODUCT(D276:D281)","v":1.1911971297772996},{"$f":"+PRODUCT(D277:D281)","v":1.1569636081100243},{"$f":"+PRODUCT(D278:D281)","v":1.1237139152116806},{"$f":"+PRODUCT(D279:D281)","v":1.0914197770689789},{"$f":"+PRODUCT(D280:D281)","v":1.060053732228551},{"$f":"+PRODUCT(D281:D281)","v":1.0295891084449909}]
[2031,{"$f":"+B249","v":6.1300452985096551E-2},3.0800000000000001E-2,1.0295891084449909,8,7.8793808616711676,null,1,{"$f":"+PRODUCT(D276:D282)","v":1.226443590829642},{"$f":"+PRODUCT(D277:D282)","v":1.1911971297772996},{"$f":"+PRODUCT(D278:D282)","v":1.1569636081100243},{"$f":"+PRODUCT(D279:D282)","v":1.1237139152116806},{"$f":"+PRODUCT(D280:D282)","v":1.0914197770689789},{"$f":"+PRODUCT(D281:D282)","v":1.060053732228551},{"$f":"+PRODUCT(D282:D282)","v":1.0295891084449909}]
[2032,{"$f":"+B250","v":6.1300452985096551E-2},3.0800000000000001E-2,1.0295891084449909,9,9.142113824911533,null,1,{"$f":"+PRODUCT(D276:D283)","v":1.2627329632403643},{"$f":"+PRODUCT(D277:D283)","v":1.226443590829642},{"$f":"+PRODUCT(D278:D283)","v":1.1911971297772996},{"$f":"+PRODUCT(D279:D283)","v":1.1569636081100243},{"$f":"+PRODUCT(D280:D283)","v":1.1237139152116806},{"$f":"+PRODUCT(D281:D283)","v":1.0914197770689789},{"$f":"+PRODUCT(D282:D283)","v":1.060053732228551},{"$f":"+PRODUCT(D283:D283)","v":1.0295891084449909}]
[2033,{"$f":"+B251","v":6.1300452985096551E-2},3.0800000000000001E-2,1.0295891084449909,10,10.442209930738281,null,1,{"$f":"+PRODUCT(D276:D284)","v":1.3000961058267482},{"$f":"+PRODUCT(D277:D284)","v":1.2627329632403643},{"$f":"+PRODUCT(D278:D284)","v":1.226443590829642},{"$f":"+PRODUCT(D279:D284)","v":1.1911971297772996},{"$f":"+PRODUCT(D280:D284)","v":1.1569636081100243},{"$f":"+PRODUCT(D281:D284)","v":1.1237139152116806},{"$f":"+PRODUCT(D282:D284)","v":1.0914197770689789},{"$f":"+PRODUCT(D283:D284)","v":1.060053732228551},{"$f":"+PRODUCT(D284:D284)","v":1.0295891084449909}]
[2034,{"$f":"+B252","v":6.1300452985096551E-2},3.0800000000000001E-2,1.0295891084449909,11,11.780774721229246,null,1,{"$f":"+PRODUCT(D276:D285)","v":1.3385647904909661},{"$f":"+PRODUCT(D277:D285)","v":1.3000961058267482},{"$f":"+PRODUCT(D278:D285)","v":1.2627329632403643},{"$f":"+PRODUCT(D279:D285)","v":1.226443590829642},{"$f":"+PRODUCT(D280:D285)","v":1.1911971297772996},{"$f":"+PRODUCT(D281:D285)","v":1.1569636081100243},{"$f":"+PRODUCT(D282:D285)","v":1.1237139152116806},{"$f":"+PRODUCT(D283:D285)","v":1.0914197770689789},{"$f":"+PRODUCT(D284:D285)","v":1.060053732228551},{"$f":"+PRODUCT(D285:D285)","v":1.0295891084449909}]
[2035,{"$f":"+B253","v":6.1300452985096551E-2},3.0800000000000001E-2,1.0295891084449909,12,13.158946450466697,null,1,{"$f":"+PRODUCT(D276:D286)","v":1.3781717292374498},{"$f":"+PRODUCT(D277:D286)","v":1.3385647904909661},{"$f":"+PRODUCT(D278:D286)","v":1.3000961058267482},{"$f":"+PRODUCT(D279:D286)","v":1.2627329632403643},{"$f":"+PRODUCT(D280:D286)","v":1.226443590829642},{"$f":"+PRODUCT(D281:D286)","v":1.1911971297772996},{"$f":"+PRODUCT(D282:D286)","v":1.1569636081100243},{"$f":"+PRODUCT(D283:D286)","v":1.1237139152116806},{"$f":"+PRODUCT(D284:D286)","v":1.0914197770689789},{"$f":"+PRODUCT(D285:D286)","v":1.060053732228551},{"$f":"+PRODUCT(D286:D286)","v":1.0295891084449909}]
[2036,{"$f":"+B254","v":6.1300452985096551E-2},3.0800000000000001E-2,1.0295891084449909,13,14.577897052456374,null,1,{"$f":"+PRODUCT(D276:D287)","v":1.4189506019896774},{"$f":"+PRODUCT(D277:D287)","v":1.3781717292374498},{"$f":"+PRODUCT(D278:D287)","v":1.3385647904909661},{"$f":"+PRODUCT(D279:D287)","v":1.3000961058267482},{"$f":"+PRODUCT(D280:D287)","v":1.2627329632403643},{"$f":"+PRODUCT(D281:D287)","v":1.226443590829642},{"$f":"+PRODUCT(D282:D287)","v":1.1911971297772996},{"$f":"+PRODUCT(D283:D287)","v":1.1569636081100243},{"$f":"+PRODUCT(D284:D287)","v":1.1237139152116806},{"$f":"+PRODUCT(D285:D287)","v":1.0914197770689789},{"$f":"+PRODUCT(D286:D287)","v":1.060053732228551},{"$f":"+PRODUCT(D287:D287)","v":1.0295891084449909}]
[2037,{"$f":"+B255","v":6.1300452985096551E-2},3.0800000000000001E-2,1.0295891084449909,14,16.038833137686407,null,1,{"$f":"+PRODUCT(D276:D288)","v":1.460936085230035},{"$f":"+PRODUCT(D277:D288)","v":1.4189506019896774},{"$f":"+PRODUCT(D278:D288)","v":1.3781717292374498},{"$f":"+PRODUCT(D279:D288)","v":1.3385647904909661},{"$f":"+PRODUCT(D280:D288)","v":1.3000961058267482},{"$f":"+PRODUCT(D281:D288)","v":1.2627329632403643},{"$f":"+PRODUCT(D282:D288)","v":1.226443590829642},{"$f":"+PRODUCT(D283:D288)","v":1.1911971297772996},{"$f":"+PRODUCT(D284:D288)","v":1.1569636081100243},{"$f":"+PRODUCT(D285:D288)","v":1.1237139152116806},{"$f":"+PRODUCT(D286:D288)","v":1.0914197770689789},{"$f":"+PRODUCT(D287:D288)","v":1.060053732228551},{"$f":"+PRODUCT(D288:D288)","v":1.0295891084449909}]
[2038,{"$f":"+B256","v":6.1300452985096551E-2},3.0800000000000001E-2,1.0295891084449909,15,17.542997019173512,null,1,{"$f":"+PRODUCT(D276:D289)","v":1.504163881487107},{"$f":"+PRODUCT(D277:D289)","v":1.460936085230035},{"$f":"+PRODUCT(D278:D289)","v":1.4189506019896774},{"$f":"+PRODUCT(D279:D289)","v":1.3781717292374498},{"$f":"+PRODUCT(D280:D289)","v":1.3385647904909661},{"$f":"+PRODUCT(D281:D289)","v":1.3000961058267482},{"$f":"+PRODUCT(D282:D289)","v":1.2627329632403643},{"$f":"+PRODUCT(D283:D289)","v":1.226443590829642},{"$f":"+PRODUCT(D284:D289)","v":1.1911971297772996},{"$f":"+PRODUCT(D285:D289)","v":1.1569636081100243},{"$f":"+PRODUCT(D286:D289)","v":1.1237139152116806},{"$f":"+PRODUCT(D287:D289)","v":1.0914197770689789},{"$f":"+PRODUCT(D288:D289)","v":1.060053732228551},{"$f":"+PRODUCT(D289:D289)","v":1.0295891084449909}]
[2039,{"$f":"+B257","v":6.1300452985096551E-2},3.0800000000000001E-2,1.0295891084449909,16,19.09166776886898,null,1,{"$f":"+PRODUCT(D276:D290)","v":1.5486707496954675},{"$f":"+PRODUCT(D277:D290)","v":1.504163881487107},{"$f":"+PRODUCT(D278:D290)","v":1.460936085230035},{"$f":"+PRODUCT(D279:D290)","v":1.4189506019896774},{"$f":"+PRODUCT(D280:D290)","v":1.3781717292374498},{"$f":"+PRODUCT(D281:D290)","v":1.3385647904909661},{"$f":"+PRODUCT(D282:D290)","v":1.3000961058267482},{"$f":"+PRODUCT(D283:D290)","v":1.2627329632403643},{"$f":"+PRODUCT(D284:D290)","v":1.226443590829642},{"$f":"+PRODUCT(D285:D290)","v":1.1911971297772996},{"$f":"+PRODUCT(D286:D290)","v":1.1569636081100243},{"$f":"+PRODUCT(D287:D290)","v":1.1237139152116806},{"$f":"+PRODUCT(D288:D290)","v":1.0914197770689789},{"$f":"+PRODUCT(D289:D290)","v":1.060053732228551},{"$f":"+PRODUCT(D290:D290)","v":1.0295891084449909}]
[2040,{"$f":"+B258","v":6.1300452985096551E-2},3.0800000000000001E-2,1.0295891084449909,17,20.686162305322775,null,1,{"$f":"+PRODUCT(D276:D291)","v":1.5944945364537919},{"$f":"+PRODUCT(D277:D291)","v":1.5486707496954675},{"$f":"+PRODUCT(D278:D291)","v":1.504163881487107},{"$f":"+PRODUCT(D279:D291)","v":1.460936085230035},{"$f":"+PRODUCT(D280:D291)","v":1.4189506019896774},{"$f":"+PRODUCT(D281:D291)","v":1.3781717292374498},{"$f":"+PRODUCT(D282:D291)","v":1.3385647904909661},{"$f":"+PRODUCT(D283:D291)","v":1.3000961058267482},{"$f":"+PRODUCT(D284:D291)","v":1.2627329632403643},{"$f":"+PRODUCT(D285:D291)","v":1.226443590829642},{"$f":"+PRODUCT(D286:D291)","v":1.1911971297772996},{"$f":"+PRODUCT(D287:D291)","v":1.1569636081100243},{"$f":"+PRODUCT(D288:D291)","v":1.1237139152116806},{"$f":"+PRODUCT(D289:D291)","v":1.0914197770689789},{"$f":"+PRODUCT(D290:D291)","v":1.060053732228551},{"$f":"+PRODUCT(D291:D291)","v":1.0295891084449909}]
[2041,{"$f":"+B259","v":6.1300452985096551E-2},3.0800000000000001E-2,1.0295891084449909,18,22.327836513530645,null,1,{"$f":"+PRODUCT(D276:D292)","v":1.6416742082078686},{"$f":"+PRODUCT(D277:D292)","v":1.5944945364537919},{"$f":"+PRODUCT(D278:D292)","v":1.5486707496954675},{"$f":"+PRODUCT(D279:D292)","v":1.504163881487107},{"$f":"+PRODUCT(D280:D292)","v":1.460936085230035},{"$f":"+PRODUCT(D281:D292)","v":1.4189506019896774},{"$f":"+PRODUCT(D282:D292)","v":1.3781717292374498},{"$f":"+PRODUCT(D283:D292)","v":1.3385647904909661},{"$f":"+PRODUCT(D284:D292)","v":1.3000961058267482},{"$f":"+PRODUCT(D285:D292)","v":1.2627329632403643},{"$f":"+PRODUCT(D286:D292)","v":1.226443590829642},{"$f":"+PRODUCT(D287:D292)","v":1.1911971297772996},{"$f":"+PRODUCT(D288:D292)","v":1.1569636081100243},{"$f":"+PRODUCT(D289:D292)","v":1.1237139152116806},{"$f":"+PRODUCT(D290:D292)","v":1.0914197770689789},{"$f":"+PRODUCT(D291:D292)","v":1.060053732228551},{"$f":"+PRODUCT(D292:D292)","v":1.0295891084449909}]
[2042,{"$f":"+B260","v":6.1300452985096551E-2},3.0800000000000001E-2,1.0295891084449909,19,24.01808639791652,null,1,{"$f":"+PRODUCT(D276:D293)","v":1.6902498843858758},{"$f":"+PRODUCT(D277:D293)","v":1.6416742082078686},{"$f":"+PRODUCT(D278:D293)","v":1.5944945364537919},{"$f":"+PRODUCT(D279:D293)","v":1.5486707496954675},{"$f":"+PRODUCT(D280:D293)","v":1.504163881487107},{"$f":"+PRODUCT(D281:D293)","v":1.460936085230035},{"$f":"+PRODUCT(D282:D293)","v":1.4189506019896774},{"$f":"+PRODUCT(D283:D293)","v":1.3781717292374498},{"$f":"+PRODUCT(D284:D293)","v":1.3385647904909661},{"$f":"+PRODUCT(D285:D293)","v":1.3000961058267482},{"$f":"+PRODUCT(D286:D293)","v":1.2627329632403643},{"$f":"+PRODUCT(D287:D293)","v":1.226443590829642},{"$f":"+PRODUCT(D288:D293)","v":1.1911971297772996},{"$f":"+PRODUCT(D289:D293)","v":1.1569636081100243},{"$f":"+PRODUCT(D290:D293)","v":1.1237139152116806},{"$f":"+PRODUCT(D291:D293)","v":1.0914197770689789},{"$f":"+PRODUCT(D292:D293)","v":1.060053732228551},{"$f":"+PRODUCT(D293:D293)","v":1.0295891084449909}]
[2043,{"$f":"+B261","v":6.1300452985096551E-2},3.0800000000000001E-2,1.0295891084449909,20,25.758349269430624,null,1,{"$f":"+PRODUCT(D276:D294)","v":1.7402628715141026},{"$f":"+PRODUCT(D277:D294)","v":1.6902498843858758},{"$f":"+PRODUCT(D278:D294)","v":1.6416742082078686},{"$f":"+PRODUCT(D279:D294)","v":1.5944945364537919},{"$f":"+PRODUCT(D280:D294)","v":1.5486707496954675},{"$f":"+PRODUCT(D281:D294)","v":1.504163881487107},{"$f":"+PRODUCT(D282:D294)","v":1.460936085230035},{"$f":"+PRODUCT(D283:D294)","v":1.4189506019896774},{"$f":"+PRODUCT(D284:D294)","v":1.3781717292374498},{"$f":"+PRODUCT(D285:D294)","v":1.3385647904909661},{"$f":"+PRODUCT(D286:D294)","v":1.3000961058267482},{"$f":"+PRODUCT(D287:D294)","v":1.2627329632403643},{"$f":"+PRODUCT(D288:D294)","v":1.226443590829642},{"$f":"+PRODUCT(D289:D294)","v":1.1911971297772996},{"$f":"+PRODUCT(D290:D294)","v":1.1569636081100243},{"$f":"+PRODUCT(D291:D294)","v":1.1237139152116806},{"$f":"+PRODUCT(D292:D294)","v":1.0914197770689789},{"$f":"+PRODUCT(D293:D294)","v":1.060053732228551},{"$f":"+PRODUCT(D294:D294)","v":1.0295891084449909}]
[2044,{"$f":"+B262","v":6.1300452985096551E-2},3.0800000000000001E-2,1.0295891084449909,21,27.550104967772747,null,1,{"$f":"+PRODUCT(D276:D295)","v":1.7917556983421246},{"$f":"+PRODUCT(D277:D295)","v":1.7402628715141026},{"$f":"+PRODUCT(D278:D295)","v":1.6902498843858758},{"$f":"+PRODUCT(D279:D295)","v":1.6416742082078686},{"$f":"+PRODUCT(D280:D295)","v":1.5944945364537919},{"$f":"+PRODUCT(D281:D295)","v":1.5486707496954675},{"$f":"+PRODUCT(D282:D295)","v":1.504163881487107},{"$f":"+PRODUCT(D283:D295)","v":1.460936085230035},{"$f":"+PRODUCT(D284:D295)","v":1.4189506019896774},{"$f":"+PRODUCT(D285:D295)","v":1.3781717292374498},{"$f":"+PRODUCT(D286:D295)","v":1.3385647904909661},{"$f":"+PRODUCT(D287:D295)","v":1.3000961058267482},{"$f":"+PRODUCT(D288:D295)","v":1.2627329632403643},{"$f":"+PRODUCT(D289:D295)","v":1.226443590829642},{"$f":"+PRODUCT(D290:D295)","v":1.1911971297772996},{"$f":"+PRODUCT(D291:D295)","v":1.1569636081100243},{"$f":"+PRODUCT(D292:D295)","v":1.1237139152116806},{"$f":"+PRODUCT(D293:D295)","v":1.0914197770689789},{"$f":"+PRODUCT(D294:D295)","v":1.060053732228551},{"$f":"+PRODUCT(D295:D295)","v":1.0295891084449909}]
[2045,{"$f":"+B263","v":6.1300452985096551E-2},3.0800000000000001E-2,1.0295891084449909,22,29.394877119780048,null,1,{"$f":"+PRODUCT(D276:D296)","v":1.8447721520072999},{"$f":"+PRODUCT(D277:D296)","v":1.7917556983421246},{"$f":"+PRODUCT(D278:D296)","v":1.7402628715141026},{"$f":"+PRODUCT(D279:D296)","v":1.6902498843858758},{"$f":"+PRODUCT(D280:D296)","v":1.6416742082078686},{"$f":"+PRODUCT(D281:D296)","v":1.5944945364537919},{"$f":"+PRODUCT(D282:D296)","v":1.5486707496954675},{"$f":"+PRODUCT(D283:D296)","v":1.504163881487107},{"$f":"+PRODUCT(D284:D296)","v":1.460936085230035},{"$f":"+PRODUCT(D285:D296)","v":1.4189506019896774},{"$f":"+PRODUCT(D286:D296)","v":1.3781717292374498},{"$f":"+PRODUCT(D287:D296)","v":1.3385647904909661},{"$f":"+PRODUCT(D288:D296)","v":1.3000961058267482},{"$f":"+PRODUCT(D289:D296)","v":1.2627329632403643},{"$f":"+PRODUCT(D290:D296)","v":1.226443590829642},{"$f":"+PRODUCT(D291:D296)","v":1.1911971297772996},{"$f":"+PRODUCT(D292:D296)","v":1.1569636081100243},{"$f":"+PRODUCT(D293:D296)","v":1.1237139152116806},{"$f":"+PRODUCT(D294:D296)","v":1.0914197770689789},{"$f":"+PRODUCT(D295:D296)","v":1.060053732228551},{"$f":"+PRODUCT(D296:D296)","v":1.0295891084449909}]
[2046,{"$f":"+B264","v":0},0,1,23,30.394877119780048,null,1,{"$f":"+PRODUCT(D276:D297)","v":1.8447721520072999},{"$f":"+PRODUCT(D277:D297)","v":1.7917556983421246},{"$f":"+PRODUCT(D278:D297)","v":1.7402628715141026},{"$f":"+PRODUCT(D279:D297)","v":1.6902498843858758},{"$f":"+PRODUCT(D280:D297)","v":1.6416742082078686},{"$f":"+PRODUCT(D281:D297)","v":1.5944945364537919},{"$f":"+PRODUCT(D282:D297)","v":1.5486707496954675},{"$f":"+PRODUCT(D283:D297)","v":1.504163881487107},{"$f":"+PRODUCT(D284:D297)","v":1.460936085230035},{"$f":"+PRODUCT(D285:D297)","v":1.4189506019896774},{"$f":"+PRODUCT(D286:D297)","v":1.3781717292374498},{"$f":"+PRODUCT(D287:D297)","v":1.3385647904909661},{"$f":"+PRODUCT(D288:D297)","v":1.3000961058267482},{"$f":"+PRODUCT(D289:D297)","v":1.2627329632403643},{"$f":"+PRODUCT(D290:D297)","v":1.226443590829642},{"$f":"+PRODUCT(D291:D297)","v":1.1911971297772996},{"$f":"+PRODUCT(D292:D297)","v":1.1569636081100243},{"$f":"+PRODUCT(D293:D297)","v":1.1237139152116806},{"$f":"+PRODUCT(D294:D297)","v":1.0914197770689789},{"$f":"+PRODUCT(D295:D297)","v":1.060053732228551},{"$f":"+PRODUCT(D296:D297)","v":1.0295891084449909},{"$f":"+PRODUCT(D297:D297)","v":1}]
[2047,{"$f":"+B265","v":0},0,1,24,31.394877119780048,null,1,{"$f":"+PRODUCT(D276:D298)","v":1.8447721520072999},{"$f":"+PRODUCT(D277:D298)","v":1.7917556983421246},{"$f":"+PRODUCT(D278:D298)","v":1.7402628715141026},{"$f":"+PRODUCT(D279:D298)","v":1.6902498843858758},{"$f":"+PRODUCT(D280:D298)","v":1.6416742082078686},{"$f":"+PRODUCT(D281:D298)","v":1.5944945364537919},{"$f":"+PRODUCT(D282:D298)","v":1.5486707496954675},{"$f":"+PRODUCT(D283:D298)","v":1.504163881487107},{"$f":"+PRODUCT(D284:D298)","v":1.460936085230035},{"$f":"+PRODUCT(D285:D298)","v":1.4189506019896774},{"$f":"+PRODUCT(D286:D298)","v":1.3781717292374498},{"$f":"+PRODUCT(D287:D298)","v":1.3385647904909661},{"$f":"+PRODUCT(D288:D298)","v":1.3000961058267482},{"$f":"+PRODUCT(D289:D298)","v":1.2627329632403643},{"$f":"+PRODUCT(D290:D298)","v":1.226443590829642},{"$f":"+PRODUCT(D291:D298)","v":1.1911971297772996},{"$f":"+PRODUCT(D292:D298)","v":1.1569636081100243},{"$f":"+PRODUCT(D293:D298)","v":1.1237139152116806},{"$f":"+PRODUCT(D294:D298)","v":1.0914197770689789},{"$f":"+PRODUCT(D295:D298)","v":1.060053732228551},{"$f":"+PRODUCT(D296:D298)","v":1.0295891084449909},{"$f":"+PRODUCT(D297:D298)","v":1},{"$f":"+PRODUCT(D298:D298)","v":1}]
[2048,{"$f":"+B266","v":0},0,1,25,32.394877119780048,null,1,{"$f":"+PRODUCT(D276:D299)","v":1.8447721520072999},{"$f":"+PRODUCT(D277:D299)","v":1.7917556983421246},{"$f":"+PRODUCT(D278:D299)","v":1.7402628715141026},{"$f":"+PRODUCT(D279:D299)","v":1.6902498843858758},{"$f":"+PRODUCT(D280:D299)","v":1.6416742082078686},{"$f":"+PRODUCT(D281:D299)","v":1.5944945364537919},{"$f":"+PRODUCT(D282:D299)","v":1.5486707496954675},{"$f":"+PRODUCT(D283:D299)","v":1.504163881487107},{"$f":"+PRODUCT(D284:D299)","v":1.460936085230035},{"$f":"+PRODUCT(D285:D299)","v":1.4189506019896774},{"$f":"+PRODUCT(D286:D299)","v":1.3781717292374498},{"$f":"+PRODUCT(D287:D299)","v":1.3385647904909661},{"$f":"+PRODUCT(D288:D299)","v":1.3000961058267482},{"$f":"+PRODUCT(D289:D299)","v":1.2627329632403643},{"$f":"+PRODUCT(D290:D299)","v":1.226443590829642},{"$f":"+PRODUCT(D291:D299)","v":1.1911971297772996},{"$f":"+PRODUCT(D292:D299)","v":1.1569636081100243},{"$f":"+PRODUCT(D293:D299)","v":1.1237139152116806},{"$f":"+PRODUCT(D294:D299)","v":1.0914197770689789},{"$f":"+PRODUCT(D295:D299)","v":1.060053732228551},{"$f":"+PRODUCT(D296:D299)","v":1.0295891084449909},{"$f":"+PRODUCT(D297:D299)","v":1},{"$f":"+PRODUCT(D298:D299)","v":1},{"$f":"+PRODUCT(D299:D299)","v":1}]
[2049,{"$f":"+B267","v":0},0,1,26,33.394877119780048,null,1,{"$f":"+PRODUCT(D276:D300)","v":1.8447721520072999},{"$f":"+PRODUCT(D277:D300)","v":1.7917556983421246},{"$f":"+PRODUCT(D278:D300)","v":1.7402628715141026},{"$f":"+PRODUCT(D279:D300)","v":1.6902498843858758},{"$f":"+PRODUCT(D280:D300)","v":1.6416742082078686},{"$f":"+PRODUCT(D281:D300)","v":1.5944945364537919},{"$f":"+PRODUCT(D282:D300)","v":1.5486707496954675},{"$f":"+PRODUCT(D283:D300)","v":1.504163881487107},{"$f":"+PRODUCT(D284:D300)","v":1.460936085230035},{"$f":"+PRODUCT(D285:D300)","v":1.4189506019896774},{"$f":"+PRODUCT(D286:D300)","v":1.3781717292374498},{"$f":"+PRODUCT(D287:D300)","v":1.3385647904909661},{"$f":"+PRODUCT(D288:D300)","v":1.3000961058267482},{"$f":"+PRODUCT(D289:D300)","v":1.2627329632403643},{"$f":"+PRODUCT(D290:D300)","v":1.226443590829642},{"$f":"+PRODUCT(D291:D300)","v":1.1911971297772996},{"$f":"+PRODUCT(D292:D300)","v":1.1569636081100243},{"$f":"+PRODUCT(D293:D300)","v":1.1237139152116806},{"$f":"+PRODUCT(D294:D300)","v":1.0914197770689789},{"$f":"+PRODUCT(D295:D300)","v":1.060053732228551},{"$f":"+PRODUCT(D296:D300)","v":1.0295891084449909},{"$f":"+PRODUCT(D297:D300)","v":1},{"$f":"+PRODUCT(D298:D300)","v":1},{"$f":"+PRODUCT(D299:D300)","v":1},{"$f":"+PRODUCT(D300:D300)","v":1}]
[2050,{"$f":"+B268","v":0},0,1,27,34.394877119780048,null,1,{"$f":"+PRODUCT(D276:D301)","v":1.8447721520072999},{"$f":"+PRODUCT(D277:D301)","v":1.7917556983421246},{"$f":"+PRODUCT(D278:D301)","v":1.7402628715141026},{"$f":"+PRODUCT(D279:D301)","v":1.6902498843858758},{"$f":"+PRODUCT(D280:D301)","v":1.6416742082078686},{"$f":"+PRODUCT(D281:D301)","v":1.5944945364537919},{"$f":"+PRODUCT(D282:D301)","v":1.5486707496954675},{"$f":"+PRODUCT(D283:D301)","v":1.504163881487107},{"$f":"+PRODUCT(D284:D301)","v":1.460936085230035},{"$f":"+PRODUCT(D285:D301)","v":1.4189506019896774},{"$f":"+PRODUCT(D286:D301)","v":1.3781717292374498},{"$f":"+PRODUCT(D287:D301)","v":1.3385647904909661},{"$f":"+PRODUCT(D288:D301)","v":1.3000961058267482},{"$f":"+PRODUCT(D289:D301)","v":1.2627329632403643},{"$f":"+PRODUCT(D290:D301)","v":1.226443590829642},{"$f":"+PRODUCT(D291:D301)","v":1.1911971297772996},{"$f":"+PRODUCT(D292:D301)","v":1.1569636081100243},{"$f":"+PRODUCT(D293:D301)","v":1.1237139152116806},{"$f":"+PRODUCT(D294:D301)","v":1.0914197770689789},{"$f":"+PRODUCT(D295:D301)","v":1.060053732228551},{"$f":"+PRODUCT(D296:D301)","v":1.0295891084449909},{"$f":"+PRODUCT(D297:D301)","v":1},{"$f":"+PRODUCT(D298:D301)","v":1},{"$f":"+PRODUCT(D299:D301)","v":1},{"$f":"+PRODUCT(D300:D301)","v":1},{"$f":"+PRODUCT(D301:D301)","v":1}]
[2051,{"$f":"+B269","v":0},0,1,28,35.394877119780048,null,1,{"$f":"+PRODUCT(D276:D302)","v":1.8447721520072999},{"$f":"+PRODUCT(D277:D302)","v":1.7917556983421246},{"$f":"+PRODUCT(D278:D302)","v":1.7402628715141026},{"$f":"+PRODUCT(D279:D302)","v":1.6902498843858758},{"$f":"+PRODUCT(D280:D302)","v":1.6416742082078686},{"$f":"+PRODUCT(D281:D302)","v":1.5944945364537919},{"$f":"+PRODUCT(D282:D302)","v":1.5486707496954675},{"$f":"+PRODUCT(D283:D302)","v":1.504163881487107},{"$f":"+PRODUCT(D284:D302)","v":1.460936085230035},{"$f":"+PRODUCT(D285:D302)","v":1.4189506019896774},{"$f":"+PRODUCT(D286:D302)","v":1.3781717292374498},{"$f":"+PRODUCT(D287:D302)","v":1.3385647904909661},{"$f":"+PRODUCT(D288:D302)","v":1.3000961058267482},{"$f":"+PRODUCT(D289:D302)","v":1.2627329632403643},{"$f":"+PRODUCT(D290:D302)","v":1.226443590829642},{"$f":"+PRODUCT(D291:D302)","v":1.1911971297772996},{"$f":"+PRODUCT(D292:D302)","v":1.1569636081100243},{"$f":"+PRODUCT(D293:D302)","v":1.1237139152116806},{"$f":"+PRODUCT(D294:D302)","v":1.0914197770689789},{"$f":"+PRODUCT(D295:D302)","v":1.060053732228551},{"$f":"+PRODUCT(D296:D302)","v":1.0295891084449909},{"$f":"+PRODUCT(D297:D302)","v":1},{"$f":"+PRODUCT(D298:D302)","v":1},{"$f":"+PRODUCT(D299:D302)","v":1},{"$f":"+PRODUCT(D300:D302)","v":1},{"$f":"+PRODUCT(D301:D302)","v":1},{"$f":"+PRODUCT(D302:D302)","v":1}]
[2052,{"$f":"+B270","v":0},0,1,29,36.394877119780048,null,1,{"$f":"+PRODUCT(D276:D303)","v":1.8447721520072999},{"$f":"+PRODUCT(D277:D303)","v":1.7917556983421246},{"$f":"+PRODUCT(D278:D303)","v":1.7402628715141026},{"$f":"+PRODUCT(D279:D303)","v":1.6902498843858758},{"$f":"+PRODUCT(D280:D303)","v":1.6416742082078686},{"$f":"+PRODUCT(D281:D303)","v":1.5944945364537919},{"$f":"+PRODUCT(D282:D303)","v":1.5486707496954675},{"$f":"+PRODUCT(D283:D303)","v":1.504163881487107},{"$f":"+PRODUCT(D284:D303)","v":1.460936085230035},{"$f":"+PRODUCT(D285:D303)","v":1.4189506019896774},{"$f":"+PRODUCT(D286:D303)","v":1.3781717292374498},{"$f":"+PRODUCT(D287:D303)","v":1.3385647904909661},{"$f":"+PRODUCT(D288:D303)","v":1.3000961058267482},{"$f":"+PRODUCT(D289:D303)","v":1.2627329632403643},{"$f":"+PRODUCT(D290:D303)","v":1.226443590829642},{"$f":"+PRODUCT(D291:D303)","v":1.1911971297772996},{"$f":"+PRODUCT(D292:D303)","v":1.1569636081100243},{"$f":"+PRODUCT(D293:D303)","v":1.1237139152116806},{"$f":"+PRODUCT(D294:D303)","v":1.0914197770689789},{"$f":"+PRODUCT(D295:D303)","v":1.060053732228551},{"$f":"+PRODUCT(D296:D303)","v":1.0295891084449909},{"$f":"+PRODUCT(D297:D303)","v":1},{"$f":"+PRODUCT(D298:D303)","v":1},{"$f":"+PRODUCT(D299:D303)","v":1},{"$f":"+PRODUCT(D300:D303)","v":1},{"$f":"+PRODUCT(D301:D303)","v":1},{"$f":"+PRODUCT(D302:D303)","v":1},{"$f":"+PRODUCT(D303:D303)","v":1}]
[2053,{"$f":"+B271","v":0},0,1,30,37.394877119780048,null,1,{"$f":"+PRODUCT(D276:D304)","v":1.8447721520072999},{"$f":"+PRODUCT(D277:D304)","v":1.7917556983421246},{"$f":"+PRODUCT(D278:D304)","v":1.7402628715141026},{"$f":"+PRODUCT(D279:D304)","v":1.6902498843858758},{"$f":"+PRODUCT(D280:D304)","v":1.6416742082078686},{"$f":"+PRODUCT(D281:D304)","v":1.5944945364537919},{"$f":"+PRODUCT(D282:D304)","v":1.5486707496954675},{"$f":"+PRODUCT(D283:D304)","v":1.504163881487107},{"$f":"+PRODUCT(D284:D304)","v":1.460936085230035},{"$f":"+PRODUCT(D285:D304)","v":1.4189506019896774},{"$f":"+PRODUCT(D286:D304)","v":1.3781717292374498},{"$f":"+PRODUCT(D287:D304)","v":1.3385647904909661},{"$f":"+PRODUCT(D288:D304)","v":1.3000961058267482},{"$f":"+PRODUCT(D289:D304)","v":1.2627329632403643},{"$f":"+PRODUCT(D290:D304)","v":1.226443590829642},{"$f":"+PRODUCT(D291:D304)","v":1.1911971297772996},{"$f":"+PRODUCT(D292:D304)","v":1.1569636081100243},{"$f":"+PRODUCT(D293:D304)","v":1.1237139152116806},{"$f":"+PRODUCT(D294:D304)","v":1.0914197770689789},{"$f":"+PRODUCT(D295:D304)","v":1.060053732228551},{"$f":"+PRODUCT(D296:D304)","v":1.0295891084449909},{"$f":"+PRODUCT(D297:D304)","v":1},{"$f":"+PRODUCT(D298:D304)","v":1},{"$f":"+PRODUCT(D299:D304)","v":1},{"$f":"+PRODUCT(D300:D304)","v":1},{"$f":"+PRODUCT(D301:D304)","v":1},{"$f":"+PRODUCT(D302:D304)","v":1},{"$f":"+PRODUCT(D303:D304)","v":1},{"$f":"+PRODUCT(D304:D304)","v":1}]
[]
[]
[" Fecha(Anual) ","r_t","c_y_t","1+r_t / 1+c_y_t","t","Multiplicatoria inversa",0,{"$f":"+G307+1","v":1},{"$f":"+H307+1","v":2},{"$f":"+I307+1","v":3},{"$f":"+J307+1","v":4},{"$f":"+K307+1","v":5},{"$f":"+L307+1","v":6},{"$f":"+M307+1","v":7},{"$f":"+N307+1","v":8},{"$f":"+O307+1","v":9},{"$f":"+P307+1","v":10},{"$f":"+Q307+1","v":11},{"$f":"+R307+1","v":12},{"$f":"+S307+1","v":13},{"$f":"+T307+1","v":14},{"$f":"+U307+1","v":15},{"$f":"+V307+1","v":16},{"$f":"+W307+1","v":17},{"$f":"+X307+1","v":18},{"$f":"+Y307+1","v":19},{"$f":"+Z307+1","v":20},{"$f":"+AA307+1","v":21},{"$f":"+AB307+1","v":22},{"$f":"+AC307+1","v":23},{"$f":"+AD307+1","v":24},{"$f":"+AE307+1","v":25},{"$f":"+AF307+1","v":26},{"$f":"+AG307+1","v":27},{"$f":"+AH307+1","v":28},{"$f":"+AI307+1","v":29},{"$f":"+AJ307+1","v":30}]
[{"$f":"+A275","v":2024},null,null,1,0]
[{"$f":"+A308+1","v":2025},{"$f":"+B276","v":6.1300452985096551E-2},{"$f":"+C276","v":3.0800000000000001E-2},{"$f":"(1+B309)/(1+C309)","v":1.0295891084449909},1,null,null,1]
[{"$f":"+A309+1","v":2026},{"$f":"+B277","v":6.1300452985096551E-2},3.0800000000000001E-2,{"$f":"(1+B310)/(1+C310)","v":1.0295891084449909},{"$f":"+E309+1","v":2},{"$f":"+SUM(I310:AK310)","v":1.0295891084449909},null,1,{"$f":"+PRODUCT(D310:D310)","v":1.0295891084449909}]
[2027,{"$f":"+B278","v":6.1300452985096551E-2},3.0800000000000001E-2,1.0295891084449909,{"$f":"+E310+1","v":3},{"$f":"+SUM(I311:AK311)","v":2.0896428406735419},null,1,{"$f":"+PRODUCT(D310:D311)","v":1.060053732228551},{"$f":"+PRODUCT(D311:D311)","v":1.0295891084449909}]
[2028,{"$f":"+B279","v":6.1300452985096551E-2},3.0800000000000001E-2,1.0295891084449909,4,3.1810626177425205,null,1,{"$f":"+PRODUCT(D310:D312)","v":1.0914197770689789},{"$f":"+PRODUCT(D311:D312)","v":1.060053732228551},{"$f":"+PRODUCT(D312:D312)","v":1.0295891084449909},{"$f":"+IF(L307>E312,\"\",1)","v":""}]
[2029,{"$f":"+B280","v":6.1300452985096551E-2},3.0800000000000001E-2,1.0295891084449909,5,4.3047765329542012,null,1,{"$f":"+PRODUCT(D310:D313)","v":1.1237139152116806},{"$f":"+PRODUCT(D311:D313)","v":1.0914197770689789},{"$f":"+PRODUCT(D312:D313)","v":1.060053732228551},{"$f":"+PRODUCT(D313:D313)","v":1.0295891084449909}]
[2030,{"$f":"+B281","v":6.1300452985096551E-2},3.0800000000000001E-2,1.0295891084449909,6,5.4617401410642259,null,1,{"$f":"+PRODUCT(D310:D314)","v":1.1569636081100243},{"$f":"+PRODUCT(D311:D314)","v":1.1237139152116806},{"$f":"+PRODUCT(D312:D314)","v":1.0914197770689789},{"$f":"+PRODUCT(D313:D314)","v":1.060053732228551},{"$f":"+PRODUCT(D314:D314)","v":1.0295891084449909}]
[2031,{"$f":"+B282","v":6.1300452985096551E-2},3.0800000000000001E-2,1.0295891084449909,7,6.6529372708415249,null,1,{"$f":"+PRODUCT(D310:D315)","v":1.1911971297772996},{"$f":"+PRODUCT(D311:D315)","v":1.1569636081100243},{"$f":"+PRODUCT(D312:D315)","v":1.1237139152116806},{"$f":"+PRODUCT(D313:D315)","v":1.0914197770689789},{"$f":"+PRODUCT(D314:D315)","v":1.060053732228551},{"$f":"+PRODUCT(D315:D315)","v":1.0295891084449909}]
[2032,{"$f":"+B283","v":6.1300452985096551E-2},3.0800000000000001E-2,1.0295891084449909,8,7.8793808616711676,null,1,{"$f":"+PRODUCT(D310:D316)","v":1.226443590829642},{"$f":"+PRODUCT(D311:D316)","v":1.1911971297772996},{"$f":"+PRODUCT(D312:D316)","v":1.1569636081100243},{"$f":"+PRODUCT(D313:D316)","v":1.1237139152116806},{"$f":"+PRODUCT(D314:D316)","v":1.0914197770689789},{"$f":"+PRODUCT(D315:D316)","v":1.060053732228551},{"$f":"+PRODUCT(D316:D316)","v":1.0295891084449909}]
[2033,{"$f":"+B284","v":6.1300452985096551E-2},3.0800000000000001E-2,1.0295891084449909,9,9.142113824911533,null,1,{"$f":"+PRODUCT(D310:D317)","v":1.2627329632403643},{"$f":"+PRODUCT(D311:D317)","v":1.226443590829642},{"$f":"+PRODUCT(D312:D317)","v":1.1911971297772996},{"$f":"+PRODUCT(D313:D317)","v":1.1569636081100243},{"$f":"+PRODUCT(D314:D317)","v":1.1237139152116806},{"$f":"+PRODUCT(D315:D317)","v":1.0914197770689789},{"$f":"+PRODUCT(D316:D317)","v":1.060053732228551},{"$f":"+PRODUCT(D317:D317)","v":1.0295891084449909}]
[2034,{"$f":"+B285","v":6.1300452985096551E-2},3.0800000000000001E-2,1.0295891084449909,10,10.442209930738281,null,1,{"$f":"+PRODUCT(D310:D318)","v":1.3000961058267482},{"$f":"+PRODUCT(D311:D318)","v":1.2627329632403643},{"$f":"+PRODUCT(D312:D318)","v":1.226443590829642},{"$f":"+PRODUCT(D313:D318)","v":1.1911971297772996},{"$f":"+PRODUCT(D314:D318)","v":1.1569636081100243},{"$f":"+PRODUCT(D315:D318)","v":1.1237139152116806},{"$f":"+PRODUCT(D316:D318)","v":1.0914197770689789},{"$f":"+PRODUCT(D317:D318)","v":1.060053732228551},{"$f":"+PRODUCT(D318:D318)","v":1.0295891084449909}]
[2035,{"$f":"+B286","v":6.1300452985096551E-2},3.0800000000000001E-2,1.0295891084449909,11,11.780774721229246,null,1,{"$f":"+PRODUCT(D310:D319)","v":1.3385647904909661},{"$f":"+PRODUCT(D311:D319)","v":1.3000961058267482},{"$f":"+PRODUCT(D312:D319)","v":1.2627329632403643},{"$f":"+PRODUCT(D313:D319)","v":1.226443590829642},{"$f":"+PRODUCT(D314:D319)","v":1.1911971297772996},{"$f":"+PRODUCT(D315:D319)","v":1.1569636081100243},{"$f":"+PRODUCT(D316:D319)","v":1.1237139152116806},{"$f":"+PRODUCT(D317:D319)","v":1.0914197770689789},{"$f":"+PRODUCT(D318:D319)","v":1.060053732228551},{"$f":"+PRODUCT(D319:D319)","v":1.0295891084449909}]
[2036,{"$f":"+B287","v":6.1300452985096551E-2},3.0800000000000001E-2,1.0295891084449909,12,13.158946450466697,null,1,{"$f":"+PRODUCT(D310:D320)","v":1.3781717292374498},{"$f":"+PRODUCT(D311:D320)","v":1.3385647904909661},{"$f":"+PRODUCT(D312:D320)","v":1.3000961058267482},{"$f":"+PRODUCT(D313:D320)","v":1.2627329632403643},{"$f":"+PRODUCT(D314:D320)","v":1.226443590829642},{"$f":"+PRODUCT(D315:D320)","v":1.1911971297772996},{"$f":"+PRODUCT(D316:D320)","v":1.1569636081100243},{"$f":"+PRODUCT(D317:D320)","v":1.1237139152116806},{"$f":"+PRODUCT(D318:D320)","v":1.0914197770689789},{"$f":"+PRODUCT(D319:D320)","v":1.060053732228551},{"$f":"+PRODUCT(D320:D320)","v":1.0295891084449909}]
[2037,{"$f":"+B288","v":6.1300452985096551E-2},3.0800000000000001E-2,1.0295891084449909,13,14.577897052456374,null,1,{"$f":"+PRODUCT(D310:D321)","v":1.4189506019896774},{"$f":"+PRODUCT(D311:D321)","v":1.3781717292374498},{"$f":"+PRODUCT(D312:D321)","v":1.3385647904909661},{"$f":"+PRODUCT(D313:D321)","v":1.3000961058267482},{"$f":"+PRODUCT(D314:D321)","v":1.2627329632403643},{"$f":"+PRODUCT(D315:D321)","v":1.226443590829642},{"$f":"+PRODUCT(D316:D321)","v":1.1911971297772996},{"$f":"+PRODUCT(D317:D321)","v":1.1569636081100243},{"$f":"+PRODUCT(D318:D321)","v":1.1237139152116806},{"$f":"+PRODUCT(D319:D321)","v":1.0914197770689789},{"$f":"+PRODUCT(D320:D321)","v":1.060053732228551},{"$f":"+PRODUCT(D321:D321)","v":1.0295891084449909}]
[2038,{"$f":"+B289","v":6.1300452985096551E-2},3.0800000000000001E-2,1.0295891084449909,14,16.038833137686407,null,1,{"$f":"+PRODUCT(D310:D322)","v":1.460936085230035},{"$f":"+PRODUCT(D311:D322)","v":1.4189506019896774},{"$f":"+PRODUCT(D312:D322)","v":1.3781717292374498},{"$f":"+PRODUCT(D313:D322)","v":1.3385647904909661},{"$f":"+PRODUCT(D314:D322)","v":1.3000961058267482},{"$f":"+PRODUCT(D315:D322)","v":1.2627329632403643},{"$f":"+PRODUCT(D316:D322)","v":1.226443590829642},{"$f":"+PRODUCT(D317:D322)","v":1.1911971297772996},{"$f":"+PRODUCT(D318:D322)","v":1.1569636081100243},{"$f":"+PRODUCT(D319:D322)","v":1.1237139152116806},{"$f":"+PRODUCT(D320:D322)","v":1.0914197770689789},{"$f":"+PRODUCT(D321:D322)","v":1.060053732228551},{"$f":"+PRODUCT(D322:D322)","v":1.0295891084449909}]
[2039,{"$f":"+B290","v":6.1300452985096551E-2},3.0800000000000001E-2,1.0295891084449909,15,17.542997019173512,null,1,{"$f":"+PRODUCT(D310:D323)","v":1.504163881487107},{"$f":"+PRODUCT(D311:D323)","v":1.460936085230035},{"$f":"+PRODUCT(D312:D323)","v":1.4189506019896774},{"$f":"+PRODUCT(D313:D323)","v":1.3781717292374498},{"$f":"+PRODUCT(D314:D323)","v":1.3385647904909661},{"$f":"+PRODUCT(D315:D323)","v":1.3000961058267482},{"$f":"+PRODUCT(D316:D323)","v":1.2627329632403643},{"$f":"+PRODUCT(D317:D323)","v":1.226443590829642},{"$f":"+PRODUCT(D318:D323)","v":1.1911971297772996},{"$f":"+PRODUCT(D319:D323)","v":1.1569636081100243},{"$f":"+PRODUCT(D320:D323)","v":1.1237139152116806},{"$f":"+PRODUCT(D321:D323)","v":1.0914197770689789},{"$f":"+PRODUCT(D322:D323)","v":1.060053732228551},{"$f":"+PRODUCT(D323:D323)","v":1.0295891084449909}]
[2040,{"$f":"+B291","v":6.1300452985096551E-2},3.0800000000000001E-2,1.0295891084449909,16,19.09166776886898,null,1,{"$f":"+PRODUCT(D310:D324)","v":1.5486707496954675},{"$f":"+PRODUCT(D311:D324)","v":1.504163881487107},{"$f":"+PRODUCT(D312:D324)","v":1.460936085230035},{"$f":"+PRODUCT(D313:D324)","v":1.4189506019896774},{"$f":"+PRODUCT(D314:D324)","v":1.3781717292374498},{"$f":"+PRODUCT(D315:D324)","v":1.3385647904909661},{"$f":"+PRODUCT(D316:D324)","v":1.3000961058267482},{"$f":"+PRODUCT(D317:D324)","v":1.2627329632403643},{"$f":"+PRODUCT(D318:D324)","v":1.226443590829642},{"$f":"+PRODUCT(D319:D324)","v":1.1911971297772996},{"$f":"+PRODUCT(D320:D324)","v":1.1569636081100243},{"$f":"+PRODUCT(D321:D324)","v":1.1237139152116806},{"$f":"+PRODUCT(D322:D324)","v":1.0914197770689789},{"$f":"+PRODUCT(D323:D324)","v":1.060053732228551},{"$f":"+PRODUCT(D324:D324)","v":1.0295891084449909}]
[2041,{"$f":"+B292","v":6.1300452985096551E-2},3.0800000000000001E-2,1.0295891084449909,17,20.686162305322775,null,1,{"$f":"+PRODUCT(D310:D325)","v":1.5944945364537919},{"$f":"+PRODUCT(D311:D325)","v":1.5486707496954675},{"$f":"+PRODUCT(D312:D325)","v":1.504163881487107},{"$f":"+PRODUCT(D313:D325)","v":1.460936085230035},{"$f":"+PRODUCT(D314:D325)","v":1.4189506019896774},{"$f":"+PRODUCT(D315:D325)","v":1.3781717292374498},{"$f":"+PRODUCT(D316:D325)","v":1.3385647904909661},{"$f":"+PRODUCT(D317:D325)","v":1.3000961058267482},{"$f":"+PRODUCT(D318:D325)","v":1.2627329632403643},{"$f":"+PRODUCT(D319:D325)","v":1.226443590829642},{"$f":"+PRODUCT(D320:D325)","v":1.1911971297772996},{"$f":"+PRODUCT(D321:D325)","v":1.1569636081100243},{"$f":"+PRODUCT(D322:D325)","v":1.1237139152116806},{"$f":"+PRODUCT(D323:D325)","v":1.0914197770689789},{"$f":"+PRODUCT(D324:D325)","v":1.060053732228551},{"$f":"+PRODUCT(D325:D325)","v":1.0295891084449909}]
[2042,{"$f":"+B293","v":6.1300452985096551E-2},3.0800000000000001E-2,1.0295891084449909,18,22.327836513530645,null,1,{"$f":"+PRODUCT(D310:D326)","v":1.6416742082078686},{"$f":"+PRODUCT(D311:D326)","v":1.5944945364537919},{"$f":"+PRODUCT(D312:D326)","v":1.5486707496954675},{"$f":"+PRODUCT(D313:D326)","v":1.504163881487107},{"$f":"+PRODUCT(D314:D326)","v":1.460936085230035},{"$f":"+PRODUCT(D315:D326)","v":1.4189506019896774},{"$f":"+PRODUCT(D316:D326)","v":1.3781717292374498},{"$f":"+PRODUCT(D317:D326)","v":1.3385647904909661},{"$f":"+PRODUCT(D318:D326)","v":1.3000961058267482},{"$f":"+PRODUCT(D319:D326)","v":1.2627329632403643},{"$f":"+PRODUCT(D320:D326)","v":1.226443590829642},{"$f":"+PRODUCT(D321:D326)","v":1.1911971297772996},{"$f":"+PRODUCT(D322:D326)","v":1.1569636081100243},{"$f":"+PRODUCT(D323:D326)","v":1.1237139152116806},{"$f":"+PRODUCT(D324:D326)","v":1.0914197770689789},{"$f":"+PRODUCT(D325:D326)","v":1.060053732228551},{"$f":"+PRODUCT(D326:D326)","v":1.0295891084449909}]
[2043,{"$f":"+B294","v":6.1300452985096551E-2},3.0800000000000001E-2,1.0295891084449909,19,24.01808639791652,null,1,{"$f":"+PRODUCT(D310:D327)","v":1.6902498843858758},{"$f":"+PRODUCT(D311:D327)","v":1.6416742082078686},{"$f":"+PRODUCT(D312:D327)","v":1.5944945364537919},{"$f":"+PRODUCT(D313:D327)","v":1.5486707496954675},{"$f":"+PRODUCT(D314:D327)","v":1.504163881487107},{"$f":"+PRODUCT(D315:D327)","v":1.460936085230035},{"$f":"+PRODUCT(D316:D327)","v":1.4189506019896774},{"$f":"+PRODUCT(D317:D327)","v":1.3781717292374498},{"$f":"+PRODUCT(D318:D327)","v":1.3385647904909661},{"$f":"+PRODUCT(D319:D327)","v":1.3000961058267482},{"$f":"+PRODUCT(D320:D327)","v":1.2627329632403643},{"$f":"+PRODUCT(D321:D327)","v":1.226443590829642},{"$f":"+PRODUCT(D322:D327)","v":1.1911971297772996},{"$f":"+PRODUCT(D323:D327)","v":1.1569636081100243},{"$f":"+PRODUCT(D324:D327)","v":1.1237139152116806},{"$f":"+PRODUCT(D325:D327)","v":1.0914197770689789},{"$f":"+PRODUCT(D326:D327)","v":1.060053732228551},{"$f":"+PRODUCT(D327:D327)","v":1.0295891084449909}]
[2044,{"$f":"+B295","v":6.1300452985096551E-2},3.0800000000000001E-2,1.0295891084449909,20,25.758349269430624,null,1,{"$f":"+PRODUCT(D310:D328)","v":1.7402628715141026},{"$f":"+PRODUCT(D311:D328)","v":1.6902498843858758},{"$f":"+PRODUCT(D312:D328)","v":1.6416742082078686},{"$f":"+PRODUCT(D313:D328)","v":1.5944945364537919},{"$f":"+PRODUCT(D314:D328)","v":1.5486707496954675},{"$f":"+PRODUCT(D315:D328)","v":1.504163881487107},{"$f":"+PRODUCT(D316:D328)","v":1.460936085230035},{"$f":"+PRODUCT(D317:D328)","v":1.4189506019896774},{"$f":"+PRODUCT(D318:D328)","v":1.3781717292374498},{"$f":"+PRODUCT(D319:D328)","v":1.3385647904909661},{"$f":"+PRODUCT(D320:D328)","v":1.3000961058267482},{"$f":"+PRODUCT(D321:D328)","v":1.2627329632403643},{"$f":"+PRODUCT(D322:D328)","v":1.226443590829642},{"$f":"+PRODUCT(D323:D328)","v":1.1911971297772996},{"$f":"+PRODUCT(D324:D328)","v":1.1569636081100243},{"$f":"+PRODUCT(D325:D328)","v":1.1237139152116806},{"$f":"+PRODUCT(D326:D328)","v":1.0914197770689789},{"$f":"+PRODUCT(D327:D328)","v":1.060053732228551},{"$f":"+PRODUCT(D328:D328)","v":1.0295891084449909}]
[2045,{"$f":"+B296","v":6.1300452985096551E-2},3.0800000000000001E-2,1.0295891084449909,21,27.550104967772747,null,1,{"$f":"+PRODUCT(D310:D329)","v":1.7917556983421246},{"$f":"+PRODUCT(D311:D329)","v":1.7402628715141026},{"$f":"+PRODUCT(D312:D329)","v":1.6902498843858758},{"$f":"+PRODUCT(D313:D329)","v":1.6416742082078686},{"$f":"+PRODUCT(D314:D329)","v":1.5944945364537919},{"$f":"+PRODUCT(D315:D329)","v":1.5486707496954675},{"$f":"+PRODUCT(D316:D329)","v":1.504163881487107},{"$f":"+PRODUCT(D317:D329)","v":1.460936085230035},{"$f":"+PRODUCT(D318:D329)","v":1.4189506019896774},{"$f":"+PRODUCT(D319:D329)","v":1.3781717292374498},{"$f":"+PRODUCT(D320:D329)","v":1.3385647904909661},{"$f":"+PRODUCT(D321:D329)","v":1.3000961058267482},{"$f":"+PRODUCT(D322:D329)","v":1.2627329632403643},{"$f":"+PRODUCT(D323:D329)","v":1.226443590829642},{"$f":"+PRODUCT(D324:D329)","v":1.1911971297772996},{"$f":"+PRODUCT(D325:D329)","v":1.1569636081100243},{"$f":"+PRODUCT(D326:D329)","v":1.1237139152116806},{"$f":"+PRODUCT(D327:D329)","v":1.0914197770689789},{"$f":"+PRODUCT(D328:D329)","v":1.060053732228551},{"$f":"+PRODUCT(D329:D329)","v":1.0295891084449909}]
[2046,{"$f":"+B297","v":0},0,1,22,28.550104967772747,null,1,{"$f":"+PRODUCT(D310:D330)","v":1.7917556983421246},{"$f":"+PRODUCT(D311:D330)","v":1.7402628715141026},{"$f":"+PRODUCT(D312:D330)","v":1.6902498843858758},{"$f":"+PRODUCT(D313:D330)","v":1.6416742082078686},{"$f":"+PRODUCT(D314:D330)","v":1.5944945364537919},{"$f":"+PRODUCT(D315:D330)","v":1.5486707496954675},{"$f":"+PRODUCT(D316:D330)","v":1.504163881487107},{"$f":"+PRODUCT(D317:D330)","v":1.460936085230035},{"$f":"+PRODUCT(D318:D330)","v":1.4189506019896774},{"$f":"+PRODUCT(D319:D330)","v":1.3781717292374498},{"$f":"+PRODUCT(D320:D330)","v":1.3385647904909661},{"$f":"+PRODUCT(D321:D330)","v":1.3000961058267482},{"$f":"+PRODUCT(D322:D330)","v":1.2627329632403643},{"$f":"+PRODUCT(D323:D330)","v":1.226443590829642},{"$f":"+PRODUCT(D324:D330)","v":1.1911971297772996},{"$f":"+PRODUCT(D325:D330)","v":1.1569636081100243},{"$f":"+PRODUCT(D326:D330)","v":1.1237139152116806},{"$f":"+PRODUCT(D327:D330)","v":1.0914197770689789},{"$f":"+PRODUCT(D328:D330)","v":1.060053732228551},{"$f":"+PRODUCT(D329:D330)","v":1.0295891084449909},{"$f":"+PRODUCT(D330:D330)","v":1}]
[2047,{"$f":"+B298","v":0},0,1,23,29.550104967772747,null,1,{"$f":"+PRODUCT(D310:D331)","v":1.7917556983421246},{"$f":"+PRODUCT(D311:D331)","v":1.7402628715141026},{"$f":"+PRODUCT(D312:D331)","v":1.6902498843858758},{"$f":"+PRODUCT(D313:D331)","v":1.6416742082078686},{"$f":"+PRODUCT(D314:D331)","v":1.5944945364537919},{"$f":"+PRODUCT(D315:D331)","v":1.5486707496954675},{"$f":"+PRODUCT(D316:D331)","v":1.504163881487107},{"$f":"+PRODUCT(D317:D331)","v":1.460936085230035},{"$f":"+PRODUCT(D318:D331)","v":1.4189506019896774},{"$f":"+PRODUCT(D319:D331)","v":1.3781717292374498},{"$f":"+PRODUCT(D320:D331)","v":1.3385647904909661},{"$f":"+PRODUCT(D321:D331)","v":1.3000961058267482},{"$f":"+PRODUCT(D322:D331)","v":1.2627329632403643},{"$f":"+PRODUCT(D323:D331)","v":1.226443590829642},{"$f":"+PRODUCT(D324:D331)","v":1.1911971297772996},{"$f":"+PRODUCT(D325:D331)","v":1.1569636081100243},{"$f":"+PRODUCT(D326:D331)","v":1.1237139152116806},{"$f":"+PRODUCT(D327:D331)","v":1.0914197770689789},{"$f":"+PRODUCT(D328:D331)","v":1.060053732228551},{"$f":"+PRODUCT(D329:D331)","v":1.0295891084449909},{"$f":"+PRODUCT(D330:D331)","v":1},{"$f":"+PRODUCT(D331:D331)","v":1}]
[2048,{"$f":"+B299","v":0},0,1,24,30.550104967772747,null,1,{"$f":"+PRODUCT(D310:D332)","v":1.7917556983421246},{"$f":"+PRODUCT(D311:D332)","v":1.7402628715141026},{"$f":"+PRODUCT(D312:D332)","v":1.6902498843858758},{"$f":"+PRODUCT(D313:D332)","v":1.6416742082078686},{"$f":"+PRODUCT(D314:D332)","v":1.5944945364537919},{"$f":"+PRODUCT(D315:D332)","v":1.5486707496954675},{"$f":"+PRODUCT(D316:D332)","v":1.504163881487107},{"$f":"+PRODUCT(D317:D332)","v":1.460936085230035},{"$f":"+PRODUCT(D318:D332)","v":1.4189506019896774},{"$f":"+PRODUCT(D319:D332)","v":1.3781717292374498},{"$f":"+PRODUCT(D320:D332)","v":1.3385647904909661},{"$f":"+PRODUCT(D321:D332)","v":1.3000961058267482},{"$f":"+PRODUCT(D322:D332)","v":1.2627329632403643},{"$f":"+PRODUCT(D323:D332)","v":1.226443590829642},{"$f":"+PRODUCT(D324:D332)","v":1.1911971297772996},{"$f":"+PRODUCT(D325:D332)","v":1.1569636081100243},{"$f":"+PRODUCT(D326:D332)","v":1.1237139152116806},{"$f":"+PRODUCT(D327:D332)","v":1.0914197770689789},{"$f":"+PRODUCT(D328:D332)","v":1.060053732228551},{"$f":"+PRODUCT(D329:D332)","v":1.0295891084449909},{"$f":"+PRODUCT(D330:D332)","v":1},{"$f":"+PRODUCT(D331:D332)","v":1},{"$f":"+PRODUCT(D332:D332)","v":1}]
[2049,{"$f":"+B300","v":0},0,1,25,31.550104967772747,null,1,{"$f":"+PRODUCT(D310:D333)","v":1.7917556983421246},{"$f":"+PRODUCT(D311:D333)","v":1.7402628715141026},{"$f":"+PRODUCT(D312:D333)","v":1.6902498843858758},{"$f":"+PRODUCT(D313:D333)","v":1.6416742082078686},{"$f":"+PRODUCT(D314:D333)","v":1.5944945364537919},{"$f":"+PRODUCT(D315:D333)","v":1.5486707496954675},{"$f":"+PRODUCT(D316:D333)","v":1.504163881487107},{"$f":"+PRODUCT(D317:D333)","v":1.460936085230035},{"$f":"+PRODUCT(D318:D333)","v":1.4189506019896774},{"$f":"+PRODUCT(D319:D333)","v":1.3781717292374498},{"$f":"+PRODUCT(D320:D333)","v":1.3385647904909661},{"$f":"+PRODUCT(D321:D333)","v":1.3000961058267482},{"$f":"+PRODUCT(D322:D333)","v":1.2627329632403643},{"$f":"+PRODUCT(D323:D333)","v":1.226443590829642},{"$f":"+PRODUCT(D324:D333)","v":1.1911971297772996},{"$f":"+PRODUCT(D325:D333)","v":1.1569636081100243},{"$f":"+PRODUCT(D326:D333)","v":1.1237139152116806},{"$f":"+PRODUCT(D327:D333)","v":1.0914197770689789},{"$f":"+PRODUCT(D328:D333)","v":1.060053732228551},{"$f":"+PRODUCT(D329:D333)","v":1.0295891084449909},{"$f":"+PRODUCT(D330:D333)","v":1},{"$f":"+PRODUCT(D331:D333)","v":1},{"$f":"+PRODUCT(D332:D333)","v":1},{"$f":"+PRODUCT(D333:D333)","v":1}]
[2050,{"$f":"+B301","v":0},0,1,26,32.550104967772747,null,1,{"$f":"+PRODUCT(D310:D334)","v":1.7917556983421246},{"$f":"+PRODUCT(D311:D334)","v":1.7402628715141026},{"$f":"+PRODUCT(D312:D334)","v":1.6902498843858758},{"$f":"+PRODUCT(D313:D334)","v":1.6416742082078686},{"$f":"+PRODUCT(D314:D334)","v":1.5944945364537919},{"$f":"+PRODUCT(D315:D334)","v":1.5486707496954675},{"$f":"+PRODUCT(D316:D334)","v":1.504163881487107},{"$f":"+PRODUCT(D317:D334)","v":1.460936085230035},{"$f":"+PRODUCT(D318:D334)","v":1.4189506019896774},{"$f":"+PRODUCT(D319:D334)","v":1.3781717292374498},{"$f":"+PRODUCT(D320:D334)","v":1.3385647904909661},{"$f":"+PRODUCT(D321:D334)","v":1.3000961058267482},{"$f":"+PRODUCT(D322:D334)","v":1.2627329632403643},{"$f":"+PRODUCT(D323:D334)","v":1.226443590829642},{"$f":"+PRODUCT(D324:D334)","v":1.1911971297772996},{"$f":"+PRODUCT(D325:D334)","v":1.1569636081100243},{"$f":"+PRODUCT(D326:D334)","v":1.1237139152116806},{"$f":"+PRODUCT(D327:D334)","v":1.0914197770689789},{"$f":"+PRODUCT(D328:D334)","v":1.060053732228551},{"$f":"+PRODUCT(D329:D334)","v":1.0295891084449909},{"$f":"+PRODUCT(D330:D334)","v":1},{"$f":"+PRODUCT(D331:D334)","v":1},{"$f":"+PRODUCT(D332:D334)","v":1},{"$f":"+PRODUCT(D333:D334)","v":1},{"$f":"+PRODUCT(D334:D334)","v":1}]
[2051,{"$f":"+B302","v":0},0,1,27,33.550104967772747,null,1,{"$f":"+PRODUCT(D310:D335)","v":1.7917556983421246},{"$f":"+PRODUCT(D311:D335)","v":1.7402628715141026},{"$f":"+PRODUCT(D312:D335)","v":1.6902498843858758},{"$f":"+PRODUCT(D313:D335)","v":1.6416742082078686},{"$f":"+PRODUCT(D314:D335)","v":1.5944945364537919},{"$f":"+PRODUCT(D315:D335)","v":1.5486707496954675},{"$f":"+PRODUCT(D316:D335)","v":1.504163881487107},{"$f":"+PRODUCT(D317:D335)","v":1.460936085230035},{"$f":"+PRODUCT(D318:D335)","v":1.4189506019896774},{"$f":"+PRODUCT(D319:D335)","v":1.3781717292374498},{"$f":"+PRODUCT(D320:D335)","v":1.3385647904909661},{"$f":"+PRODUCT(D321:D335)","v":1.3000961058267482},{"$f":"+PRODUCT(D322:D335)","v":1.2627329632403643},{"$f":"+PRODUCT(D323:D335)","v":1.226443590829642},{"$f":"+PRODUCT(D324:D335)","v":1.1911971297772996},{"$f":"+PRODUCT(D325:D335)","v":1.1569636081100243},{"$f":"+PRODUCT(D326:D335)","v":1.1237139152116806},{"$f":"+PRODUCT(D327:D335)","v":1.0914197770689789},{"$f":"+PRODUCT(D328:D335)","v":1.060053732228551},{"$f":"+PRODUCT(D329:D335)","v":1.0295891084449909},{"$f":"+PRODUCT(D330:D335)","v":1},{"$f":"+PRODUCT(D331:D335)","v":1},{"$f":"+PRODUCT(D332:D335)","v":1},{"$f":"+PRODUCT(D333:D335)","v":1},{"$f":"+PRODUCT(D334:D335)","v":1},{"$f":"+PRODUCT(D335:D335)","v":1}]
[2052,{"$f":"+B303","v":0},0,1,28,34.550104967772747,null,1,{"$f":"+PRODUCT(D310:D336)","v":1.7917556983421246},{"$f":"+PRODUCT(D311:D336)","v":1.7402628715141026},{"$f":"+PRODUCT(D312:D336)","v":1.6902498843858758},{"$f":"+PRODUCT(D313:D336)","v":1.6416742082078686},{"$f":"+PRODUCT(D314:D336)","v":1.5944945364537919},{"$f":"+PRODUCT(D315:D336)","v":1.5486707496954675},{"$f":"+PRODUCT(D316:D336)","v":1.504163881487107},{"$f":"+PRODUCT(D317:D336)","v":1.460936085230035},{"$f":"+PRODUCT(D318:D336)","v":1.4189506019896774},{"$f":"+PRODUCT(D319:D336)","v":1.3781717292374498},{"$f":"+PRODUCT(D320:D336)","v":1.3385647904909661},{"$f":"+PRODUCT(D321:D336)","v":1.3000961058267482},{"$f":"+PRODUCT(D322:D336)","v":1.2627329632403643},{"$f":"+PRODUCT(D323:D336)","v":1.226443590829642},{"$f":"+PRODUCT(D324:D336)","v":1.1911971297772996},{"$f":"+PRODUCT(D325:D336)","v":1.1569636081100243},{"$f":"+PRODUCT(D326:D336)","v":1.1237139152116806},{"$f":"+PRODUCT(D327:D336)","v":1.0914197770689789},{"$f":"+PRODUCT(D328:D336)","v":1.060053732228551},{"$f":"+PRODUCT(D329:D336)","v":1.0295891084449909},{"$f":"+PRODUCT(D330:D336)","v":1},{"$f":"+PRODUCT(D331:D336)","v":1},{"$f":"+PRODUCT(D332:D336)","v":1},{"$f":"+PRODUCT(D333:D336)","v":1},{"$f":"+PRODUCT(D334:D336)","v":1},{"$f":"+PRODUCT(D335:D336)","v":1},{"$f":"+PRODUCT(D336:D336)","v":1}]
[2053,{"$f":"+B304","v":0},0,1,29,35.550104967772747,null,1,{"$f":"+PRODUCT(D310:D337)","v":1.7917556983421246},{"$f":"+PRODUCT(D311:D337)","v":1.7402628715141026},{"$f":"+PRODUCT(D312:D337)","v":1.6902498843858758},{"$f":"+PRODUCT(D313:D337)","v":1.6416742082078686},{"$f":"+PRODUCT(D314:D337)","v":1.5944945364537919},{"$f":"+PRODUCT(D315:D337)","v":1.5486707496954675},{"$f":"+PRODUCT(D316:D337)","v":1.504163881487107},{"$f":"+PRODUCT(D317:D337)","v":1.460936085230035},{"$f":"+PRODUCT(D318:D337)","v":1.4189506019896774},{"$f":"+PRODUCT(D319:D337)","v":1.3781717292374498},{"$f":"+PRODUCT(D320:D337)","v":1.3385647904909661},{"$f":"+PRODUCT(D321:D337)","v":1.3000961058267482},{"$f":"+PRODUCT(D322:D337)","v":1.2627329632403643},{"$f":"+PRODUCT(D323:D337)","v":1.226443590829642},{"$f":"+PRODUCT(D324:D337)","v":1.1911971297772996},{"$f":"+PRODUCT(D325:D337)","v":1.1569636081100243},{"$f":"+PRODUCT(D326:D337)","v":1.1237139152116806},{"$f":"+PRODUCT(D327:D337)","v":1.0914197770689789},{"$f":"+PRODUCT(D328:D337)","v":1.060053732228551},{"$f":"+PRODUCT(D329:D337)","v":1.0295891084449909},{"$f":"+PRODUCT(D330:D337)","v":1},{"$f":"+PRODUCT(D331:D337)","v":1},{"$f":"+PRODUCT(D332:D337)","v":1},{"$f":"+PRODUCT(D333:D337)","v":1},{"$f":"+PRODUCT(D334:D337)","v":1},{"$f":"+PRODUCT(D335:D337)","v":1},{"$f":"+PRODUCT(D336:D337)","v":1},{"$f":"+PRODUCT(D337:D337)","v":1}]
[2054,{"$f":"+B305","v":0},0,1,30,36.550104967772747,null,1,{"$f":"+PRODUCT(D310:D338)","v":1.7917556983421246},{"$f":"+PRODUCT(D311:D338)","v":1.7402628715141026},{"$f":"+PRODUCT(D312:D338)","v":1.6902498843858758},{"$f":"+PRODUCT(D313:D338)","v":1.6416742082078686},{"$f":"+PRODUCT(D314:D338)","v":1.5944945364537919},{"$f":"+PRODUCT(D315:D338)","v":1.5486707496954675},{"$f":"+PRODUCT(D316:D338)","v":1.504163881487107},{"$f":"+PRODUCT(D317:D338)","v":1.460936085230035},{"$f":"+PRODUCT(D318:D338)","v":1.4189506019896774},{"$f":"+PRODUCT(D319:D338)","v":1.3781717292374498},{"$f":"+PRODUCT(D320:D338)","v":1.3385647904909661},{"$f":"+PRODUCT(D321:D338)","v":1.3000961058267482},{"$f":"+PRODUCT(D322:D338)","v":1.2627329632403643},{"$f":"+PRODUCT(D323:D338)","v":1.226443590829642},{"$f":"+PRODUCT(D324:D338)","v":1.1911971297772996},{"$f":"+PRODUCT(D325:D338)","v":1.1569636081100243},{"$f":"+PRODUCT(D326:D338)","v":1.1237139152116806},{"$f":"+PRODUCT(D327:D338)","v":1.0914197770689789},{"$f":"+PRODUCT(D328:D338)","v":1.060053732228551},{"$f":"+PRODUCT(D329:D338)","v":1.0295891084449909},{"$f":"+PRODUCT(D330:D338)","v":1},{"$f":"+PRODUCT(D331:D338)","v":1},{"$f":"+PRODUCT(D332:D338)","v":1},{"$f":"+PRODUCT(D333:D338)","v":1},{"$f":"+PRODUCT(D334:D338)","v":1},{"$f":"+PRODUCT(D335:D338)","v":1},{"$f":"+PRODUCT(D336:D338)","v":1},{"$f":"+PRODUCT(D337:D338)","v":1},{"$f":"+PRODUCT(D338:D338)","v":1}]
[]
[]
[" Fecha(Anual) ","r_t","c_y_t","1+r_t / 1+c_y_t","t","Multiplicatoria inversa",0,{"$f":"+G341+1","v":1},{"$f":"+H341+1","v":2},{"$f":"+I341+1","v":3},{"$f":"+J341+1","v":4},{"$f":"+K341+1","v":5},{"$f":"+L341+1","v":6},{"$f":"+M341+1","v":7},{"$f":"+N341+1","v":8},{"$f":"+O341+1","v":9},{"$f":"+P341+1","v":10},{"$f":"+Q341+1","v":11},{"$f":"+R341+1","v":12},{"$f":"+S341+1","v":13},{"$f":"+T341+1","v":14},{"$f":"+U341+1","v":15},{"$f":"+V341+1","v":16},{"$f":"+W341+1","v":17},{"$f":"+X341+1","v":18},{"$f":"+Y341+1","v":19},{"$f":"+Z341+1","v":20},{"$f":"+AA341+1","v":21},{"$f":"+AB341+1","v":22},{"$f":"+AC341+1","v":23},{"$f":"+AD341+1","v":24},{"$f":"+AE341+1","v":25},{"$f":"+AF341+1","v":26},{"$f":"+AG341+1","v":27},{"$f":"+AH341+1","v":28},{"$f":"+AI341+1","v":29},{"$f":"+AJ341+1","v":30}]
[{"$f":"+A309","v":2025},null,null,1,0]
[{"$f":"+A342+1","v":2026},{"$f":"+B310","v":6.1300452985096551E-2},{"$f":"+C310","v":3.0800000000000001E-2},{"$f":"(1+B343)/(1+C343)","v":1.0295891084449909},1,null,null,1]
[{"$f":"+A343+1","v":2027},{"$f":"+B311","v":6.1300452985096551E-2},3.0800000000000001E-2,{"$f":"(1+B344)/(1+C344)","v":1.0295891084449909},{"$f":"+E343+1","v":2},{"$f":"+SUM(I344:AK344)","v":1.0295891084449909},null,1,{"$f":"+PRODUCT(D344:D344)","v":1.0295891084449909}]
[2028,{"$f":"+B312","v":6.1300452985096551E-2},3.0800000000000001E-2,1.0295891084449909,{"$f":"+E344+1","v":3},{"$f":"+SUM(I345:AK345)","v":2.0896428406735419},null,1,{"$f":"+PRODUCT(D344:D345)","v":1.060053732228551},{"$f":"+PRODUCT(D345:D345)","v":1.0295891084449909}]
[2029,{"$f":"+B313","v":6.1300452985096551E-2},3.0800000000000001E-2,1.0295891084449909,4,3.1810626177425205,null,1,{"$f":"+PRODUCT(D344:D346)","v":1.0914197770689789},{"$f":"+PRODUCT(D345:D346)","v":1.060053732228551},{"$f":"+PRODUCT(D346:D346)","v":1.0295891084449909},{"$f":"+IF(L341>E346,\"\",1)","v":""}]
[2030,{"$f":"+B314","v":6.1300452985096551E-2},3.0800000000000001E-2,1.0295891084449909,5,4.3047765329542012,null,1,{"$f":"+PRODUCT(D344:D347)","v":1.1237139152116806},{"$f":"+PRODUCT(D345:D347)","v":1.0914197770689789},{"$f":"+PRODUCT(D346:D347)","v":1.060053732228551},{"$f":"+PRODUCT(D347:D347)","v":1.0295891084449909}]
[2031,{"$f":"+B315","v":6.1300452985096551E-2},3.0800000000000001E-2,1.0295891084449909,6,5.4617401410642259,null,1,{"$f":"+PRODUCT(D344:D348)","v":1.1569636081100243},{"$f":"+PRODUCT(D345:D348)","v":1.1237139152116806},{"$f":"+PRODUCT(D346:D348)","v":1.0914197770689789},{"$f":"+PRODUCT(D347:D348)","v":1.060053732228551},{"$f":"+PRODUCT(D348:D348)","v":1.0295891084449909}]
[2032,{"$f":"+B316","v":6.1300452985096551E-2},3.0800000000000001E-2,1.0295891084449909,7,6.6529372708415249,null,1,{"$f":"+PRODUCT(D344:D349)","v":1.1911971297772996},{"$f":"+PRODUCT(D345:D349)","v":1.1569636081100243},{"$f":"+PRODUCT(D346:D349)","v":1.1237139152116806},{"$f":"+PRODUCT(D347:D349)","v":1.0914197770689789},{"$f":"+PRODUCT(D348:D349)","v":1.060053732228551},{"$f":"+PRODUCT(D349:D349)","v":1.0295891084449909}]
[2033,{"$f":"+B317","v":6.1300452985096551E-2},3.0800000000000001E-2,1.0295891084449909,8,7.8793808616711676,null,1,{"$f":"+PRODUCT(D344:D350)","v":1.226443590829642},{"$f":"+PRODUCT(D345:D350)","v":1.1911971297772996},{"$f":"+PRODUCT(D346:D350)","v":1.1569636081100243},{"$f":"+PRODUCT(D347:D350)","v":1.1237139152116806},{"$f":"+PRODUCT(D348:D350)","v":1.0914197770689789},{"$f":"+PRODUCT(D349:D350)","v":1.060053732228551},{"$f":"+PRODUCT(D350:D350)","v":1.0295891084449909}]
[2034,{"$f":"+B318","v":6.1300452985096551E-2},3.0800000000000001E-2,1.0295891084449909,9,9.142113824911533,null,1,{"$f":"+PRODUCT(D344:D351)","v":1.2627329632403643},{"$f":"+PRODUCT(D345:D351)","v":1.226443590829642},{"$f":"+PRODUCT(D346:D351)","v":1.1911971297772996},{"$f":"+PRODUCT(D347:D351)","v":1.1569636081100243},{"$f":"+PRODUCT(D348:D351)","v":1.1237139152116806},{"$f":"+PRODUCT(D349:D351)","v":1.0914197770689789},{"$f":"+PRODUCT(D350:D351)","v":1.060053732228551},{"$f":"+PRODUCT(D351:D351)","v":1.0295891084449909}]
[2035,{"$f":"+B319","v":6.1300452985096551E-2},3.0800000000000001E-2,1.0295891084449909,10,10.442209930738281,null,1,{"$f":"+PRODUCT(D344:D352)","v":1.3000961058267482},{"$f":"+PRODUCT(D345:D352)","v":1.2627329632403643},{"$f":"+PRODUCT(D346:D352)","v":1.226443590829642},{"$f":"+PRODUCT(D347:D352)","v":1.1911971297772996},{"$f":"+PRODUCT(D348:D352)","v":1.1569636081100243},{"$f":"+PRODUCT(D349:D352)","v":1.1237139152116806},{"$f":"+PRODUCT(D350:D352)","v":1.0914197770689789},{"$f":"+PRODUCT(D351:D352)","v":1.060053732228551},{"$f":"+PRODUCT(D352:D352)","v":1.0295891084449909}]
[2036,{"$f":"+B320","v":6.1300452985096551E-2},3.0800000000000001E-2,1.0295891084449909,11,11.780774721229246,null,1,{"$f":"+PRODUCT(D344:D353)","v":1.3385647904909661},{"$f":"+PRODUCT(D345:D353)","v":1.3000961058267482},{"$f":"+PRODUCT(D346:D353)","v":1.2627329632403643},{"$f":"+PRODUCT(D347:D353)","v":1.226443590829642},{"$f":"+PRODUCT(D348:D353)","v":1.1911971297772996},{"$f":"+PRODUCT(D349:D353)","v":1.1569636081100243},{"$f":"+PRODUCT(D350:D353)","v":1.1237139152116806},{"$f":"+PRODUCT(D351:D353)","v":1.0914197770689789},{"$f":"+PRODUCT(D352:D353)","v":1.060053732228551},{"$f":"+PRODUCT(D353:D353)","v":1.0295891084449909}]
[2037,{"$f":"+B321","v":6.1300452985096551E-2},3.0800000000000001E-2,1.0295891084449909,12,13.158946450466697,null,1,{"$f":"+PRODUCT(D344:D354)","v":1.3781717292374498},{"$f":"+PRODUCT(D345:D354)","v":1.3385647904909661},{"$f":"+PRODUCT(D346:D354)","v":1.3000961058267482},{"$f":"+PRODUCT(D347:D354)","v":1.2627329632403643},{"$f":"+PRODUCT(D348:D354)","v":1.226443590829642},{"$f":"+PRODUCT(D349:D354)","v":1.1911971297772996},{"$f":"+PRODUCT(D350:D354)","v":1.1569636081100243},{"$f":"+PRODUCT(D351:D354)","v":1.1237139152116806},{"$f":"+PRODUCT(D352:D354)","v":1.0914197770689789},{"$f":"+PRODUCT(D353:D354)","v":1.060053732228551},{"$f":"+PRODUCT(D354:D354)","v":1.0295891084449909}]
[2038,{"$f":"+B322","v":6.1300452985096551E-2},3.0800000000000001E-2,1.0295891084449909,13,14.577897052456374,null,1,{"$f":"+PRODUCT(D344:D355)","v":1.4189506019896774},{"$f":"+PRODUCT(D345:D355)","v":1.3781717292374498},{"$f":"+PRODUCT(D346:D355)","v":1.3385647904909661},{"$f":"+PRODUCT(D347:D355)","v":1.3000961058267482},{"$f":"+PRODUCT(D348:D355)","v":1.2627329632403643},{"$f":"+PRODUCT(D349:D355)","v":1.226443590829642},{"$f":"+PRODUCT(D350:D355)","v":1.1911971297772996},{"$f":"+PRODUCT(D351:D355)","v":1.1569636081100243},{"$f":"+PRODUCT(D352:D355)","v":1.1237139152116806},{"$f":"+PRODUCT(D353:D355)","v":1.0914197770689789},{"$f":"+PRODUCT(D354:D355)","v":1.060053732228551},{"$f":"+PRODUCT(D355:D355)","v":1.0295891084449909}]
[2039,{"$f":"+B323","v":6.1300452985096551E-2},3.0800000000000001E-2,1.0295891084449909,14,16.038833137686407,null,1,{"$f":"+PRODUCT(D344:D356)","v":1.460936085230035},{"$f":"+PRODUCT(D345:D356)","v":1.4189506019896774},{"$f":"+PRODUCT(D346:D356)","v":1.3781717292374498},{"$f":"+PRODUCT(D347:D356)","v":1.3385647904909661},{"$f":"+PRODUCT(D348:D356)","v":1.3000961058267482},{"$f":"+PRODUCT(D349:D356)","v":1.2627329632403643},{"$f":"+PRODUCT(D350:D356)","v":1.226443590829642},{"$f":"+PRODUCT(D351:D356)","v":1.1911971297772996},{"$f":"+PRODUCT(D352:D356)","v":1.1569636081100243},{"$f":"+PRODUCT(D353:D356)","v":1.1237139152116806},{"$f":"+PRODUCT(D354:D356)","v":1.0914197770689789},{"$f":"+PRODUCT(D355:D356)","v":1.060053732228551},{"$f":"+PRODUCT(D356:D356)","v":1.0295891084449909}]
[2040,{"$f":"+B324","v":6.1300452985096551E-2},3.0800000000000001E-2,1.0295891084449909,15,17.542997019173512,null,1,{"$f":"+PRODUCT(D344:D357)","v":1.504163881487107},{"$f":"+PRODUCT(D345:D357)","v":1.460936085230035},{"$f":"+PRODUCT(D346:D357)","v":1.4189506019896774},{"$f":"+PRODUCT(D347:D357)","v":1.3781717292374498},{"$f":"+PRODUCT(D348:D357)","v":1.3385647904909661},{"$f":"+PRODUCT(D349:D357)","v":1.3000961058267482},{"$f":"+PRODUCT(D350:D357)","v":1.2627329632403643},{"$f":"+PRODUCT(D351:D357)","v":1.226443590829642},{"$f":"+PRODUCT(D352:D357)","v":1.1911971297772996},{"$f":"+PRODUCT(D353:D357)","v":1.1569636081100243},{"$f":"+PRODUCT(D354:D357)","v":1.1237139152116806},{"$f":"+PRODUCT(D355:D357)","v":1.0914197770689789},{"$f":"+PRODUCT(D356:D357)","v":1.060053732228551},{"$f":"+PRODUCT(D357:D357)","v":1.0295891084449909}]
[2041,{"$f":"+B325","v":6.1300452985096551E-2},3.0800000000000001E-2,1.0295891084449909,16,19.09166776886898,null,1,{"$f":"+PRODUCT(D344:D358)","v":1.5486707496954675},{"$f":"+PRODUCT(D345:D358)","v":1.504163881487107},{"$f":"+PRODUCT(D346:D358)","v":1.460936085230035},{"$f":"+PRODUCT(D347:D358)","v":1.4189506019896774},{"$f":"+PRODUCT(D348:D358)","v":1.3781717292374498},{"$f":"+PRODUCT(D349:D358)","v":1.3385647904909661},{"$f":"+PRODUCT(D350:D358)","v":1.3000961058267482},{"$f":"+PRODUCT(D351:D358)","v":1.2627329632403643},{"$f":"+PRODUCT(D352:D358)","v":1.226443590829642},{"$f":"+PRODUCT(D353:D358)","v":1.1911971297772996},{"$f":"+PRODUCT(D354:D358)","v":1.1569636081100243},{"$f":"+PRODUCT(D355:D358)","v":1.1237139152116806},{"$f":"+PRODUCT(D356:D358)","v":1.0914197770689789},{"$f":"+PRODUCT(D357:D358)","v":1.060053732228551},{"$f":"+PRODUCT(D358:D358)","v":1.0295891084449909}]
[2042,{"$f":"+B326","v":6.1300452985096551E-2},3.0800000000000001E-2,1.0295891084449909,17,20.686162305322775,null,1,{"$f":"+PRODUCT(D344:D359)","v":1.5944945364537919},{"$f":"+PRODUCT(D345:D359)","v":1.5486707496954675},{"$f":"+PRODUCT(D346:D359)","v":1.504163881487107},{"$f":"+PRODUCT(D347:D359)","v":1.460936085230035},{"$f":"+PRODUCT(D348:D359)","v":1.4189506019896774},{"$f":"+PRODUCT(D349:D359)","v":1.3781717292374498},{"$f":"+PRODUCT(D350:D359)","v":1.3385647904909661},{"$f":"+PRODUCT(D351:D359)","v":1.3000961058267482},{"$f":"+PRODUCT(D352:D359)","v":1.2627329632403643},{"$f":"+PRODUCT(D353:D359)","v":1.226443590829642},{"$f":"+PRODUCT(D354:D359)","v":1.1911971297772996},{"$f":"+PRODUCT(D355:D359)","v":1.1569636081100243},{"$f":"+PRODUCT(D356:D359)","v":1.1237139152116806},{"$f":"+PRODUCT(D357:D359)","v":1.0914197770689789},{"$f":"+PRODUCT(D358:D359)","v":1.060053732228551},{"$f":"+PRODUCT(D359:D359)","v":1.0295891084449909}]
[2043,{"$f":"+B327","v":6.1300452985096551E-2},3.0800000000000001E-2,1.0295891084449909,18,22.327836513530645,null,1,{"$f":"+PRODUCT(D344:D360)","v":1.6416742082078686},{"$f":"+PRODUCT(D345:D360)","v":1.5944945364537919},{"$f":"+PRODUCT(D346:D360)","v":1.5486707496954675},{"$f":"+PRODUCT(D347:D360)","v":1.504163881487107},{"$f":"+PRODUCT(D348:D360)","v":1.460936085230035},{"$f":"+PRODUCT(D349:D360)","v":1.4189506019896774},{"$f":"+PRODUCT(D350:D360)","v":1.3781717292374498},{"$f":"+PRODUCT(D351:D360)","v":1.3385647904909661},{"$f":"+PRODUCT(D352:D360)","v":1.3000961058267482},{"$f":"+PRODUCT(D353:D360)","v":1.2627329632403643},{"$f":"+PRODUCT(D354:D360)","v":1.226443590829642},{"$f":"+PRODUCT(D355:D360)","v":1.1911971297772996},{"$f":"+PRODUCT(D356:D360)","v":1.1569636081100243},{"$f":"+PRODUCT(D357:D360)","v":1.1237139152116806},{"$f":"+PRODUCT(D358:D360)","v":1.0914197770689789},{"$f":"+PRODUCT(D359:D360)","v":1.060053732228551},{"$f":"+PRODUCT(D360:D360)","v":1.0295891084449909}]
[2044,{"$f":"+B328","v":6.1300452985096551E-2},3.0800000000000001E-2,1.0295891084449909,19,24.01808639791652,null,1,{"$f":"+PRODUCT(D344:D361)","v":1.6902498843858758},{"$f":"+PRODUCT(D345:D361)","v":1.6416742082078686},{"$f":"+PRODUCT(D346:D361)","v":1.5944945364537919},{"$f":"+PRODUCT(D347:D361)","v":1.5486707496954675},{"$f":"+PRODUCT(D348:D361)","v":1.504163881487107},{"$f":"+PRODUCT(D349:D361)","v":1.460936085230035},{"$f":"+PRODUCT(D350:D361)","v":1.4189506019896774},{"$f":"+PRODUCT(D351:D361)","v":1.3781717292374498},{"$f":"+PRODUCT(D352:D361)","v":1.3385647904909661},{"$f":"+PRODUCT(D353:D361)","v":1.3000961058267482},{"$f":"+PRODUCT(D354:D361)","v":1.2627329632403643},{"$f":"+PRODUCT(D355:D361)","v":1.226443590829642},{"$f":"+PRODUCT(D356:D361)","v":1.1911971297772996},{"$f":"+PRODUCT(D357:D361)","v":1.1569636081100243},{"$f":"+PRODUCT(D358:D361)","v":1.1237139152116806},{"$f":"+PRODUCT(D359:D361)","v":1.0914197770689789},{"$f":"+PRODUCT(D360:D361)","v":1.060053732228551},{"$f":"+PRODUCT(D361:D361)","v":1.0295891084449909}]
[2045,{"$f":"+B329","v":6.1300452985096551E-2},3.0800000000000001E-2,1.0295891084449909,20,25.758349269430624,null,1,{"$f":"+PRODUCT(D344:D362)","v":1.7402628715141026},{"$f":"+PRODUCT(D345:D362)","v":1.6902498843858758},{"$f":"+PRODUCT(D346:D362)","v":1.6416742082078686},{"$f":"+PRODUCT(D347:D362)","v":1.5944945364537919},{"$f":"+PRODUCT(D348:D362)","v":1.5486707496954675},{"$f":"+PRODUCT(D349:D362)","v":1.504163881487107},{"$f":"+PRODUCT(D350:D362)","v":1.460936085230035},{"$f":"+PRODUCT(D351:D362)","v":1.4189506019896774},{"$f":"+PRODUCT(D352:D362)","v":1.3781717292374498},{"$f":"+PRODUCT(D353:D362)","v":1.3385647904909661},{"$f":"+PRODUCT(D354:D362)","v":1.3000961058267482},{"$f":"+PRODUCT(D355:D362)","v":1.2627329632403643},{"$f":"+PRODUCT(D356:D362)","v":1.226443590829642},{"$f":"+PRODUCT(D357:D362)","v":1.1911971297772996},{"$f":"+PRODUCT(D358:D362)","v":1.1569636081100243},{"$f":"+PRODUCT(D359:D362)","v":1.1237139152116806},{"$f":"+PRODUCT(D360:D362)","v":1.0914197770689789},{"$f":"+PRODUCT(D361:D362)","v":1.060053732228551},{"$f":"+PRODUCT(D362:D362)","v":1.0295891084449909}]
[2046,{"$f":"+B330","v":0},0,1,21,26.758349269430624,null,1,{"$f":"+PRODUCT(D344:D363)","v":1.7402628715141026},{"$f":"+PRODUCT(D345:D363)","v":1.6902498843858758},{"$f":"+PRODUCT(D346:D363)","v":1.6416742082078686},{"$f":"+PRODUCT(D347:D363)","v":1.5944945364537919},{"$f":"+PRODUCT(D348:D363)","v":1.5486707496954675},{"$f":"+PRODUCT(D349:D363)","v":1.504163881487107},{"$f":"+PRODUCT(D350:D363)","v":1.460936085230035},{"$f":"+PRODUCT(D351:D363)","v":1.4189506019896774},{"$f":"+PRODUCT(D352:D363)","v":1.3781717292374498},{"$f":"+PRODUCT(D353:D363)","v":1.3385647904909661},{"$f":"+PRODUCT(D354:D363)","v":1.3000961058267482},{"$f":"+PRODUCT(D355:D363)","v":1.2627329632403643},{"$f":"+PRODUCT(D356:D363)","v":1.226443590829642},{"$f":"+PRODUCT(D357:D363)","v":1.1911971297772996},{"$f":"+PRODUCT(D358:D363)","v":1.1569636081100243},{"$f":"+PRODUCT(D359:D363)","v":1.1237139152116806},{"$f":"+PRODUCT(D360:D363)","v":1.0914197770689789},{"$f":"+PRODUCT(D361:D363)","v":1.060053732228551},{"$f":"+PRODUCT(D362:D363)","v":1.0295891084449909},{"$f":"+PRODUCT(D363:D363)","v":1}]
[2047,{"$f":"+B331","v":0},0,1,22,27.758349269430624,null,1,{"$f":"+PRODUCT(D344:D364)","v":1.7402628715141026},{"$f":"+PRODUCT(D345:D364)","v":1.6902498843858758},{"$f":"+PRODUCT(D346:D364)","v":1.6416742082078686},{"$f":"+PRODUCT(D347:D364)","v":1.5944945364537919},{"$f":"+PRODUCT(D348:D364)","v":1.5486707496954675},{"$f":"+PRODUCT(D349:D364)","v":1.504163881487107},{"$f":"+PRODUCT(D350:D364)","v":1.460936085230035},{"$f":"+PRODUCT(D351:D364)","v":1.4189506019896774},{"$f":"+PRODUCT(D352:D364)","v":1.3781717292374498},{"$f":"+PRODUCT(D353:D364)","v":1.3385647904909661},{"$f":"+PRODUCT(D354:D364)","v":1.3000961058267482},{"$f":"+PRODUCT(D355:D364)","v":1.2627329632403643},{"$f":"+PRODUCT(D356:D364)","v":1.226443590829642},{"$f":"+PRODUCT(D357:D364)","v":1.1911971297772996},{"$f":"+PRODUCT(D358:D364)","v":1.1569636081100243},{"$f":"+PRODUCT(D359:D364)","v":1.1237139152116806},{"$f":"+PRODUCT(D360:D364)","v":1.0914197770689789},{"$f":"+PRODUCT(D361:D364)","v":1.060053732228551},{"$f":"+PRODUCT(D362:D364)","v":1.0295891084449909},{"$f":"+PRODUCT(D363:D364)","v":1},{"$f":"+PRODUCT(D364:D364)","v":1}]
[2048,{"$f":"+B332","v":0},0,1,23,28.758349269430624,null,1,{"$f":"+PRODUCT(D344:D365)","v":1.7402628715141026},{"$f":"+PRODUCT(D345:D365)","v":1.6902498843858758},{"$f":"+PRODUCT(D346:D365)","v":1.6416742082078686},{"$f":"+PRODUCT(D347:D365)","v":1.5944945364537919},{"$f":"+PRODUCT(D348:D365)","v":1.5486707496954675},{"$f":"+PRODUCT(D349:D365)","v":1.504163881487107},{"$f":"+PRODUCT(D350:D365)","v":1.460936085230035},{"$f":"+PRODUCT(D351:D365)","v":1.4189506019896774},{"$f":"+PRODUCT(D352:D365)","v":1.3781717292374498},{"$f":"+PRODUCT(D353:D365)","v":1.3385647904909661},{"$f":"+PRODUCT(D354:D365)","v":1.3000961058267482},{"$f":"+PRODUCT(D355:D365)","v":1.2627329632403643},{"$f":"+PRODUCT(D356:D365)","v":1.226443590829642},{"$f":"+PRODUCT(D357:D365)","v":1.1911971297772996},{"$f":"+PRODUCT(D358:D365)","v":1.1569636081100243},{"$f":"+PRODUCT(D359:D365)","v":1.1237139152116806},{"$f":"+PRODUCT(D360:D365)","v":1.0914197770689789},{"$f":"+PRODUCT(D361:D365)","v":1.060053732228551},{"$f":"+PRODUCT(D362:D365)","v":1.0295891084449909},{"$f":"+PRODUCT(D363:D365)","v":1},{"$f":"+PRODUCT(D364:D365)","v":1},{"$f":"+PRODUCT(D365:D365)","v":1}]
[2049,{"$f":"+B333","v":0},0,1,24,29.758349269430624,null,1,{"$f":"+PRODUCT(D344:D366)","v":1.7402628715141026},{"$f":"+PRODUCT(D345:D366)","v":1.6902498843858758},{"$f":"+PRODUCT(D346:D366)","v":1.6416742082078686},{"$f":"+PRODUCT(D347:D366)","v":1.5944945364537919},{"$f":"+PRODUCT(D348:D366)","v":1.5486707496954675},{"$f":"+PRODUCT(D349:D366)","v":1.504163881487107},{"$f":"+PRODUCT(D350:D366)","v":1.460936085230035},{"$f":"+PRODUCT(D351:D366)","v":1.4189506019896774},{"$f":"+PRODUCT(D352:D366)","v":1.3781717292374498},{"$f":"+PRODUCT(D353:D366)","v":1.3385647904909661},{"$f":"+PRODUCT(D354:D366)","v":1.3000961058267482},{"$f":"+PRODUCT(D355:D366)","v":1.2627329632403643},{"$f":"+PRODUCT(D356:D366)","v":1.226443590829642},{"$f":"+PRODUCT(D357:D366)","v":1.1911971297772996},{"$f":"+PRODUCT(D358:D366)","v":1.1569636081100243},{"$f":"+PRODUCT(D359:D366)","v":1.1237139152116806},{"$f":"+PRODUCT(D360:D366)","v":1.0914197770689789},{"$f":"+PRODUCT(D361:D366)","v":1.060053732228551},{"$f":"+PRODUCT(D362:D366)","v":1.0295891084449909},{"$f":"+PRODUCT(D363:D366)","v":1},{"$f":"+PRODUCT(D364:D366)","v":1},{"$f":"+PRODUCT(D365:D366)","v":1},{"$f":"+PRODUCT(D366:D366)","v":1}]
[2050,{"$f":"+B334","v":0},0,1,25,30.758349269430624,null,1,{"$f":"+PRODUCT(D344:D367)","v":1.7402628715141026},{"$f":"+PRODUCT(D345:D367)","v":1.6902498843858758},{"$f":"+PRODUCT(D346:D367)","v":1.6416742082078686},{"$f":"+PRODUCT(D347:D367)","v":1.5944945364537919},{"$f":"+PRODUCT(D348:D367)","v":1.5486707496954675},{"$f":"+PRODUCT(D349:D367)","v":1.504163881487107},{"$f":"+PRODUCT(D350:D367)","v":1.460936085230035},{"$f":"+PRODUCT(D351:D367)","v":1.4189506019896774},{"$f":"+PRODUCT(D352:D367)","v":1.3781717292374498},{"$f":"+PRODUCT(D353:D367)","v":1.3385647904909661},{"$f":"+PRODUCT(D354:D367)","v":1.3000961058267482},{"$f":"+PRODUCT(D355:D367)","v":1.2627329632403643},{"$f":"+PRODUCT(D356:D367)","v":1.226443590829642},{"$f":"+PRODUCT(D357:D367)","v":1.1911971297772996},{"$f":"+PRODUCT(D358:D367)","v":1.1569636081100243},{"$f":"+PRODUCT(D359:D367)","v":1.1237139152116806},{"$f":"+PRODUCT(D360:D367)","v":1.0914197770689789},{"$f":"+PRODUCT(D361:D367)","v":1.060053732228551},{"$f":"+PRODUCT(D362:D367)","v":1.0295891084449909},{"$f":"+PRODUCT(D363:D367)","v":1},{"$f":"+PRODUCT(D364:D367)","v":1},{"$f":"+PRODUCT(D365:D367)","v":1},{"$f":"+PRODUCT(D366:D367)","v":1},{"$f":"+PRODUCT(D367:D367)","v":1}]
[2051,{"$f":"+B335","v":0},0,1,26,31.758349269430624,null,1,{"$f":"+PRODUCT(D344:D368)","v":1.7402628715141026},{"$f":"+PRODUCT(D345:D368)","v":1.6902498843858758},{"$f":"+PRODUCT(D346:D368)","v":1.6416742082078686},{"$f":"+PRODUCT(D347:D368)","v":1.5944945364537919},{"$f":"+PRODUCT(D348:D368)","v":1.5486707496954675},{"$f":"+PRODUCT(D349:D368)","v":1.504163881487107},{"$f":"+PRODUCT(D350:D368)","v":1.460936085230035},{"$f":"+PRODUCT(D351:D368)","v":1.4189506019896774},{"$f":"+PRODUCT(D352:D368)","v":1.3781717292374498},{"$f":"+PRODUCT(D353:D368)","v":1.3385647904909661},{"$f":"+PRODUCT(D354:D368)","v":1.3000961058267482},{"$f":"+PRODUCT(D355:D368)","v":1.2627329632403643},{"$f":"+PRODUCT(D356:D368)","v":1.226443590829642},{"$f":"+PRODUCT(D357:D368)","v":1.1911971297772996},{"$f":"+PRODUCT(D358:D368)","v":1.1569636081100243},{"$f":"+PRODUCT(D359:D368)","v":1.1237139152116806},{"$f":"+PRODUCT(D360:D368)","v":1.0914197770689789},{"$f":"+PRODUCT(D361:D368)","v":1.060053732228551},{"$f":"+PRODUCT(D362:D368)","v":1.0295891084449909},{"$f":"+PRODUCT(D363:D368)","v":1},{"$f":"+PRODUCT(D364:D368)","v":1},{"$f":"+PRODUCT(D365:D368)","v":1},{"$f":"+PRODUCT(D366:D368)","v":1},{"$f":"+PRODUCT(D367:D368)","v":1},{"$f":"+PRODUCT(D368:D368)","v":1}]
[2052,{"$f":"+B336","v":0},0,1,27,32.758349269430624,null,1,{"$f":"+PRODUCT(D344:D369)","v":1.7402628715141026},{"$f":"+PRODUCT(D345:D369)","v":1.6902498843858758},{"$f":"+PRODUCT(D346:D369)","v":1.6416742082078686},{"$f":"+PRODUCT(D347:D369)","v":1.5944945364537919},{"$f":"+PRODUCT(D348:D369)","v":1.5486707496954675},{"$f":"+PRODUCT(D349:D369)","v":1.504163881487107},{"$f":"+PRODUCT(D350:D369)","v":1.460936085230035},{"$f":"+PRODUCT(D351:D369)","v":1.4189506019896774},{"$f":"+PRODUCT(D352:D369)","v":1.3781717292374498},{"$f":"+PRODUCT(D353:D369)","v":1.3385647904909661},{"$f":"+PRODUCT(D354:D369)","v":1.3000961058267482},{"$f":"+PRODUCT(D355:D369)","v":1.2627329632403643},{"$f":"+PRODUCT(D356:D369)","v":1.226443590829642},{"$f":"+PRODUCT(D357:D369)","v":1.1911971297772996},{"$f":"+PRODUCT(D358:D369)","v":1.1569636081100243},{"$f":"+PRODUCT(D359:D369)","v":1.1237139152116806},{"$f":"+PRODUCT(D360:D369)","v":1.0914197770689789},{"$f":"+PRODUCT(D361:D369)","v":1.060053732228551},{"$f":"+PRODUCT(D362:D369)","v":1.0295891084449909},{"$f":"+PRODUCT(D363:D369)","v":1},{"$f":"+PRODUCT(D364:D369)","v":1},{"$f":"+PRODUCT(D365:D369)","v":1},{"$f":"+PRODUCT(D366:D369)","v":1},{"$f":"+PRODUCT(D367:D369)","v":1},{"$f":"+PRODUCT(D368:D369)","v":1},{"$f":"+PRODUCT(D369:D369)","v":1}]
[2053,{"$f":"+B337","v":0},0,1,28,33.758349269430624,null,1,{"$f":"+PRODUCT(D344:D370)","v":1.7402628715141026},{"$f":"+PRODUCT(D345:D370)","v":1.6902498843858758},{"$f":"+PRODUCT(D346:D370)","v":1.6416742082078686},{"$f":"+PRODUCT(D347:D370)","v":1.5944945364537919},{"$f":"+PRODUCT(D348:D370)","v":1.5486707496954675},{"$f":"+PRODUCT(D349:D370)","v":1.504163881487107},{"$f":"+PRODUCT(D350:D370)","v":1.460936085230035},{"$f":"+PRODUCT(D351:D370)","v":1.4189506019896774},{"$f":"+PRODUCT(D352:D370)","v":1.3781717292374498},{"$f":"+PRODUCT(D353:D370)","v":1.3385647904909661},{"$f":"+PRODUCT(D354:D370)","v":1.3000961058267482},{"$f":"+PRODUCT(D355:D370)","v":1.2627329632403643},{"$f":"+PRODUCT(D356:D370)","v":1.226443590829642},{"$f":"+PRODUCT(D357:D370)","v":1.1911971297772996},{"$f":"+PRODUCT(D358:D370)","v":1.1569636081100243},{"$f":"+PRODUCT(D359:D370)","v":1.1237139152116806},{"$f":"+PRODUCT(D360:D370)","v":1.0914197770689789},{"$f":"+PRODUCT(D361:D370)","v":1.060053732228551},{"$f":"+PRODUCT(D362:D370)","v":1.0295891084449909},{"$f":"+PRODUCT(D363:D370)","v":1},{"$f":"+PRODUCT(D364:D370)","v":1},{"$f":"+PRODUCT(D365:D370)","v":1},{"$f":"+PRODUCT(D366:D370)","v":1},{"$f":"+PRODUCT(D367:D370)","v":1},{"$f":"+PRODUCT(D368:D370)","v":1},{"$f":"+PRODUCT(D369:D370)","v":1},{"$f":"+PRODUCT(D370:D370)","v":1}]
[2054,{"$f":"+B338","v":0},0,1,29,34.758349269430624,null,1,{"$f":"+PRODUCT(D344:D371)","v":1.7402628715141026},{"$f":"+PRODUCT(D345:D371)","v":1.6902498843858758},{"$f":"+PRODUCT(D346:D371)","v":1.6416742082078686},{"$f":"+PRODUCT(D347:D371)","v":1.5944945364537919},{"$f":"+PRODUCT(D348:D371)","v":1.5486707496954675},{"$f":"+PRODUCT(D349:D371)","v":1.504163881487107},{"$f":"+PRODUCT(D350:D371)","v":1.460936085230035},{"$f":"+PRODUCT(D351:D371)","v":1.4189506019896774},{"$f":"+PRODUCT(D352:D371)","v":1.3781717292374498},{"$f":"+PRODUCT(D353:D371)","v":1.3385647904909661},{"$f":"+PRODUCT(D354:D371)","v":1.3000961058267482},{"$f":"+PRODUCT(D355:D371)","v":1.2627329632403643},{"$f":"+PRODUCT(D356:D371)","v":1.226443590829642},{"$f":"+PRODUCT(D357:D371)","v":1.1911971297772996},{"$f":"+PRODUCT(D358:D371)","v":1.1569636081100243},{"$f":"+PRODUCT(D359:D371)","v":1.1237139152116806},{"$f":"+PRODUCT(D360:D371)","v":1.0914197770689789},{"$f":"+PRODUCT(D361:D371)","v":1.060053732228551},{"$f":"+PRODUCT(D362:D371)","v":1.0295891084449909},{"$f":"+PRODUCT(D363:D371)","v":1},{"$f":"+PRODUCT(D364:D371)","v":1},{"$f":"+PRODUCT(D365:D371)","v":1},{"$f":"+PRODUCT(D366:D371)","v":1},{"$f":"+PRODUCT(D367:D371)","v":1},{"$f":"+PRODUCT(D368:D371)","v":1},{"$f":"+PRODUCT(D369:D371)","v":1},{"$f":"+PRODUCT(D370:D371)","v":1},{"$f":"+PRODUCT(D371:D371)","v":1}]
[2055,{"$f":"+B339","v":0},0,1,30,35.758349269430624,null,1,{"$f":"+PRODUCT(D344:D372)","v":1.7402628715141026},{"$f":"+PRODUCT(D345:D372)","v":1.6902498843858758},{"$f":"+PRODUCT(D346:D372)","v":1.6416742082078686},{"$f":"+PRODUCT(D347:D372)","v":1.5944945364537919},{"$f":"+PRODUCT(D348:D372)","v":1.5486707496954675},{"$f":"+PRODUCT(D349:D372)","v":1.504163881487107},{"$f":"+PRODUCT(D350:D372)","v":1.460936085230035},{"$f":"+PRODUCT(D351:D372)","v":1.4189506019896774},{"$f":"+PRODUCT(D352:D372)","v":1.3781717292374498},{"$f":"+PRODUCT(D353:D372)","v":1.3385647904909661},{"$f":"+PRODUCT(D354:D372)","v":1.3000961058267482},{"$f":"+PRODUCT(D355:D372)","v":1.2627329632403643},{"$f":"+PRODUCT(D356:D372)","v":1.226443590829642},{"$f":"+PRODUCT(D357:D372)","v":1.1911971297772996},{"$f":"+PRODUCT(D358:D372)","v":1.1569636081100243},{"$f":"+PRODUCT(D359:D372)","v":1.1237139152116806},{"$f":"+PRODUCT(D360:D372)","v":1.0914197770689789},{"$f":"+PRODUCT(D361:D372)","v":1.060053732228551},{"$f":"+PRODUCT(D362:D372)","v":1.0295891084449909},{"$f":"+PRODUCT(D363:D372)","v":1},{"$f":"+PRODUCT(D364:D372)","v":1},{"$f":"+PRODUCT(D365:D372)","v":1},{"$f":"+PRODUCT(D366:D372)","v":1},{"$f":"+PRODUCT(D367:D372)","v":1},{"$f":"+PRODUCT(D368:D372)","v":1},{"$f":"+PRODUCT(D369:D372)","v":1},{"$f":"+PRODUCT(D370:D372)","v":1},{"$f":"+PRODUCT(D371:D372)","v":1},{"$f":"+PRODUCT(D372:D372)","v":1}]